{"text_format":"1","workbook":"xlsx","n_sheets":2,"sheets":["DATOS_ICTS","MAESTROS"],"not_rendered":{"charts":0,"images":0,"macros":1,"external_links":0,"defined_names":2,"comments":0,"pivot_tables":0},"unopened":[],"bounds":{"document_bytes":16777216,"sheet_cells":100000,"rows_first":2000,"rows_last":500,"rows_between":2000,"halvings":0,"cell_chars":16384,"cell_head_chars":4096},"cells_cut":0,"cells_raw":0,"read":"whole","date_system":"1900"}

{"sheet":"DATOS_ICTS","index":0,"n_rows":2185,"n_cols":11,"rows_kept":2185,"cut":false,"hidden":false,"merged":[]}
["ID_TIPO_PUBLICACION","ID_TIPO_ACCESO","TITULO","AUTORES","DOI_URL","DESCRIPCION","ANO_PUBLICACION","TIPO_PUBLICACION","TIPO_ACCESO","PROYECTO","CODIGO_ACCESO"]
[null,null,"Título de la publicación","Autores/as de la publicación. Se ha puesto el IP que figura en del proyecto para identificarlo","Cuando sea posible, y en otro caso una dirección web que apunte a la publicación o resultado en cuestión","Cualquier texto (3000 caracteres) necesario para identificar el trabajo, como la cita completa",null,"Elegir del desplegable","Ya está completo","Ya está completo","Ya está completo"]
[{"$f":"IF(#REF!=\"\",\"\",VLOOKUP(#REF!,MAESTROS!N$2:O$2000,2,FALSE))","v":{"$error":"#REF!"}},{"$f":"IF(#REF!=\"\",\"\",VLOOKUP(#REF!,MAESTROS!P$2:Q$2000,2,FALSE))","v":{"$error":"#REF!"}},"Quantification of particulate matter, tracking the origin and relationship between elements for the environmental monitoring of the Antarctic region. Science of The Total Environment 2019; 665: 125-132.","0000-0002-8581-4972 (Jesús Anzano).  Cáceres JO, Sanz-Mangas D, Manzoor S, Pérez-Arribas LV, Anzano J. ","DOI: 10.1016/j.scitotenv.2019.02.116","Cáceres JO, Sanz-Mangas D, Manzoor S, Pérez-Arribas LV, Anzano J. Quantification of particulate matter, tracking the origin and relationship between elements for the environmental monitoring of the Antarctic region. Science of The Total Environment 2019; 665: 125-132.",2019,"Publicación o presentación en congreso","Acceso por convocatoria","Caracterización de aerosoles atmosféricos en la Antártida","CPE-2018-5"]
[{"$f":"IF(#REF!=\"\",\"\",VLOOKUP(#REF!,MAESTROS!N$2:O$2000,2,FALSE))","v":{"$error":"#REF!"}},{"$f":"IF(#REF!=\"\",\"\",VLOOKUP(#REF!,MAESTROS!P$2:Q$2000,2,FALSE))","v":{"$error":"#REF!"}}," Local and Remote Sources of Airborne Suspended Particulate Matter in the Antarctic Region. Atmosphere 2020; 11.","0000-0002-8581-4972 (Jesús Anzano). Marina-Montes C, Pérez-Arribas LV, Anzano J, Cáceres JO.","https://doi.org/10.3390/atmos11040373","Marina-Montes C, Pérez-Arribas LV, Anzano J, Cáceres JO. Local and Remote Sources of Airborne Suspended Particulate Matter in the Antarctic Region. Atmosphere 2020; 11.",2020,"Publicación o presentación en congreso","Acceso por convocatoria","Caracterización de aerosoles atmosféricos en la Antártida","CPE-2018-5"]
[{"$f":"IF(#REF!=\"\",\"\",VLOOKUP(#REF!,MAESTROS!N$2:O$2000,2,FALSE))","v":{"$error":"#REF!"}},{"$f":"IF(#REF!=\"\",\"\",VLOOKUP(#REF!,MAESTROS!P$2:Q$2000,2,FALSE))","v":{"$error":"#REF!"}}," Heavy metal transport and evolution of atmospheric aerosols in the Antarctic region. Science of The Total Environment 2020; 721: 137702","0000-0002-8581-4972 (Jesús Anzano). Marina-Montes C, Pérez-Arribas LV, Escudero M, Anzano J, Cáceres JO.","https://doi.org/10.1016/j.scitotenv.2020.137702","Marina-Montes C, Pérez-Arribas LV, Escudero M, Anzano J, Cáceres JO. Heavy metal transport and evolution of atmospheric aerosols in the Antarctic region. Science of The Total Environment 2020; 721: 137702.",2020,"Publicación o presentación en congreso","Acceso por convocatoria","Caracterización de aerosoles atmosféricos en la Antártida","CPE-2018-5"]
[{"$f":"IF(#REF!=\"\",\"\",VLOOKUP(#REF!,MAESTROS!N$2:O$2000,2,FALSE))","v":{"$error":"#REF!"}},{"$f":"IF(#REF!=\"\",\"\",VLOOKUP(#REF!,MAESTROS!P$2:Q$2000,2,FALSE))","v":{"$error":"#REF!"}},"“Composition and origin of particulate matter in the Antarctic Region”","0000-0002-8581-4972 (Jesús Anzano). César Marina Montes , Andrés Cruz Conesa , Luis Vicente Pérez Arribas  , Jesús Anzano , Abrahan Velásquez  , Jorge O. Cáceres . \n",null,"César Marina Montes , Andrés Cruz Conesa , Luis Vicente Pérez Arribas  , Jesús Anzano , Abrahan Velásquez  , Jorge O. Cáceres .  1 st International Online Meeting on LIBS. July 6-8, 2020. Oral presentation: “Composition and origin of particulate matter in the Antarctic Region”.",2020,"Publicación o presentación en congreso","Acceso por convocatoria","Caracterización de aerosoles atmosféricos en la Antártida","CPE-2018-5"]
[{"$f":"IF(#REF!=\"\",\"\",VLOOKUP(#REF!,MAESTROS!N$2:O$2000,2,FALSE))","v":{"$error":"#REF!"}},{"$f":"IF(#REF!=\"\",\"\",VLOOKUP(#REF!,MAESTROS!P$2:Q$2000,2,FALSE))","v":{"$error":"#REF!"}},"“Characterization of atmospheric aerosols in the Antarctic Region”.","0000-0002-8581-4972 (Jesús Anzano). César Marina Montes; Jesús Anzano; Jorge O. Cáceres; Luis Vicente Pérez Arribas.\n","https://www.apecs.is/events-archive/events-2020/apecs-international-online-conference-2020.html"," César Marina Montes; Jesús Anzano; Jorge O. Cáceres; Luis Vicente Pérez Arribas. 6th Annual APECS Online Conference. May 20, 2020. Oral presentation: “Characterization of atmospheric aerosols in the Antarctic Region”.",2020,"Publicación o presentación en congreso","Acceso por convocatoria","Caracterización de aerosoles atmosféricos en la Antártida","CPE-2018-5"]
[{"$f":"IF(#REF!=\"\",\"\",VLOOKUP(#REF!,MAESTROS!N$2:O$2000,2,FALSE))","v":{"$error":"#REF!"}},{"$f":"IF(#REF!=\"\",\"\",VLOOKUP(#REF!,MAESTROS!P$2:Q$2000,2,FALSE))","v":{"$error":"#REF!"}},"\"Analysis of soils in the Antarctic Region by calibration free-laser induced breakdown spectroscopy\".","0000-0002-8581-4972 (Jesús Anzano). C. Marina-Montes, R. J. Lasheras, A. Cruz-Conesa, A. Velásquez, J. Anzano, L.V. Pérez-Arribas, J.O. Cáceres, V. Palleschi.",null,"C. Marina-Montes, R. J. Lasheras, A. Cruz-Conesa, A. Velásquez, J. Anzano, L.V. Pérez-Arribas, J.O. Cáceres, V. Palleschi. 11th International Conference on Laser-Induced Breakdown Spectroscopy. September 20-25, 2020, Kyoto Terrsa, Kyoto, JapanLIBS 2020.  Poster presentation: \"Analysis of soils in the Antarctic Region by calibration free-laser induced breakdown spectroscopy\".",2020,"Publicación o presentación en congreso","Acceso por convocatoria","Caracterización de aerosoles atmosféricos en la Antártida","CPE-2018-5"]
[{"$f":"IF(#REF!=\"\",\"\",VLOOKUP(#REF!,MAESTROS!N$2:O$2000,2,FALSE))","v":{"$error":"#REF!"}},{"$f":"IF(#REF!=\"\",\"\",VLOOKUP(#REF!,MAESTROS!P$2:Q$2000,2,FALSE))","v":{"$error":"#REF!"}},"La Antártida, un paraíso para la investigación"," (Jesús Anzano).Jorge Cáceres, César Marina, Luis-Vicente Pérez-Arribas","http://divulgacionciencias.unizar.es/revistas/web/revistas/revista/25","Description of the work carried out in the XXXIII Antarctic campaign.",2020,"Publicación o presentación en congreso","Acceso por convocatoria","Caracterización de aerosoles atmosféricos en la Antártida","CPE-2018-5"]
[{"$f":"IF(#REF!=\"\",\"\",VLOOKUP(#REF!,MAESTROS!N$2:O$2000,2,FALSE))","v":{"$error":"#REF!"}},{"$f":"IF(#REF!=\"\",\"\",VLOOKUP(#REF!,MAESTROS!P$2:Q$2000,2,FALSE))","v":{"$error":"#REF!"}},"Decepción, la Isla del nombre equivocado","Javier del Valle","Armas y Cuerpos Nº 140, pp-89-94 ISSN 2445-0359 ","Deception Islan",2019,"Publicación o presentación en congreso","Acceso por convocatoria","Caracterización de aerosoles atmosféricos en la Antártida","CPE-2018-5"]
[{"$f":"IF(#REF!=\"\",\"\",VLOOKUP(#REF!,MAESTROS!N$2:O$2000,2,FALSE))","v":{"$error":"#REF!"}},{"$f":"IF(#REF!=\"\",\"\",VLOOKUP(#REF!,MAESTROS!P$2:Q$2000,2,FALSE))","v":{"$error":"#REF!"}},"Análisis multielemental de suelo antártico mediante CL-LIBS","0000-0002-8581-4972 (Jesús Anzano).Cruz, Andrés; Martínez Lanciego, Javier; Paulés Ferrer, Daniel; Lasheras , Roberto J.; Velásquez Ferrín,\nAbrahan I.; Pereira Filho, Edenir R.; Cáceres, Jorge O. \n","XXII Reunión de la Sociedad Española de Química Analítica","Exposición del trabajo de laboratorio, Valladolid, Esopaña",2019,"Publicación o presentación en congreso","Acceso por convocatoria","Caracterización de aerosoles atmosféricos en la Antártida","CPE-2018-5"]
[{"$f":"IF(#REF!=\"\",\"\",VLOOKUP(#REF!,MAESTROS!N$2:O$2000,2,FALSE))","v":{"$error":"#REF!"}},{"$f":"IF(#REF!=\"\",\"\",VLOOKUP(#REF!,MAESTROS!P$2:Q$2000,2,FALSE))","v":{"$error":"#REF!"}},"Caracterización de aerosoles en la Isla Decepción (La Antártida)","C. Marina-Montes, R. J. Lasheras, A. Cruz-Conesa, A. Velásquez, J. Anzano, L.V. Pérez-Arribas, J.O. Cáceres, V. Palleschi. 11th International Conference on Laser-Induced Breakdown Spectroscopy. September 20-25, 2020, Kyoto Terrsa, Kyoto, JapanLIBS 2020.  Poster presentation: \"Analysis of soils in the Antarctic Region by calibration free-laser induced breakdown spectroscopy\".","CONAMA","Presentación del trabajo de investigación en muestras antárticas, Madrid, España",2018,"Publicación o presentación en congreso","Acceso por convocatoria","Caracterización de aerosoles atmosféricos en la Antártida","CPE-2018-5"]
[{"$f":"IF(#REF!=\"\",\"\",VLOOKUP(#REF!,MAESTROS!N$2:O$2000,2,FALSE))","v":{"$error":"#REF!"}},{"$f":"IF(#REF!=\"\",\"\",VLOOKUP(#REF!,MAESTROS!P$2:Q$2000,2,FALSE))","v":{"$error":"#REF!"}},"LIBS in the Antartida: Quantification of particulate matter & other interesying proposals in","Jesús Anzano","GRADUATE PROGRAM OF CHEMISTRY","Seminario, S.Carlos, Brasil",2018,"Publicación o presentación en congreso","Acceso por convocatoria","Caracterización de aerosoles atmosféricos en la Antártida","CPE-2018-5"]
[{"$f":"IF(#REF!=\"\",\"\",VLOOKUP(#REF!,MAESTROS!N$2:O$2000,2,FALSE))","v":{"$error":"#REF!"}},{"$f":"IF(#REF!=\"\",\"\",VLOOKUP(#REF!,MAESTROS!P$2:Q$2000,2,FALSE))","v":{"$error":"#REF!"}},"Europe\"·"]
[{"$f":"IF(#REF!=\"\",\"\",VLOOKUP(#REF!,MAESTROS!N$2:O$2000,2,FALSE))","v":{"$error":"#REF!"}},{"$f":"IF(#REF!=\"\",\"\",VLOOKUP(#REF!,MAESTROS!P$2:Q$2000,2,FALSE))","v":{"$error":"#REF!"}}]
[{"$f":"IF(#REF!=\"\",\"\",VLOOKUP(#REF!,MAESTROS!N$2:O$2000,2,FALSE))","v":{"$error":"#REF!"}},{"$f":"IF(#REF!=\"\",\"\",VLOOKUP(#REF!,MAESTROS!P$2:Q$2000,2,FALSE))","v":{"$error":"#REF!"}},"EL LÁSER EN LAS CIENCIAS AMBIENTALES","Jesús Anzano, Mariano Laguna, Miguel Escudero, Javier del Valle, Roberto-Jesús Lasheras, Juan-José\nMonge, Juan de Dios Escolar, Alicia Buceta, Jorge Cáceres, Luis V: Pérez, Francisco Bayo, Alfonso Calvo,\nPaula González-Bladco, Elisa Abas y Oscar Tapia","ESLIBS","Presentación del proyecto caracterización de aerosoles en la Antártida, Málaga, España",2018,"Publicación o presentación en congreso","Acceso por convocatoria","Caracterización de aerosoles atmosféricos en la Antártida","CPE-2018-5"]
[{"$f":"IF(#REF!=\"\",\"\",VLOOKUP(#REF!,MAESTROS!N$2:O$2000,2,FALSE))","v":{"$error":"#REF!"}},{"$f":"IF(#REF!=\"\",\"\",VLOOKUP(#REF!,MAESTROS!P$2:Q$2000,2,FALSE))","v":{"$error":"#REF!"}}]
[{"$f":"IF(#REF!=\"\",\"\",VLOOKUP(#REF!,MAESTROS!N$2:O$2000,2,FALSE))","v":{"$error":"#REF!"}},{"$f":"IF(#REF!=\"\",\"\",VLOOKUP(#REF!,MAESTROS!P$2:Q$2000,2,FALSE))","v":{"$error":"#REF!"}}]
[{"$f":"IF(#REF!=\"\",\"\",VLOOKUP(#REF!,MAESTROS!N$2:O$2000,2,FALSE))","v":{"$error":"#REF!"}},{"$f":"IF(#REF!=\"\",\"\",VLOOKUP(#REF!,MAESTROS!P$2:Q$2000,2,FALSE))","v":{"$error":"#REF!"}}]
[{"$f":"IF(#REF!=\"\",\"\",VLOOKUP(#REF!,MAESTROS!N$2:O$2000,2,FALSE))","v":{"$error":"#REF!"}},{"$f":"IF(#REF!=\"\",\"\",VLOOKUP(#REF!,MAESTROS!P$2:Q$2000,2,FALSE))","v":{"$error":"#REF!"}}]
[{"$f":"IF(#REF!=\"\",\"\",VLOOKUP(#REF!,MAESTROS!N$2:O$2000,2,FALSE))","v":{"$error":"#REF!"}},{"$f":"IF(#REF!=\"\",\"\",VLOOKUP(#REF!,MAESTROS!P$2:Q$2000,2,FALSE))","v":{"$error":"#REF!"}}]
[{"$f":"IF(#REF!=\"\",\"\",VLOOKUP(#REF!,MAESTROS!N$2:O$2000,2,FALSE))","v":{"$error":"#REF!"}},{"$f":"IF(#REF!=\"\",\"\",VLOOKUP(#REF!,MAESTROS!P$2:Q$2000,2,FALSE))","v":{"$error":"#REF!"}}]
[{"$f":"IF(#REF!=\"\",\"\",VLOOKUP(#REF!,MAESTROS!N$2:O$2000,2,FALSE))","v":{"$error":"#REF!"}},{"$f":"IF(#REF!=\"\",\"\",VLOOKUP(#REF!,MAESTROS!P$2:Q$2000,2,FALSE))","v":{"$error":"#REF!"}}]
[{"$f":"IF(#REF!=\"\",\"\",VLOOKUP(#REF!,MAESTROS!N$2:O$2000,2,FALSE))","v":{"$error":"#REF!"}},{"$f":"IF(#REF!=\"\",\"\",VLOOKUP(#REF!,MAESTROS!P$2:Q$2000,2,FALSE))","v":{"$error":"#REF!"}}]
[{"$f":"IF(#REF!=\"\",\"\",VLOOKUP(#REF!,MAESTROS!N$2:O$2000,2,FALSE))","v":{"$error":"#REF!"}},{"$f":"IF(#REF!=\"\",\"\",VLOOKUP(#REF!,MAESTROS!P$2:Q$2000,2,FALSE))","v":{"$error":"#REF!"}}]
[{"$f":"IF(#REF!=\"\",\"\",VLOOKUP(#REF!,MAESTROS!N$2:O$2000,2,FALSE))","v":{"$error":"#REF!"}},{"$f":"IF(#REF!=\"\",\"\",VLOOKUP(#REF!,MAESTROS!P$2:Q$2000,2,FALSE))","v":{"$error":"#REF!"}}]
[{"$f":"IF(#REF!=\"\",\"\",VLOOKUP(#REF!,MAESTROS!N$2:O$2000,2,FALSE))","v":{"$error":"#REF!"}},{"$f":"IF(#REF!=\"\",\"\",VLOOKUP(#REF!,MAESTROS!P$2:Q$2000,2,FALSE))","v":{"$error":"#REF!"}}]
[{"$f":"IF(#REF!=\"\",\"\",VLOOKUP(#REF!,MAESTROS!N$2:O$2000,2,FALSE))","v":{"$error":"#REF!"}},{"$f":"IF(#REF!=\"\",\"\",VLOOKUP(#REF!,MAESTROS!P$2:Q$2000,2,FALSE))","v":{"$error":"#REF!"}}]
[{"$f":"IF(#REF!=\"\",\"\",VLOOKUP(#REF!,MAESTROS!N$2:O$2000,2,FALSE))","v":{"$error":"#REF!"}},{"$f":"IF(#REF!=\"\",\"\",VLOOKUP(#REF!,MAESTROS!P$2:Q$2000,2,FALSE))","v":{"$error":"#REF!"}}]
[{"$f":"IF(#REF!=\"\",\"\",VLOOKUP(#REF!,MAESTROS!N$2:O$2000,2,FALSE))","v":{"$error":"#REF!"}},{"$f":"IF(#REF!=\"\",\"\",VLOOKUP(#REF!,MAESTROS!P$2:Q$2000,2,FALSE))","v":{"$error":"#REF!"}}]
[{"$f":"IF(H8=\"\",\"\",VLOOKUP(H8,MAESTROS!N$2:O$2000,2,FALSE))","v":4},{"$f":"IF(I8=\"\",\"\",VLOOKUP(I8,MAESTROS!P$2:Q$2000,2,FALSE))","v":1}]
[{"$f":"IF(#REF!=\"\",\"\",VLOOKUP(#REF!,MAESTROS!N$2:O$2000,2,FALSE))","v":{"$error":"#REF!"}},{"$f":"IF(#REF!=\"\",\"\",VLOOKUP(#REF!,MAESTROS!P$2:Q$2000,2,FALSE))","v":{"$error":"#REF!"}}]
[{"$f":"IF(#REF!=\"\",\"\",VLOOKUP(#REF!,MAESTROS!N$2:O$2000,2,FALSE))","v":{"$error":"#REF!"}},{"$f":"IF(#REF!=\"\",\"\",VLOOKUP(#REF!,MAESTROS!P$2:Q$2000,2,FALSE))","v":{"$error":"#REF!"}}]
[{"$f":"IF(#REF!=\"\",\"\",VLOOKUP(#REF!,MAESTROS!N$2:O$2000,2,FALSE))","v":{"$error":"#REF!"}},{"$f":"IF(#REF!=\"\",\"\",VLOOKUP(#REF!,MAESTROS!P$2:Q$2000,2,FALSE))","v":{"$error":"#REF!"}}]
[{"$f":"IF(#REF!=\"\",\"\",VLOOKUP(#REF!,MAESTROS!N$2:O$2000,2,FALSE))","v":{"$error":"#REF!"}},{"$f":"IF(#REF!=\"\",\"\",VLOOKUP(#REF!,MAESTROS!P$2:Q$2000,2,FALSE))","v":{"$error":"#REF!"}}]
[{"$f":"IF(#REF!=\"\",\"\",VLOOKUP(#REF!,MAESTROS!N$2:O$2000,2,FALSE))","v":{"$error":"#REF!"}},{"$f":"IF(#REF!=\"\",\"\",VLOOKUP(#REF!,MAESTROS!P$2:Q$2000,2,FALSE))","v":{"$error":"#REF!"}}]
[{"$f":"IF(#REF!=\"\",\"\",VLOOKUP(#REF!,MAESTROS!N$2:O$2000,2,FALSE))","v":{"$error":"#REF!"}},{"$f":"IF(#REF!=\"\",\"\",VLOOKUP(#REF!,MAESTROS!P$2:Q$2000,2,FALSE))","v":{"$error":"#REF!"}}]
[{"$f":"IF(#REF!=\"\",\"\",VLOOKUP(#REF!,MAESTROS!N$2:O$2000,2,FALSE))","v":{"$error":"#REF!"}},{"$f":"IF(#REF!=\"\",\"\",VLOOKUP(#REF!,MAESTROS!P$2:Q$2000,2,FALSE))","v":{"$error":"#REF!"}}]
[{"$f":"IF(#REF!=\"\",\"\",VLOOKUP(#REF!,MAESTROS!N$2:O$2000,2,FALSE))","v":{"$error":"#REF!"}},{"$f":"IF(#REF!=\"\",\"\",VLOOKUP(#REF!,MAESTROS!P$2:Q$2000,2,FALSE))","v":{"$error":"#REF!"}}]
[{"$f":"IF(#REF!=\"\",\"\",VLOOKUP(#REF!,MAESTROS!N$2:O$2000,2,FALSE))","v":{"$error":"#REF!"}},{"$f":"IF(#REF!=\"\",\"\",VLOOKUP(#REF!,MAESTROS!P$2:Q$2000,2,FALSE))","v":{"$error":"#REF!"}}]
[{"$f":"IF(#REF!=\"\",\"\",VLOOKUP(#REF!,MAESTROS!N$2:O$2000,2,FALSE))","v":{"$error":"#REF!"}},{"$f":"IF(#REF!=\"\",\"\",VLOOKUP(#REF!,MAESTROS!P$2:Q$2000,2,FALSE))","v":{"$error":"#REF!"}}]
[{"$f":"IF(H9=\"\",\"\",VLOOKUP(H9,MAESTROS!N$2:O$2000,2,FALSE))","v":4},{"$f":"IF(I9=\"\",\"\",VLOOKUP(I9,MAESTROS!P$2:Q$2000,2,FALSE))","v":1}]
[{"$f":"IF(H10=\"\",\"\",VLOOKUP(H10,MAESTROS!N$2:O$2000,2,FALSE))","v":4},{"$f":"IF(I10=\"\",\"\",VLOOKUP(I10,MAESTROS!P$2:Q$2000,2,FALSE))","v":1}]
[{"$f":"IF(H11=\"\",\"\",VLOOKUP(H11,MAESTROS!N$2:O$2000,2,FALSE))","v":4},{"$f":"IF(I11=\"\",\"\",VLOOKUP(I11,MAESTROS!P$2:Q$2000,2,FALSE))","v":1}]
[{"$f":"IF(H12=\"\",\"\",VLOOKUP(H12,MAESTROS!N$2:O$2000,2,FALSE))","v":4},{"$f":"IF(I12=\"\",\"\",VLOOKUP(I12,MAESTROS!P$2:Q$2000,2,FALSE))","v":1}]
[{"$f":"IF(H13=\"\",\"\",VLOOKUP(H13,MAESTROS!N$2:O$2000,2,FALSE))","v":4},{"$f":"IF(I13=\"\",\"\",VLOOKUP(I13,MAESTROS!P$2:Q$2000,2,FALSE))","v":1}]
[{"$f":"IF(H14=\"\",\"\",VLOOKUP(H14,MAESTROS!N$2:O$2000,2,FALSE))","v":""},{"$f":"IF(I14=\"\",\"\",VLOOKUP(I14,MAESTROS!P$2:Q$2000,2,FALSE))","v":""}]
[{"$f":"IF(H15=\"\",\"\",VLOOKUP(H15,MAESTROS!N$2:O$2000,2,FALSE))","v":""},{"$f":"IF(I15=\"\",\"\",VLOOKUP(I15,MAESTROS!P$2:Q$2000,2,FALSE))","v":""}]
[{"$f":"IF(H16=\"\",\"\",VLOOKUP(H16,MAESTROS!N$2:O$2000,2,FALSE))","v":4},{"$f":"IF(I16=\"\",\"\",VLOOKUP(I16,MAESTROS!P$2:Q$2000,2,FALSE))","v":1}]
[{"$f":"IF(H17=\"\",\"\",VLOOKUP(H17,MAESTROS!N$2:O$2000,2,FALSE))","v":""},{"$f":"IF(I17=\"\",\"\",VLOOKUP(I17,MAESTROS!P$2:Q$2000,2,FALSE))","v":""}]
[{"$f":"IF(H18=\"\",\"\",VLOOKUP(H18,MAESTROS!N$2:O$2000,2,FALSE))","v":""},{"$f":"IF(I18=\"\",\"\",VLOOKUP(I18,MAESTROS!P$2:Q$2000,2,FALSE))","v":""}]
[{"$f":"IF(H19=\"\",\"\",VLOOKUP(H19,MAESTROS!N$2:O$2000,2,FALSE))","v":""},{"$f":"IF(I19=\"\",\"\",VLOOKUP(I19,MAESTROS!P$2:Q$2000,2,FALSE))","v":""}]
[{"$f":"IF(H20=\"\",\"\",VLOOKUP(H20,MAESTROS!N$2:O$2000,2,FALSE))","v":""},{"$f":"IF(I20=\"\",\"\",VLOOKUP(I20,MAESTROS!P$2:Q$2000,2,FALSE))","v":""}]
[{"$f":"IF(H21=\"\",\"\",VLOOKUP(H21,MAESTROS!N$2:O$2000,2,FALSE))","v":""},{"$f":"IF(I21=\"\",\"\",VLOOKUP(I21,MAESTROS!P$2:Q$2000,2,FALSE))","v":""}]
[{"$f":"IF(H22=\"\",\"\",VLOOKUP(H22,MAESTROS!N$2:O$2000,2,FALSE))","v":""},{"$f":"IF(I22=\"\",\"\",VLOOKUP(I22,MAESTROS!P$2:Q$2000,2,FALSE))","v":""}]
[{"$f":"IF(H23=\"\",\"\",VLOOKUP(H23,MAESTROS!N$2:O$2000,2,FALSE))","v":""},{"$f":"IF(I23=\"\",\"\",VLOOKUP(I23,MAESTROS!P$2:Q$2000,2,FALSE))","v":""}]
[{"$f":"IF(H24=\"\",\"\",VLOOKUP(H24,MAESTROS!N$2:O$2000,2,FALSE))","v":""},{"$f":"IF(I24=\"\",\"\",VLOOKUP(I24,MAESTROS!P$2:Q$2000,2,FALSE))","v":""}]
[{"$f":"IF(H25=\"\",\"\",VLOOKUP(H25,MAESTROS!N$2:O$2000,2,FALSE))","v":""},{"$f":"IF(I25=\"\",\"\",VLOOKUP(I25,MAESTROS!P$2:Q$2000,2,FALSE))","v":""}]
[{"$f":"IF(H26=\"\",\"\",VLOOKUP(H26,MAESTROS!N$2:O$2000,2,FALSE))","v":""},{"$f":"IF(I26=\"\",\"\",VLOOKUP(I26,MAESTROS!P$2:Q$2000,2,FALSE))","v":""}]
[{"$f":"IF(H27=\"\",\"\",VLOOKUP(H27,MAESTROS!N$2:O$2000,2,FALSE))","v":""},{"$f":"IF(I27=\"\",\"\",VLOOKUP(I27,MAESTROS!P$2:Q$2000,2,FALSE))","v":""}]
[{"$f":"IF(H28=\"\",\"\",VLOOKUP(H28,MAESTROS!N$2:O$2000,2,FALSE))","v":""},{"$f":"IF(I28=\"\",\"\",VLOOKUP(I28,MAESTROS!P$2:Q$2000,2,FALSE))","v":""}]
[{"$f":"IF(H29=\"\",\"\",VLOOKUP(H29,MAESTROS!N$2:O$2000,2,FALSE))","v":""},{"$f":"IF(I29=\"\",\"\",VLOOKUP(I29,MAESTROS!P$2:Q$2000,2,FALSE))","v":""}]
[{"$f":"IF(H30=\"\",\"\",VLOOKUP(H30,MAESTROS!N$2:O$2000,2,FALSE))","v":""},{"$f":"IF(I30=\"\",\"\",VLOOKUP(I30,MAESTROS!P$2:Q$2000,2,FALSE))","v":""}]
[{"$f":"IF(H31=\"\",\"\",VLOOKUP(H31,MAESTROS!N$2:O$2000,2,FALSE))","v":""},{"$f":"IF(I31=\"\",\"\",VLOOKUP(I31,MAESTROS!P$2:Q$2000,2,FALSE))","v":""}]
[{"$f":"IF(H32=\"\",\"\",VLOOKUP(H32,MAESTROS!N$2:O$2000,2,FALSE))","v":""},{"$f":"IF(I32=\"\",\"\",VLOOKUP(I32,MAESTROS!P$2:Q$2000,2,FALSE))","v":""}]
[{"$f":"IF(H33=\"\",\"\",VLOOKUP(H33,MAESTROS!N$2:O$2000,2,FALSE))","v":""},{"$f":"IF(I33=\"\",\"\",VLOOKUP(I33,MAESTROS!P$2:Q$2000,2,FALSE))","v":""}]
[{"$f":"IF(H34=\"\",\"\",VLOOKUP(H34,MAESTROS!N$2:O$2000,2,FALSE))","v":""},{"$f":"IF(I34=\"\",\"\",VLOOKUP(I34,MAESTROS!P$2:Q$2000,2,FALSE))","v":""}]
[{"$f":"IF(H35=\"\",\"\",VLOOKUP(H35,MAESTROS!N$2:O$2000,2,FALSE))","v":""},{"$f":"IF(I35=\"\",\"\",VLOOKUP(I35,MAESTROS!P$2:Q$2000,2,FALSE))","v":""}]
[{"$f":"IF(H36=\"\",\"\",VLOOKUP(H36,MAESTROS!N$2:O$2000,2,FALSE))","v":""},{"$f":"IF(I36=\"\",\"\",VLOOKUP(I36,MAESTROS!P$2:Q$2000,2,FALSE))","v":""}]
[{"$f":"IF(H37=\"\",\"\",VLOOKUP(H37,MAESTROS!N$2:O$2000,2,FALSE))","v":""},{"$f":"IF(I37=\"\",\"\",VLOOKUP(I37,MAESTROS!P$2:Q$2000,2,FALSE))","v":""}]
[{"$f":"IF(H38=\"\",\"\",VLOOKUP(H38,MAESTROS!N$2:O$2000,2,FALSE))","v":""},{"$f":"IF(I38=\"\",\"\",VLOOKUP(I38,MAESTROS!P$2:Q$2000,2,FALSE))","v":""}]
[{"$f":"IF(H39=\"\",\"\",VLOOKUP(H39,MAESTROS!N$2:O$2000,2,FALSE))","v":""},{"$f":"IF(I39=\"\",\"\",VLOOKUP(I39,MAESTROS!P$2:Q$2000,2,FALSE))","v":""}]
[{"$f":"IF(H40=\"\",\"\",VLOOKUP(H40,MAESTROS!N$2:O$2000,2,FALSE))","v":""},{"$f":"IF(I40=\"\",\"\",VLOOKUP(I40,MAESTROS!P$2:Q$2000,2,FALSE))","v":""}]
[{"$f":"IF(H41=\"\",\"\",VLOOKUP(H41,MAESTROS!N$2:O$2000,2,FALSE))","v":""},{"$f":"IF(I41=\"\",\"\",VLOOKUP(I41,MAESTROS!P$2:Q$2000,2,FALSE))","v":""}]
[{"$f":"IF(H42=\"\",\"\",VLOOKUP(H42,MAESTROS!N$2:O$2000,2,FALSE))","v":""},{"$f":"IF(I42=\"\",\"\",VLOOKUP(I42,MAESTROS!P$2:Q$2000,2,FALSE))","v":""}]
[{"$f":"IF(H43=\"\",\"\",VLOOKUP(H43,MAESTROS!N$2:O$2000,2,FALSE))","v":""},{"$f":"IF(I43=\"\",\"\",VLOOKUP(I43,MAESTROS!P$2:Q$2000,2,FALSE))","v":""}]
[{"$f":"IF(H44=\"\",\"\",VLOOKUP(H44,MAESTROS!N$2:O$2000,2,FALSE))","v":""},{"$f":"IF(I44=\"\",\"\",VLOOKUP(I44,MAESTROS!P$2:Q$2000,2,FALSE))","v":""}]
[{"$f":"IF(H45=\"\",\"\",VLOOKUP(H45,MAESTROS!N$2:O$2000,2,FALSE))","v":""},{"$f":"IF(I45=\"\",\"\",VLOOKUP(I45,MAESTROS!P$2:Q$2000,2,FALSE))","v":""}]
[{"$f":"IF(H46=\"\",\"\",VLOOKUP(H46,MAESTROS!N$2:O$2000,2,FALSE))","v":""},{"$f":"IF(I46=\"\",\"\",VLOOKUP(I46,MAESTROS!P$2:Q$2000,2,FALSE))","v":""}]
[{"$f":"IF(H47=\"\",\"\",VLOOKUP(H47,MAESTROS!N$2:O$2000,2,FALSE))","v":""},{"$f":"IF(I47=\"\",\"\",VLOOKUP(I47,MAESTROS!P$2:Q$2000,2,FALSE))","v":""}]
[{"$f":"IF(H48=\"\",\"\",VLOOKUP(H48,MAESTROS!N$2:O$2000,2,FALSE))","v":""},{"$f":"IF(I48=\"\",\"\",VLOOKUP(I48,MAESTROS!P$2:Q$2000,2,FALSE))","v":""}]
[{"$f":"IF(H49=\"\",\"\",VLOOKUP(H49,MAESTROS!N$2:O$2000,2,FALSE))","v":""},{"$f":"IF(I49=\"\",\"\",VLOOKUP(I49,MAESTROS!P$2:Q$2000,2,FALSE))","v":""}]
[{"$f":"IF(H50=\"\",\"\",VLOOKUP(H50,MAESTROS!N$2:O$2000,2,FALSE))","v":""},{"$f":"IF(I50=\"\",\"\",VLOOKUP(I50,MAESTROS!P$2:Q$2000,2,FALSE))","v":""}]
[{"$f":"IF(H51=\"\",\"\",VLOOKUP(H51,MAESTROS!N$2:O$2000,2,FALSE))","v":""},{"$f":"IF(I51=\"\",\"\",VLOOKUP(I51,MAESTROS!P$2:Q$2000,2,FALSE))","v":""}]
[{"$f":"IF(H52=\"\",\"\",VLOOKUP(H52,MAESTROS!N$2:O$2000,2,FALSE))","v":""},{"$f":"IF(I52=\"\",\"\",VLOOKUP(I52,MAESTROS!P$2:Q$2000,2,FALSE))","v":""}]
[{"$f":"IF(H53=\"\",\"\",VLOOKUP(H53,MAESTROS!N$2:O$2000,2,FALSE))","v":""},{"$f":"IF(I53=\"\",\"\",VLOOKUP(I53,MAESTROS!P$2:Q$2000,2,FALSE))","v":""}]
[{"$f":"IF(H54=\"\",\"\",VLOOKUP(H54,MAESTROS!N$2:O$2000,2,FALSE))","v":""},{"$f":"IF(I54=\"\",\"\",VLOOKUP(I54,MAESTROS!P$2:Q$2000,2,FALSE))","v":""}]
[{"$f":"IF(H55=\"\",\"\",VLOOKUP(H55,MAESTROS!N$2:O$2000,2,FALSE))","v":""},{"$f":"IF(I55=\"\",\"\",VLOOKUP(I55,MAESTROS!P$2:Q$2000,2,FALSE))","v":""}]
[{"$f":"IF(H56=\"\",\"\",VLOOKUP(H56,MAESTROS!N$2:O$2000,2,FALSE))","v":""},{"$f":"IF(I56=\"\",\"\",VLOOKUP(I56,MAESTROS!P$2:Q$2000,2,FALSE))","v":""}]
[{"$f":"IF(H57=\"\",\"\",VLOOKUP(H57,MAESTROS!N$2:O$2000,2,FALSE))","v":""},{"$f":"IF(I57=\"\",\"\",VLOOKUP(I57,MAESTROS!P$2:Q$2000,2,FALSE))","v":""}]
[{"$f":"IF(H58=\"\",\"\",VLOOKUP(H58,MAESTROS!N$2:O$2000,2,FALSE))","v":""},{"$f":"IF(I58=\"\",\"\",VLOOKUP(I58,MAESTROS!P$2:Q$2000,2,FALSE))","v":""}]
[{"$f":"IF(H59=\"\",\"\",VLOOKUP(H59,MAESTROS!N$2:O$2000,2,FALSE))","v":""},{"$f":"IF(I59=\"\",\"\",VLOOKUP(I59,MAESTROS!P$2:Q$2000,2,FALSE))","v":""}]
[{"$f":"IF(H60=\"\",\"\",VLOOKUP(H60,MAESTROS!N$2:O$2000,2,FALSE))","v":""},{"$f":"IF(I60=\"\",\"\",VLOOKUP(I60,MAESTROS!P$2:Q$2000,2,FALSE))","v":""}]
[{"$f":"IF(H61=\"\",\"\",VLOOKUP(H61,MAESTROS!N$2:O$2000,2,FALSE))","v":""},{"$f":"IF(I61=\"\",\"\",VLOOKUP(I61,MAESTROS!P$2:Q$2000,2,FALSE))","v":""}]
[{"$f":"IF(H62=\"\",\"\",VLOOKUP(H62,MAESTROS!N$2:O$2000,2,FALSE))","v":""},{"$f":"IF(I62=\"\",\"\",VLOOKUP(I62,MAESTROS!P$2:Q$2000,2,FALSE))","v":""}]
[{"$f":"IF(H63=\"\",\"\",VLOOKUP(H63,MAESTROS!N$2:O$2000,2,FALSE))","v":""},{"$f":"IF(I63=\"\",\"\",VLOOKUP(I63,MAESTROS!P$2:Q$2000,2,FALSE))","v":""}]
[{"$f":"IF(H64=\"\",\"\",VLOOKUP(H64,MAESTROS!N$2:O$2000,2,FALSE))","v":""},{"$f":"IF(I64=\"\",\"\",VLOOKUP(I64,MAESTROS!P$2:Q$2000,2,FALSE))","v":""}]
[{"$f":"IF(H65=\"\",\"\",VLOOKUP(H65,MAESTROS!N$2:O$2000,2,FALSE))","v":""},{"$f":"IF(I65=\"\",\"\",VLOOKUP(I65,MAESTROS!P$2:Q$2000,2,FALSE))","v":""}]
[{"$f":"IF(H66=\"\",\"\",VLOOKUP(H66,MAESTROS!N$2:O$2000,2,FALSE))","v":""},{"$f":"IF(I66=\"\",\"\",VLOOKUP(I66,MAESTROS!P$2:Q$2000,2,FALSE))","v":""}]
[{"$f":"IF(H67=\"\",\"\",VLOOKUP(H67,MAESTROS!N$2:O$2000,2,FALSE))","v":""},{"$f":"IF(I67=\"\",\"\",VLOOKUP(I67,MAESTROS!P$2:Q$2000,2,FALSE))","v":""}]
[{"$f":"IF(H68=\"\",\"\",VLOOKUP(H68,MAESTROS!N$2:O$2000,2,FALSE))","v":""},{"$f":"IF(I68=\"\",\"\",VLOOKUP(I68,MAESTROS!P$2:Q$2000,2,FALSE))","v":""}]
[{"$f":"IF(H69=\"\",\"\",VLOOKUP(H69,MAESTROS!N$2:O$2000,2,FALSE))","v":""},{"$f":"IF(I69=\"\",\"\",VLOOKUP(I69,MAESTROS!P$2:Q$2000,2,FALSE))","v":""}]
[{"$f":"IF(H70=\"\",\"\",VLOOKUP(H70,MAESTROS!N$2:O$2000,2,FALSE))","v":""},{"$f":"IF(I70=\"\",\"\",VLOOKUP(I70,MAESTROS!P$2:Q$2000,2,FALSE))","v":""}]
[{"$f":"IF(H71=\"\",\"\",VLOOKUP(H71,MAESTROS!N$2:O$2000,2,FALSE))","v":""},{"$f":"IF(I71=\"\",\"\",VLOOKUP(I71,MAESTROS!P$2:Q$2000,2,FALSE))","v":""}]
[{"$f":"IF(H72=\"\",\"\",VLOOKUP(H72,MAESTROS!N$2:O$2000,2,FALSE))","v":""},{"$f":"IF(I72=\"\",\"\",VLOOKUP(I72,MAESTROS!P$2:Q$2000,2,FALSE))","v":""}]
[{"$f":"IF(H73=\"\",\"\",VLOOKUP(H73,MAESTROS!N$2:O$2000,2,FALSE))","v":""},{"$f":"IF(I73=\"\",\"\",VLOOKUP(I73,MAESTROS!P$2:Q$2000,2,FALSE))","v":""}]
[{"$f":"IF(H74=\"\",\"\",VLOOKUP(H74,MAESTROS!N$2:O$2000,2,FALSE))","v":""},{"$f":"IF(I74=\"\",\"\",VLOOKUP(I74,MAESTROS!P$2:Q$2000,2,FALSE))","v":""}]
[{"$f":"IF(H75=\"\",\"\",VLOOKUP(H75,MAESTROS!N$2:O$2000,2,FALSE))","v":""},{"$f":"IF(I75=\"\",\"\",VLOOKUP(I75,MAESTROS!P$2:Q$2000,2,FALSE))","v":""}]
[{"$f":"IF(H76=\"\",\"\",VLOOKUP(H76,MAESTROS!N$2:O$2000,2,FALSE))","v":""},{"$f":"IF(I76=\"\",\"\",VLOOKUP(I76,MAESTROS!P$2:Q$2000,2,FALSE))","v":""}]
[{"$f":"IF(H77=\"\",\"\",VLOOKUP(H77,MAESTROS!N$2:O$2000,2,FALSE))","v":""},{"$f":"IF(I77=\"\",\"\",VLOOKUP(I77,MAESTROS!P$2:Q$2000,2,FALSE))","v":""}]
[{"$f":"IF(H78=\"\",\"\",VLOOKUP(H78,MAESTROS!N$2:O$2000,2,FALSE))","v":""},{"$f":"IF(I78=\"\",\"\",VLOOKUP(I78,MAESTROS!P$2:Q$2000,2,FALSE))","v":""}]
[{"$f":"IF(H79=\"\",\"\",VLOOKUP(H79,MAESTROS!N$2:O$2000,2,FALSE))","v":""},{"$f":"IF(I79=\"\",\"\",VLOOKUP(I79,MAESTROS!P$2:Q$2000,2,FALSE))","v":""}]
[{"$f":"IF(H80=\"\",\"\",VLOOKUP(H80,MAESTROS!N$2:O$2000,2,FALSE))","v":""},{"$f":"IF(I80=\"\",\"\",VLOOKUP(I80,MAESTROS!P$2:Q$2000,2,FALSE))","v":""}]
[{"$f":"IF(H81=\"\",\"\",VLOOKUP(H81,MAESTROS!N$2:O$2000,2,FALSE))","v":""},{"$f":"IF(I81=\"\",\"\",VLOOKUP(I81,MAESTROS!P$2:Q$2000,2,FALSE))","v":""}]
[{"$f":"IF(H82=\"\",\"\",VLOOKUP(H82,MAESTROS!N$2:O$2000,2,FALSE))","v":""},{"$f":"IF(I82=\"\",\"\",VLOOKUP(I82,MAESTROS!P$2:Q$2000,2,FALSE))","v":""}]
[{"$f":"IF(H83=\"\",\"\",VLOOKUP(H83,MAESTROS!N$2:O$2000,2,FALSE))","v":""},{"$f":"IF(I83=\"\",\"\",VLOOKUP(I83,MAESTROS!P$2:Q$2000,2,FALSE))","v":""}]
[{"$f":"IF(H84=\"\",\"\",VLOOKUP(H84,MAESTROS!N$2:O$2000,2,FALSE))","v":""},{"$f":"IF(I84=\"\",\"\",VLOOKUP(I84,MAESTROS!P$2:Q$2000,2,FALSE))","v":""}]
[{"$f":"IF(H85=\"\",\"\",VLOOKUP(H85,MAESTROS!N$2:O$2000,2,FALSE))","v":""},{"$f":"IF(I85=\"\",\"\",VLOOKUP(I85,MAESTROS!P$2:Q$2000,2,FALSE))","v":""}]
[{"$f":"IF(H86=\"\",\"\",VLOOKUP(H86,MAESTROS!N$2:O$2000,2,FALSE))","v":""},{"$f":"IF(I86=\"\",\"\",VLOOKUP(I86,MAESTROS!P$2:Q$2000,2,FALSE))","v":""}]
[{"$f":"IF(H87=\"\",\"\",VLOOKUP(H87,MAESTROS!N$2:O$2000,2,FALSE))","v":""},{"$f":"IF(I87=\"\",\"\",VLOOKUP(I87,MAESTROS!P$2:Q$2000,2,FALSE))","v":""}]
[{"$f":"IF(H88=\"\",\"\",VLOOKUP(H88,MAESTROS!N$2:O$2000,2,FALSE))","v":""},{"$f":"IF(I88=\"\",\"\",VLOOKUP(I88,MAESTROS!P$2:Q$2000,2,FALSE))","v":""}]
[{"$f":"IF(H89=\"\",\"\",VLOOKUP(H89,MAESTROS!N$2:O$2000,2,FALSE))","v":""},{"$f":"IF(I89=\"\",\"\",VLOOKUP(I89,MAESTROS!P$2:Q$2000,2,FALSE))","v":""}]
[{"$f":"IF(H90=\"\",\"\",VLOOKUP(H90,MAESTROS!N$2:O$2000,2,FALSE))","v":""},{"$f":"IF(I90=\"\",\"\",VLOOKUP(I90,MAESTROS!P$2:Q$2000,2,FALSE))","v":""}]
[{"$f":"IF(H91=\"\",\"\",VLOOKUP(H91,MAESTROS!N$2:O$2000,2,FALSE))","v":""},{"$f":"IF(I91=\"\",\"\",VLOOKUP(I91,MAESTROS!P$2:Q$2000,2,FALSE))","v":""}]
[{"$f":"IF(H92=\"\",\"\",VLOOKUP(H92,MAESTROS!N$2:O$2000,2,FALSE))","v":""},{"$f":"IF(I92=\"\",\"\",VLOOKUP(I92,MAESTROS!P$2:Q$2000,2,FALSE))","v":""}]
[{"$f":"IF(H93=\"\",\"\",VLOOKUP(H93,MAESTROS!N$2:O$2000,2,FALSE))","v":""},{"$f":"IF(I93=\"\",\"\",VLOOKUP(I93,MAESTROS!P$2:Q$2000,2,FALSE))","v":""}]
[{"$f":"IF(H94=\"\",\"\",VLOOKUP(H94,MAESTROS!N$2:O$2000,2,FALSE))","v":""},{"$f":"IF(I94=\"\",\"\",VLOOKUP(I94,MAESTROS!P$2:Q$2000,2,FALSE))","v":""}]
[{"$f":"IF(H95=\"\",\"\",VLOOKUP(H95,MAESTROS!N$2:O$2000,2,FALSE))","v":""},{"$f":"IF(I95=\"\",\"\",VLOOKUP(I95,MAESTROS!P$2:Q$2000,2,FALSE))","v":""}]
[{"$f":"IF(H96=\"\",\"\",VLOOKUP(H96,MAESTROS!N$2:O$2000,2,FALSE))","v":""},{"$f":"IF(I96=\"\",\"\",VLOOKUP(I96,MAESTROS!P$2:Q$2000,2,FALSE))","v":""}]
[{"$f":"IF(H97=\"\",\"\",VLOOKUP(H97,MAESTROS!N$2:O$2000,2,FALSE))","v":""},{"$f":"IF(I97=\"\",\"\",VLOOKUP(I97,MAESTROS!P$2:Q$2000,2,FALSE))","v":""}]
[{"$f":"IF(H98=\"\",\"\",VLOOKUP(H98,MAESTROS!N$2:O$2000,2,FALSE))","v":""},{"$f":"IF(I98=\"\",\"\",VLOOKUP(I98,MAESTROS!P$2:Q$2000,2,FALSE))","v":""}]
[{"$f":"IF(H99=\"\",\"\",VLOOKUP(H99,MAESTROS!N$2:O$2000,2,FALSE))","v":""},{"$f":"IF(I99=\"\",\"\",VLOOKUP(I99,MAESTROS!P$2:Q$2000,2,FALSE))","v":""}]
[{"$f":"IF(H100=\"\",\"\",VLOOKUP(H100,MAESTROS!N$2:O$2000,2,FALSE))","v":""},{"$f":"IF(I100=\"\",\"\",VLOOKUP(I100,MAESTROS!P$2:Q$2000,2,FALSE))","v":""}]
[{"$f":"IF(H101=\"\",\"\",VLOOKUP(H101,MAESTROS!N$2:O$2000,2,FALSE))","v":""},{"$f":"IF(I101=\"\",\"\",VLOOKUP(I101,MAESTROS!P$2:Q$2000,2,FALSE))","v":""}]
[{"$f":"IF(H102=\"\",\"\",VLOOKUP(H102,MAESTROS!N$2:O$2000,2,FALSE))","v":""},{"$f":"IF(I102=\"\",\"\",VLOOKUP(I102,MAESTROS!P$2:Q$2000,2,FALSE))","v":""}]
[{"$f":"IF(H103=\"\",\"\",VLOOKUP(H103,MAESTROS!N$2:O$2000,2,FALSE))","v":""},{"$f":"IF(I103=\"\",\"\",VLOOKUP(I103,MAESTROS!P$2:Q$2000,2,FALSE))","v":""}]
[{"$f":"IF(H104=\"\",\"\",VLOOKUP(H104,MAESTROS!N$2:O$2000,2,FALSE))","v":""},{"$f":"IF(I104=\"\",\"\",VLOOKUP(I104,MAESTROS!P$2:Q$2000,2,FALSE))","v":""}]
[{"$f":"IF(H105=\"\",\"\",VLOOKUP(H105,MAESTROS!N$2:O$2000,2,FALSE))","v":""},{"$f":"IF(I105=\"\",\"\",VLOOKUP(I105,MAESTROS!P$2:Q$2000,2,FALSE))","v":""}]
[{"$f":"IF(H106=\"\",\"\",VLOOKUP(H106,MAESTROS!N$2:O$2000,2,FALSE))","v":""},{"$f":"IF(I106=\"\",\"\",VLOOKUP(I106,MAESTROS!P$2:Q$2000,2,FALSE))","v":""}]
[{"$f":"IF(H107=\"\",\"\",VLOOKUP(H107,MAESTROS!N$2:O$2000,2,FALSE))","v":""},{"$f":"IF(I107=\"\",\"\",VLOOKUP(I107,MAESTROS!P$2:Q$2000,2,FALSE))","v":""}]
[{"$f":"IF(H108=\"\",\"\",VLOOKUP(H108,MAESTROS!N$2:O$2000,2,FALSE))","v":""},{"$f":"IF(I108=\"\",\"\",VLOOKUP(I108,MAESTROS!P$2:Q$2000,2,FALSE))","v":""}]
[{"$f":"IF(H109=\"\",\"\",VLOOKUP(H109,MAESTROS!N$2:O$2000,2,FALSE))","v":""},{"$f":"IF(I109=\"\",\"\",VLOOKUP(I109,MAESTROS!P$2:Q$2000,2,FALSE))","v":""}]
[{"$f":"IF(H110=\"\",\"\",VLOOKUP(H110,MAESTROS!N$2:O$2000,2,FALSE))","v":""},{"$f":"IF(I110=\"\",\"\",VLOOKUP(I110,MAESTROS!P$2:Q$2000,2,FALSE))","v":""}]
[{"$f":"IF(H111=\"\",\"\",VLOOKUP(H111,MAESTROS!N$2:O$2000,2,FALSE))","v":""},{"$f":"IF(I111=\"\",\"\",VLOOKUP(I111,MAESTROS!P$2:Q$2000,2,FALSE))","v":""}]
[{"$f":"IF(H112=\"\",\"\",VLOOKUP(H112,MAESTROS!N$2:O$2000,2,FALSE))","v":""},{"$f":"IF(I112=\"\",\"\",VLOOKUP(I112,MAESTROS!P$2:Q$2000,2,FALSE))","v":""}]
[{"$f":"IF(H113=\"\",\"\",VLOOKUP(H113,MAESTROS!N$2:O$2000,2,FALSE))","v":""},{"$f":"IF(I113=\"\",\"\",VLOOKUP(I113,MAESTROS!P$2:Q$2000,2,FALSE))","v":""}]
[{"$f":"IF(H114=\"\",\"\",VLOOKUP(H114,MAESTROS!N$2:O$2000,2,FALSE))","v":""},{"$f":"IF(I114=\"\",\"\",VLOOKUP(I114,MAESTROS!P$2:Q$2000,2,FALSE))","v":""}]
[{"$f":"IF(H115=\"\",\"\",VLOOKUP(H115,MAESTROS!N$2:O$2000,2,FALSE))","v":""},{"$f":"IF(I115=\"\",\"\",VLOOKUP(I115,MAESTROS!P$2:Q$2000,2,FALSE))","v":""}]
[{"$f":"IF(H116=\"\",\"\",VLOOKUP(H116,MAESTROS!N$2:O$2000,2,FALSE))","v":""},{"$f":"IF(I116=\"\",\"\",VLOOKUP(I116,MAESTROS!P$2:Q$2000,2,FALSE))","v":""}]
[{"$f":"IF(H117=\"\",\"\",VLOOKUP(H117,MAESTROS!N$2:O$2000,2,FALSE))","v":""},{"$f":"IF(I117=\"\",\"\",VLOOKUP(I117,MAESTROS!P$2:Q$2000,2,FALSE))","v":""}]
[{"$f":"IF(H118=\"\",\"\",VLOOKUP(H118,MAESTROS!N$2:O$2000,2,FALSE))","v":""},{"$f":"IF(I118=\"\",\"\",VLOOKUP(I118,MAESTROS!P$2:Q$2000,2,FALSE))","v":""}]
[{"$f":"IF(H119=\"\",\"\",VLOOKUP(H119,MAESTROS!N$2:O$2000,2,FALSE))","v":""},{"$f":"IF(I119=\"\",\"\",VLOOKUP(I119,MAESTROS!P$2:Q$2000,2,FALSE))","v":""}]
[{"$f":"IF(H120=\"\",\"\",VLOOKUP(H120,MAESTROS!N$2:O$2000,2,FALSE))","v":""},{"$f":"IF(I120=\"\",\"\",VLOOKUP(I120,MAESTROS!P$2:Q$2000,2,FALSE))","v":""}]
[{"$f":"IF(H121=\"\",\"\",VLOOKUP(H121,MAESTROS!N$2:O$2000,2,FALSE))","v":""},{"$f":"IF(I121=\"\",\"\",VLOOKUP(I121,MAESTROS!P$2:Q$2000,2,FALSE))","v":""}]
[{"$f":"IF(H122=\"\",\"\",VLOOKUP(H122,MAESTROS!N$2:O$2000,2,FALSE))","v":""},{"$f":"IF(I122=\"\",\"\",VLOOKUP(I122,MAESTROS!P$2:Q$2000,2,FALSE))","v":""}]
[{"$f":"IF(H123=\"\",\"\",VLOOKUP(H123,MAESTROS!N$2:O$2000,2,FALSE))","v":""},{"$f":"IF(I123=\"\",\"\",VLOOKUP(I123,MAESTROS!P$2:Q$2000,2,FALSE))","v":""}]
[{"$f":"IF(H124=\"\",\"\",VLOOKUP(H124,MAESTROS!N$2:O$2000,2,FALSE))","v":""},{"$f":"IF(I124=\"\",\"\",VLOOKUP(I124,MAESTROS!P$2:Q$2000,2,FALSE))","v":""}]
[{"$f":"IF(H125=\"\",\"\",VLOOKUP(H125,MAESTROS!N$2:O$2000,2,FALSE))","v":""},{"$f":"IF(I125=\"\",\"\",VLOOKUP(I125,MAESTROS!P$2:Q$2000,2,FALSE))","v":""}]
[{"$f":"IF(H126=\"\",\"\",VLOOKUP(H126,MAESTROS!N$2:O$2000,2,FALSE))","v":""},{"$f":"IF(I126=\"\",\"\",VLOOKUP(I126,MAESTROS!P$2:Q$2000,2,FALSE))","v":""}]
[{"$f":"IF(H127=\"\",\"\",VLOOKUP(H127,MAESTROS!N$2:O$2000,2,FALSE))","v":""},{"$f":"IF(I127=\"\",\"\",VLOOKUP(I127,MAESTROS!P$2:Q$2000,2,FALSE))","v":""}]
[{"$f":"IF(H128=\"\",\"\",VLOOKUP(H128,MAESTROS!N$2:O$2000,2,FALSE))","v":""},{"$f":"IF(I128=\"\",\"\",VLOOKUP(I128,MAESTROS!P$2:Q$2000,2,FALSE))","v":""}]
[{"$f":"IF(H129=\"\",\"\",VLOOKUP(H129,MAESTROS!N$2:O$2000,2,FALSE))","v":""},{"$f":"IF(I129=\"\",\"\",VLOOKUP(I129,MAESTROS!P$2:Q$2000,2,FALSE))","v":""}]
[{"$f":"IF(H130=\"\",\"\",VLOOKUP(H130,MAESTROS!N$2:O$2000,2,FALSE))","v":""},{"$f":"IF(I130=\"\",\"\",VLOOKUP(I130,MAESTROS!P$2:Q$2000,2,FALSE))","v":""}]
[{"$f":"IF(H131=\"\",\"\",VLOOKUP(H131,MAESTROS!N$2:O$2000,2,FALSE))","v":""},{"$f":"IF(I131=\"\",\"\",VLOOKUP(I131,MAESTROS!P$2:Q$2000,2,FALSE))","v":""}]
[{"$f":"IF(H132=\"\",\"\",VLOOKUP(H132,MAESTROS!N$2:O$2000,2,FALSE))","v":""},{"$f":"IF(I132=\"\",\"\",VLOOKUP(I132,MAESTROS!P$2:Q$2000,2,FALSE))","v":""}]
[{"$f":"IF(H133=\"\",\"\",VLOOKUP(H133,MAESTROS!N$2:O$2000,2,FALSE))","v":""},{"$f":"IF(I133=\"\",\"\",VLOOKUP(I133,MAESTROS!P$2:Q$2000,2,FALSE))","v":""}]
[{"$f":"IF(H134=\"\",\"\",VLOOKUP(H134,MAESTROS!N$2:O$2000,2,FALSE))","v":""},{"$f":"IF(I134=\"\",\"\",VLOOKUP(I134,MAESTROS!P$2:Q$2000,2,FALSE))","v":""}]
[{"$f":"IF(H135=\"\",\"\",VLOOKUP(H135,MAESTROS!N$2:O$2000,2,FALSE))","v":""},{"$f":"IF(I135=\"\",\"\",VLOOKUP(I135,MAESTROS!P$2:Q$2000,2,FALSE))","v":""}]
[{"$f":"IF(H136=\"\",\"\",VLOOKUP(H136,MAESTROS!N$2:O$2000,2,FALSE))","v":""},{"$f":"IF(I136=\"\",\"\",VLOOKUP(I136,MAESTROS!P$2:Q$2000,2,FALSE))","v":""}]
[{"$f":"IF(H137=\"\",\"\",VLOOKUP(H137,MAESTROS!N$2:O$2000,2,FALSE))","v":""},{"$f":"IF(I137=\"\",\"\",VLOOKUP(I137,MAESTROS!P$2:Q$2000,2,FALSE))","v":""}]
[{"$f":"IF(H138=\"\",\"\",VLOOKUP(H138,MAESTROS!N$2:O$2000,2,FALSE))","v":""},{"$f":"IF(I138=\"\",\"\",VLOOKUP(I138,MAESTROS!P$2:Q$2000,2,FALSE))","v":""}]
[{"$f":"IF(H139=\"\",\"\",VLOOKUP(H139,MAESTROS!N$2:O$2000,2,FALSE))","v":""},{"$f":"IF(I139=\"\",\"\",VLOOKUP(I139,MAESTROS!P$2:Q$2000,2,FALSE))","v":""}]
[{"$f":"IF(H140=\"\",\"\",VLOOKUP(H140,MAESTROS!N$2:O$2000,2,FALSE))","v":""},{"$f":"IF(I140=\"\",\"\",VLOOKUP(I140,MAESTROS!P$2:Q$2000,2,FALSE))","v":""}]
[{"$f":"IF(H141=\"\",\"\",VLOOKUP(H141,MAESTROS!N$2:O$2000,2,FALSE))","v":""},{"$f":"IF(I141=\"\",\"\",VLOOKUP(I141,MAESTROS!P$2:Q$2000,2,FALSE))","v":""}]
[{"$f":"IF(H142=\"\",\"\",VLOOKUP(H142,MAESTROS!N$2:O$2000,2,FALSE))","v":""},{"$f":"IF(I142=\"\",\"\",VLOOKUP(I142,MAESTROS!P$2:Q$2000,2,FALSE))","v":""}]
[{"$f":"IF(H143=\"\",\"\",VLOOKUP(H143,MAESTROS!N$2:O$2000,2,FALSE))","v":""},{"$f":"IF(I143=\"\",\"\",VLOOKUP(I143,MAESTROS!P$2:Q$2000,2,FALSE))","v":""}]
[{"$f":"IF(H144=\"\",\"\",VLOOKUP(H144,MAESTROS!N$2:O$2000,2,FALSE))","v":""},{"$f":"IF(I144=\"\",\"\",VLOOKUP(I144,MAESTROS!P$2:Q$2000,2,FALSE))","v":""}]
[{"$f":"IF(H145=\"\",\"\",VLOOKUP(H145,MAESTROS!N$2:O$2000,2,FALSE))","v":""},{"$f":"IF(I145=\"\",\"\",VLOOKUP(I145,MAESTROS!P$2:Q$2000,2,FALSE))","v":""}]
[{"$f":"IF(H146=\"\",\"\",VLOOKUP(H146,MAESTROS!N$2:O$2000,2,FALSE))","v":""},{"$f":"IF(I146=\"\",\"\",VLOOKUP(I146,MAESTROS!P$2:Q$2000,2,FALSE))","v":""}]
[{"$f":"IF(H147=\"\",\"\",VLOOKUP(H147,MAESTROS!N$2:O$2000,2,FALSE))","v":""},{"$f":"IF(I147=\"\",\"\",VLOOKUP(I147,MAESTROS!P$2:Q$2000,2,FALSE))","v":""}]
[{"$f":"IF(H148=\"\",\"\",VLOOKUP(H148,MAESTROS!N$2:O$2000,2,FALSE))","v":""},{"$f":"IF(I148=\"\",\"\",VLOOKUP(I148,MAESTROS!P$2:Q$2000,2,FALSE))","v":""}]
[{"$f":"IF(H149=\"\",\"\",VLOOKUP(H149,MAESTROS!N$2:O$2000,2,FALSE))","v":""},{"$f":"IF(I149=\"\",\"\",VLOOKUP(I149,MAESTROS!P$2:Q$2000,2,FALSE))","v":""}]
[{"$f":"IF(H150=\"\",\"\",VLOOKUP(H150,MAESTROS!N$2:O$2000,2,FALSE))","v":""},{"$f":"IF(I150=\"\",\"\",VLOOKUP(I150,MAESTROS!P$2:Q$2000,2,FALSE))","v":""}]
[{"$f":"IF(H151=\"\",\"\",VLOOKUP(H151,MAESTROS!N$2:O$2000,2,FALSE))","v":""},{"$f":"IF(I151=\"\",\"\",VLOOKUP(I151,MAESTROS!P$2:Q$2000,2,FALSE))","v":""}]
[{"$f":"IF(H152=\"\",\"\",VLOOKUP(H152,MAESTROS!N$2:O$2000,2,FALSE))","v":""},{"$f":"IF(I152=\"\",\"\",VLOOKUP(I152,MAESTROS!P$2:Q$2000,2,FALSE))","v":""}]
[{"$f":"IF(H153=\"\",\"\",VLOOKUP(H153,MAESTROS!N$2:O$2000,2,FALSE))","v":""},{"$f":"IF(I153=\"\",\"\",VLOOKUP(I153,MAESTROS!P$2:Q$2000,2,FALSE))","v":""}]
[{"$f":"IF(H154=\"\",\"\",VLOOKUP(H154,MAESTROS!N$2:O$2000,2,FALSE))","v":""},{"$f":"IF(I154=\"\",\"\",VLOOKUP(I154,MAESTROS!P$2:Q$2000,2,FALSE))","v":""}]
[{"$f":"IF(H155=\"\",\"\",VLOOKUP(H155,MAESTROS!N$2:O$2000,2,FALSE))","v":""},{"$f":"IF(I155=\"\",\"\",VLOOKUP(I155,MAESTROS!P$2:Q$2000,2,FALSE))","v":""}]
[{"$f":"IF(H156=\"\",\"\",VLOOKUP(H156,MAESTROS!N$2:O$2000,2,FALSE))","v":""},{"$f":"IF(I156=\"\",\"\",VLOOKUP(I156,MAESTROS!P$2:Q$2000,2,FALSE))","v":""}]
[{"$f":"IF(H157=\"\",\"\",VLOOKUP(H157,MAESTROS!N$2:O$2000,2,FALSE))","v":""},{"$f":"IF(I157=\"\",\"\",VLOOKUP(I157,MAESTROS!P$2:Q$2000,2,FALSE))","v":""}]
[{"$f":"IF(H158=\"\",\"\",VLOOKUP(H158,MAESTROS!N$2:O$2000,2,FALSE))","v":""},{"$f":"IF(I158=\"\",\"\",VLOOKUP(I158,MAESTROS!P$2:Q$2000,2,FALSE))","v":""}]
[{"$f":"IF(H159=\"\",\"\",VLOOKUP(H159,MAESTROS!N$2:O$2000,2,FALSE))","v":""},{"$f":"IF(I159=\"\",\"\",VLOOKUP(I159,MAESTROS!P$2:Q$2000,2,FALSE))","v":""}]
[{"$f":"IF(H160=\"\",\"\",VLOOKUP(H160,MAESTROS!N$2:O$2000,2,FALSE))","v":""},{"$f":"IF(I160=\"\",\"\",VLOOKUP(I160,MAESTROS!P$2:Q$2000,2,FALSE))","v":""}]
[{"$f":"IF(H161=\"\",\"\",VLOOKUP(H161,MAESTROS!N$2:O$2000,2,FALSE))","v":""},{"$f":"IF(I161=\"\",\"\",VLOOKUP(I161,MAESTROS!P$2:Q$2000,2,FALSE))","v":""}]
[{"$f":"IF(H162=\"\",\"\",VLOOKUP(H162,MAESTROS!N$2:O$2000,2,FALSE))","v":""},{"$f":"IF(I162=\"\",\"\",VLOOKUP(I162,MAESTROS!P$2:Q$2000,2,FALSE))","v":""}]
[{"$f":"IF(H163=\"\",\"\",VLOOKUP(H163,MAESTROS!N$2:O$2000,2,FALSE))","v":""},{"$f":"IF(I163=\"\",\"\",VLOOKUP(I163,MAESTROS!P$2:Q$2000,2,FALSE))","v":""}]
[{"$f":"IF(H164=\"\",\"\",VLOOKUP(H164,MAESTROS!N$2:O$2000,2,FALSE))","v":""},{"$f":"IF(I164=\"\",\"\",VLOOKUP(I164,MAESTROS!P$2:Q$2000,2,FALSE))","v":""}]
[{"$f":"IF(H165=\"\",\"\",VLOOKUP(H165,MAESTROS!N$2:O$2000,2,FALSE))","v":""},{"$f":"IF(I165=\"\",\"\",VLOOKUP(I165,MAESTROS!P$2:Q$2000,2,FALSE))","v":""}]
[{"$f":"IF(H166=\"\",\"\",VLOOKUP(H166,MAESTROS!N$2:O$2000,2,FALSE))","v":""},{"$f":"IF(I166=\"\",\"\",VLOOKUP(I166,MAESTROS!P$2:Q$2000,2,FALSE))","v":""}]
[{"$f":"IF(H167=\"\",\"\",VLOOKUP(H167,MAESTROS!N$2:O$2000,2,FALSE))","v":""},{"$f":"IF(I167=\"\",\"\",VLOOKUP(I167,MAESTROS!P$2:Q$2000,2,FALSE))","v":""}]
[{"$f":"IF(H168=\"\",\"\",VLOOKUP(H168,MAESTROS!N$2:O$2000,2,FALSE))","v":""},{"$f":"IF(I168=\"\",\"\",VLOOKUP(I168,MAESTROS!P$2:Q$2000,2,FALSE))","v":""}]
[{"$f":"IF(H169=\"\",\"\",VLOOKUP(H169,MAESTROS!N$2:O$2000,2,FALSE))","v":""},{"$f":"IF(I169=\"\",\"\",VLOOKUP(I169,MAESTROS!P$2:Q$2000,2,FALSE))","v":""}]
[{"$f":"IF(H170=\"\",\"\",VLOOKUP(H170,MAESTROS!N$2:O$2000,2,FALSE))","v":""},{"$f":"IF(I170=\"\",\"\",VLOOKUP(I170,MAESTROS!P$2:Q$2000,2,FALSE))","v":""}]
[{"$f":"IF(H171=\"\",\"\",VLOOKUP(H171,MAESTROS!N$2:O$2000,2,FALSE))","v":""},{"$f":"IF(I171=\"\",\"\",VLOOKUP(I171,MAESTROS!P$2:Q$2000,2,FALSE))","v":""}]
[{"$f":"IF(H172=\"\",\"\",VLOOKUP(H172,MAESTROS!N$2:O$2000,2,FALSE))","v":""},{"$f":"IF(I172=\"\",\"\",VLOOKUP(I172,MAESTROS!P$2:Q$2000,2,FALSE))","v":""}]
[{"$f":"IF(H173=\"\",\"\",VLOOKUP(H173,MAESTROS!N$2:O$2000,2,FALSE))","v":""},{"$f":"IF(I173=\"\",\"\",VLOOKUP(I173,MAESTROS!P$2:Q$2000,2,FALSE))","v":""}]
[{"$f":"IF(H174=\"\",\"\",VLOOKUP(H174,MAESTROS!N$2:O$2000,2,FALSE))","v":""},{"$f":"IF(I174=\"\",\"\",VLOOKUP(I174,MAESTROS!P$2:Q$2000,2,FALSE))","v":""}]
[{"$f":"IF(H175=\"\",\"\",VLOOKUP(H175,MAESTROS!N$2:O$2000,2,FALSE))","v":""},{"$f":"IF(I175=\"\",\"\",VLOOKUP(I175,MAESTROS!P$2:Q$2000,2,FALSE))","v":""}]
[{"$f":"IF(H176=\"\",\"\",VLOOKUP(H176,MAESTROS!N$2:O$2000,2,FALSE))","v":""},{"$f":"IF(I176=\"\",\"\",VLOOKUP(I176,MAESTROS!P$2:Q$2000,2,FALSE))","v":""}]
[{"$f":"IF(H177=\"\",\"\",VLOOKUP(H177,MAESTROS!N$2:O$2000,2,FALSE))","v":""},{"$f":"IF(I177=\"\",\"\",VLOOKUP(I177,MAESTROS!P$2:Q$2000,2,FALSE))","v":""}]
[{"$f":"IF(H178=\"\",\"\",VLOOKUP(H178,MAESTROS!N$2:O$2000,2,FALSE))","v":""},{"$f":"IF(I178=\"\",\"\",VLOOKUP(I178,MAESTROS!P$2:Q$2000,2,FALSE))","v":""}]
[{"$f":"IF(H179=\"\",\"\",VLOOKUP(H179,MAESTROS!N$2:O$2000,2,FALSE))","v":""},{"$f":"IF(I179=\"\",\"\",VLOOKUP(I179,MAESTROS!P$2:Q$2000,2,FALSE))","v":""}]
[{"$f":"IF(H180=\"\",\"\",VLOOKUP(H180,MAESTROS!N$2:O$2000,2,FALSE))","v":""},{"$f":"IF(I180=\"\",\"\",VLOOKUP(I180,MAESTROS!P$2:Q$2000,2,FALSE))","v":""}]
[{"$f":"IF(H181=\"\",\"\",VLOOKUP(H181,MAESTROS!N$2:O$2000,2,FALSE))","v":""},{"$f":"IF(I181=\"\",\"\",VLOOKUP(I181,MAESTROS!P$2:Q$2000,2,FALSE))","v":""}]
[{"$f":"IF(H182=\"\",\"\",VLOOKUP(H182,MAESTROS!N$2:O$2000,2,FALSE))","v":""},{"$f":"IF(I182=\"\",\"\",VLOOKUP(I182,MAESTROS!P$2:Q$2000,2,FALSE))","v":""}]
[{"$f":"IF(H183=\"\",\"\",VLOOKUP(H183,MAESTROS!N$2:O$2000,2,FALSE))","v":""},{"$f":"IF(I183=\"\",\"\",VLOOKUP(I183,MAESTROS!P$2:Q$2000,2,FALSE))","v":""}]
[{"$f":"IF(H184=\"\",\"\",VLOOKUP(H184,MAESTROS!N$2:O$2000,2,FALSE))","v":""},{"$f":"IF(I184=\"\",\"\",VLOOKUP(I184,MAESTROS!P$2:Q$2000,2,FALSE))","v":""}]
[{"$f":"IF(H185=\"\",\"\",VLOOKUP(H185,MAESTROS!N$2:O$2000,2,FALSE))","v":""},{"$f":"IF(I185=\"\",\"\",VLOOKUP(I185,MAESTROS!P$2:Q$2000,2,FALSE))","v":""}]
[{"$f":"IF(H186=\"\",\"\",VLOOKUP(H186,MAESTROS!N$2:O$2000,2,FALSE))","v":""},{"$f":"IF(I186=\"\",\"\",VLOOKUP(I186,MAESTROS!P$2:Q$2000,2,FALSE))","v":""}]
[{"$f":"IF(H187=\"\",\"\",VLOOKUP(H187,MAESTROS!N$2:O$2000,2,FALSE))","v":""},{"$f":"IF(I187=\"\",\"\",VLOOKUP(I187,MAESTROS!P$2:Q$2000,2,FALSE))","v":""}]
[{"$f":"IF(H188=\"\",\"\",VLOOKUP(H188,MAESTROS!N$2:O$2000,2,FALSE))","v":""},{"$f":"IF(I188=\"\",\"\",VLOOKUP(I188,MAESTROS!P$2:Q$2000,2,FALSE))","v":""}]
[{"$f":"IF(H189=\"\",\"\",VLOOKUP(H189,MAESTROS!N$2:O$2000,2,FALSE))","v":""},{"$f":"IF(I189=\"\",\"\",VLOOKUP(I189,MAESTROS!P$2:Q$2000,2,FALSE))","v":""}]
[{"$f":"IF(H190=\"\",\"\",VLOOKUP(H190,MAESTROS!N$2:O$2000,2,FALSE))","v":""},{"$f":"IF(I190=\"\",\"\",VLOOKUP(I190,MAESTROS!P$2:Q$2000,2,FALSE))","v":""}]
[{"$f":"IF(H191=\"\",\"\",VLOOKUP(H191,MAESTROS!N$2:O$2000,2,FALSE))","v":""},{"$f":"IF(I191=\"\",\"\",VLOOKUP(I191,MAESTROS!P$2:Q$2000,2,FALSE))","v":""}]
[{"$f":"IF(H192=\"\",\"\",VLOOKUP(H192,MAESTROS!N$2:O$2000,2,FALSE))","v":""},{"$f":"IF(I192=\"\",\"\",VLOOKUP(I192,MAESTROS!P$2:Q$2000,2,FALSE))","v":""}]
[{"$f":"IF(H193=\"\",\"\",VLOOKUP(H193,MAESTROS!N$2:O$2000,2,FALSE))","v":""},{"$f":"IF(I193=\"\",\"\",VLOOKUP(I193,MAESTROS!P$2:Q$2000,2,FALSE))","v":""}]
[{"$f":"IF(H194=\"\",\"\",VLOOKUP(H194,MAESTROS!N$2:O$2000,2,FALSE))","v":""},{"$f":"IF(I194=\"\",\"\",VLOOKUP(I194,MAESTROS!P$2:Q$2000,2,FALSE))","v":""}]
[{"$f":"IF(H195=\"\",\"\",VLOOKUP(H195,MAESTROS!N$2:O$2000,2,FALSE))","v":""},{"$f":"IF(I195=\"\",\"\",VLOOKUP(I195,MAESTROS!P$2:Q$2000,2,FALSE))","v":""}]
[{"$f":"IF(H196=\"\",\"\",VLOOKUP(H196,MAESTROS!N$2:O$2000,2,FALSE))","v":""},{"$f":"IF(I196=\"\",\"\",VLOOKUP(I196,MAESTROS!P$2:Q$2000,2,FALSE))","v":""}]
[{"$f":"IF(H197=\"\",\"\",VLOOKUP(H197,MAESTROS!N$2:O$2000,2,FALSE))","v":""},{"$f":"IF(I197=\"\",\"\",VLOOKUP(I197,MAESTROS!P$2:Q$2000,2,FALSE))","v":""}]
[{"$f":"IF(H198=\"\",\"\",VLOOKUP(H198,MAESTROS!N$2:O$2000,2,FALSE))","v":""},{"$f":"IF(I198=\"\",\"\",VLOOKUP(I198,MAESTROS!P$2:Q$2000,2,FALSE))","v":""}]
[{"$f":"IF(H199=\"\",\"\",VLOOKUP(H199,MAESTROS!N$2:O$2000,2,FALSE))","v":""},{"$f":"IF(I199=\"\",\"\",VLOOKUP(I199,MAESTROS!P$2:Q$2000,2,FALSE))","v":""}]
[{"$f":"IF(H200=\"\",\"\",VLOOKUP(H200,MAESTROS!N$2:O$2000,2,FALSE))","v":""},{"$f":"IF(I200=\"\",\"\",VLOOKUP(I200,MAESTROS!P$2:Q$2000,2,FALSE))","v":""}]
[{"$f":"IF(H201=\"\",\"\",VLOOKUP(H201,MAESTROS!N$2:O$2000,2,FALSE))","v":""},{"$f":"IF(I201=\"\",\"\",VLOOKUP(I201,MAESTROS!P$2:Q$2000,2,FALSE))","v":""}]
[{"$f":"IF(H202=\"\",\"\",VLOOKUP(H202,MAESTROS!N$2:O$2000,2,FALSE))","v":""},{"$f":"IF(I202=\"\",\"\",VLOOKUP(I202,MAESTROS!P$2:Q$2000,2,FALSE))","v":""}]
[{"$f":"IF(H203=\"\",\"\",VLOOKUP(H203,MAESTROS!N$2:O$2000,2,FALSE))","v":""},{"$f":"IF(I203=\"\",\"\",VLOOKUP(I203,MAESTROS!P$2:Q$2000,2,FALSE))","v":""}]
[{"$f":"IF(H204=\"\",\"\",VLOOKUP(H204,MAESTROS!N$2:O$2000,2,FALSE))","v":""},{"$f":"IF(I204=\"\",\"\",VLOOKUP(I204,MAESTROS!P$2:Q$2000,2,FALSE))","v":""}]
[{"$f":"IF(H205=\"\",\"\",VLOOKUP(H205,MAESTROS!N$2:O$2000,2,FALSE))","v":""},{"$f":"IF(I205=\"\",\"\",VLOOKUP(I205,MAESTROS!P$2:Q$2000,2,FALSE))","v":""}]
[{"$f":"IF(H206=\"\",\"\",VLOOKUP(H206,MAESTROS!N$2:O$2000,2,FALSE))","v":""},{"$f":"IF(I206=\"\",\"\",VLOOKUP(I206,MAESTROS!P$2:Q$2000,2,FALSE))","v":""}]
[{"$f":"IF(H207=\"\",\"\",VLOOKUP(H207,MAESTROS!N$2:O$2000,2,FALSE))","v":""},{"$f":"IF(I207=\"\",\"\",VLOOKUP(I207,MAESTROS!P$2:Q$2000,2,FALSE))","v":""}]
[{"$f":"IF(H208=\"\",\"\",VLOOKUP(H208,MAESTROS!N$2:O$2000,2,FALSE))","v":""},{"$f":"IF(I208=\"\",\"\",VLOOKUP(I208,MAESTROS!P$2:Q$2000,2,FALSE))","v":""}]
[{"$f":"IF(H209=\"\",\"\",VLOOKUP(H209,MAESTROS!N$2:O$2000,2,FALSE))","v":""},{"$f":"IF(I209=\"\",\"\",VLOOKUP(I209,MAESTROS!P$2:Q$2000,2,FALSE))","v":""}]
[{"$f":"IF(H210=\"\",\"\",VLOOKUP(H210,MAESTROS!N$2:O$2000,2,FALSE))","v":""},{"$f":"IF(I210=\"\",\"\",VLOOKUP(I210,MAESTROS!P$2:Q$2000,2,FALSE))","v":""}]
[{"$f":"IF(H211=\"\",\"\",VLOOKUP(H211,MAESTROS!N$2:O$2000,2,FALSE))","v":""},{"$f":"IF(I211=\"\",\"\",VLOOKUP(I211,MAESTROS!P$2:Q$2000,2,FALSE))","v":""}]
[{"$f":"IF(H212=\"\",\"\",VLOOKUP(H212,MAESTROS!N$2:O$2000,2,FALSE))","v":""},{"$f":"IF(I212=\"\",\"\",VLOOKUP(I212,MAESTROS!P$2:Q$2000,2,FALSE))","v":""}]
[{"$f":"IF(H213=\"\",\"\",VLOOKUP(H213,MAESTROS!N$2:O$2000,2,FALSE))","v":""},{"$f":"IF(I213=\"\",\"\",VLOOKUP(I213,MAESTROS!P$2:Q$2000,2,FALSE))","v":""}]
[{"$f":"IF(H214=\"\",\"\",VLOOKUP(H214,MAESTROS!N$2:O$2000,2,FALSE))","v":""},{"$f":"IF(I214=\"\",\"\",VLOOKUP(I214,MAESTROS!P$2:Q$2000,2,FALSE))","v":""}]
[{"$f":"IF(H215=\"\",\"\",VLOOKUP(H215,MAESTROS!N$2:O$2000,2,FALSE))","v":""},{"$f":"IF(I215=\"\",\"\",VLOOKUP(I215,MAESTROS!P$2:Q$2000,2,FALSE))","v":""}]
[{"$f":"IF(H216=\"\",\"\",VLOOKUP(H216,MAESTROS!N$2:O$2000,2,FALSE))","v":""},{"$f":"IF(I216=\"\",\"\",VLOOKUP(I216,MAESTROS!P$2:Q$2000,2,FALSE))","v":""}]
[{"$f":"IF(H217=\"\",\"\",VLOOKUP(H217,MAESTROS!N$2:O$2000,2,FALSE))","v":""},{"$f":"IF(I217=\"\",\"\",VLOOKUP(I217,MAESTROS!P$2:Q$2000,2,FALSE))","v":""}]
[{"$f":"IF(H218=\"\",\"\",VLOOKUP(H218,MAESTROS!N$2:O$2000,2,FALSE))","v":""},{"$f":"IF(I218=\"\",\"\",VLOOKUP(I218,MAESTROS!P$2:Q$2000,2,FALSE))","v":""}]
[{"$f":"IF(H219=\"\",\"\",VLOOKUP(H219,MAESTROS!N$2:O$2000,2,FALSE))","v":""},{"$f":"IF(I219=\"\",\"\",VLOOKUP(I219,MAESTROS!P$2:Q$2000,2,FALSE))","v":""}]
[{"$f":"IF(H220=\"\",\"\",VLOOKUP(H220,MAESTROS!N$2:O$2000,2,FALSE))","v":""},{"$f":"IF(I220=\"\",\"\",VLOOKUP(I220,MAESTROS!P$2:Q$2000,2,FALSE))","v":""}]
[{"$f":"IF(H221=\"\",\"\",VLOOKUP(H221,MAESTROS!N$2:O$2000,2,FALSE))","v":""},{"$f":"IF(I221=\"\",\"\",VLOOKUP(I221,MAESTROS!P$2:Q$2000,2,FALSE))","v":""}]
[{"$f":"IF(H222=\"\",\"\",VLOOKUP(H222,MAESTROS!N$2:O$2000,2,FALSE))","v":""},{"$f":"IF(I222=\"\",\"\",VLOOKUP(I222,MAESTROS!P$2:Q$2000,2,FALSE))","v":""}]
[{"$f":"IF(H223=\"\",\"\",VLOOKUP(H223,MAESTROS!N$2:O$2000,2,FALSE))","v":""},{"$f":"IF(I223=\"\",\"\",VLOOKUP(I223,MAESTROS!P$2:Q$2000,2,FALSE))","v":""}]
[{"$f":"IF(H224=\"\",\"\",VLOOKUP(H224,MAESTROS!N$2:O$2000,2,FALSE))","v":""},{"$f":"IF(I224=\"\",\"\",VLOOKUP(I224,MAESTROS!P$2:Q$2000,2,FALSE))","v":""}]
[{"$f":"IF(H225=\"\",\"\",VLOOKUP(H225,MAESTROS!N$2:O$2000,2,FALSE))","v":""},{"$f":"IF(I225=\"\",\"\",VLOOKUP(I225,MAESTROS!P$2:Q$2000,2,FALSE))","v":""}]
[{"$f":"IF(H226=\"\",\"\",VLOOKUP(H226,MAESTROS!N$2:O$2000,2,FALSE))","v":""},{"$f":"IF(I226=\"\",\"\",VLOOKUP(I226,MAESTROS!P$2:Q$2000,2,FALSE))","v":""}]
[{"$f":"IF(H227=\"\",\"\",VLOOKUP(H227,MAESTROS!N$2:O$2000,2,FALSE))","v":""},{"$f":"IF(I227=\"\",\"\",VLOOKUP(I227,MAESTROS!P$2:Q$2000,2,FALSE))","v":""}]
[{"$f":"IF(H228=\"\",\"\",VLOOKUP(H228,MAESTROS!N$2:O$2000,2,FALSE))","v":""},{"$f":"IF(I228=\"\",\"\",VLOOKUP(I228,MAESTROS!P$2:Q$2000,2,FALSE))","v":""}]
[{"$f":"IF(H229=\"\",\"\",VLOOKUP(H229,MAESTROS!N$2:O$2000,2,FALSE))","v":""},{"$f":"IF(I229=\"\",\"\",VLOOKUP(I229,MAESTROS!P$2:Q$2000,2,FALSE))","v":""}]
[{"$f":"IF(H230=\"\",\"\",VLOOKUP(H230,MAESTROS!N$2:O$2000,2,FALSE))","v":""},{"$f":"IF(I230=\"\",\"\",VLOOKUP(I230,MAESTROS!P$2:Q$2000,2,FALSE))","v":""}]
[{"$f":"IF(H231=\"\",\"\",VLOOKUP(H231,MAESTROS!N$2:O$2000,2,FALSE))","v":""},{"$f":"IF(I231=\"\",\"\",VLOOKUP(I231,MAESTROS!P$2:Q$2000,2,FALSE))","v":""}]
[{"$f":"IF(H232=\"\",\"\",VLOOKUP(H232,MAESTROS!N$2:O$2000,2,FALSE))","v":""},{"$f":"IF(I232=\"\",\"\",VLOOKUP(I232,MAESTROS!P$2:Q$2000,2,FALSE))","v":""}]
[{"$f":"IF(H233=\"\",\"\",VLOOKUP(H233,MAESTROS!N$2:O$2000,2,FALSE))","v":""},{"$f":"IF(I233=\"\",\"\",VLOOKUP(I233,MAESTROS!P$2:Q$2000,2,FALSE))","v":""}]
[{"$f":"IF(H234=\"\",\"\",VLOOKUP(H234,MAESTROS!N$2:O$2000,2,FALSE))","v":""},{"$f":"IF(I234=\"\",\"\",VLOOKUP(I234,MAESTROS!P$2:Q$2000,2,FALSE))","v":""}]
[{"$f":"IF(H235=\"\",\"\",VLOOKUP(H235,MAESTROS!N$2:O$2000,2,FALSE))","v":""},{"$f":"IF(I235=\"\",\"\",VLOOKUP(I235,MAESTROS!P$2:Q$2000,2,FALSE))","v":""}]
[{"$f":"IF(H236=\"\",\"\",VLOOKUP(H236,MAESTROS!N$2:O$2000,2,FALSE))","v":""},{"$f":"IF(I236=\"\",\"\",VLOOKUP(I236,MAESTROS!P$2:Q$2000,2,FALSE))","v":""}]
[{"$f":"IF(H237=\"\",\"\",VLOOKUP(H237,MAESTROS!N$2:O$2000,2,FALSE))","v":""},{"$f":"IF(I237=\"\",\"\",VLOOKUP(I237,MAESTROS!P$2:Q$2000,2,FALSE))","v":""}]
[{"$f":"IF(H238=\"\",\"\",VLOOKUP(H238,MAESTROS!N$2:O$2000,2,FALSE))","v":""},{"$f":"IF(I238=\"\",\"\",VLOOKUP(I238,MAESTROS!P$2:Q$2000,2,FALSE))","v":""}]
[{"$f":"IF(H239=\"\",\"\",VLOOKUP(H239,MAESTROS!N$2:O$2000,2,FALSE))","v":""},{"$f":"IF(I239=\"\",\"\",VLOOKUP(I239,MAESTROS!P$2:Q$2000,2,FALSE))","v":""}]
[{"$f":"IF(H240=\"\",\"\",VLOOKUP(H240,MAESTROS!N$2:O$2000,2,FALSE))","v":""},{"$f":"IF(I240=\"\",\"\",VLOOKUP(I240,MAESTROS!P$2:Q$2000,2,FALSE))","v":""}]
[{"$f":"IF(H241=\"\",\"\",VLOOKUP(H241,MAESTROS!N$2:O$2000,2,FALSE))","v":""},{"$f":"IF(I241=\"\",\"\",VLOOKUP(I241,MAESTROS!P$2:Q$2000,2,FALSE))","v":""}]
[{"$f":"IF(H242=\"\",\"\",VLOOKUP(H242,MAESTROS!N$2:O$2000,2,FALSE))","v":""},{"$f":"IF(I242=\"\",\"\",VLOOKUP(I242,MAESTROS!P$2:Q$2000,2,FALSE))","v":""}]
[{"$f":"IF(H243=\"\",\"\",VLOOKUP(H243,MAESTROS!N$2:O$2000,2,FALSE))","v":""},{"$f":"IF(I243=\"\",\"\",VLOOKUP(I243,MAESTROS!P$2:Q$2000,2,FALSE))","v":""}]
[{"$f":"IF(H244=\"\",\"\",VLOOKUP(H244,MAESTROS!N$2:O$2000,2,FALSE))","v":""},{"$f":"IF(I244=\"\",\"\",VLOOKUP(I244,MAESTROS!P$2:Q$2000,2,FALSE))","v":""}]
[{"$f":"IF(H245=\"\",\"\",VLOOKUP(H245,MAESTROS!N$2:O$2000,2,FALSE))","v":""},{"$f":"IF(I245=\"\",\"\",VLOOKUP(I245,MAESTROS!P$2:Q$2000,2,FALSE))","v":""}]
[{"$f":"IF(H246=\"\",\"\",VLOOKUP(H246,MAESTROS!N$2:O$2000,2,FALSE))","v":""},{"$f":"IF(I246=\"\",\"\",VLOOKUP(I246,MAESTROS!P$2:Q$2000,2,FALSE))","v":""}]
[{"$f":"IF(H247=\"\",\"\",VLOOKUP(H247,MAESTROS!N$2:O$2000,2,FALSE))","v":""},{"$f":"IF(I247=\"\",\"\",VLOOKUP(I247,MAESTROS!P$2:Q$2000,2,FALSE))","v":""}]
[{"$f":"IF(H248=\"\",\"\",VLOOKUP(H248,MAESTROS!N$2:O$2000,2,FALSE))","v":""},{"$f":"IF(I248=\"\",\"\",VLOOKUP(I248,MAESTROS!P$2:Q$2000,2,FALSE))","v":""}]
[{"$f":"IF(H249=\"\",\"\",VLOOKUP(H249,MAESTROS!N$2:O$2000,2,FALSE))","v":""},{"$f":"IF(I249=\"\",\"\",VLOOKUP(I249,MAESTROS!P$2:Q$2000,2,FALSE))","v":""}]
[{"$f":"IF(H250=\"\",\"\",VLOOKUP(H250,MAESTROS!N$2:O$2000,2,FALSE))","v":""},{"$f":"IF(I250=\"\",\"\",VLOOKUP(I250,MAESTROS!P$2:Q$2000,2,FALSE))","v":""}]
[{"$f":"IF(H251=\"\",\"\",VLOOKUP(H251,MAESTROS!N$2:O$2000,2,FALSE))","v":""},{"$f":"IF(I251=\"\",\"\",VLOOKUP(I251,MAESTROS!P$2:Q$2000,2,FALSE))","v":""}]
[{"$f":"IF(H252=\"\",\"\",VLOOKUP(H252,MAESTROS!N$2:O$2000,2,FALSE))","v":""},{"$f":"IF(I252=\"\",\"\",VLOOKUP(I252,MAESTROS!P$2:Q$2000,2,FALSE))","v":""}]
[{"$f":"IF(H253=\"\",\"\",VLOOKUP(H253,MAESTROS!N$2:O$2000,2,FALSE))","v":""},{"$f":"IF(I253=\"\",\"\",VLOOKUP(I253,MAESTROS!P$2:Q$2000,2,FALSE))","v":""}]
[{"$f":"IF(H254=\"\",\"\",VLOOKUP(H254,MAESTROS!N$2:O$2000,2,FALSE))","v":""},{"$f":"IF(I254=\"\",\"\",VLOOKUP(I254,MAESTROS!P$2:Q$2000,2,FALSE))","v":""}]
[{"$f":"IF(H255=\"\",\"\",VLOOKUP(H255,MAESTROS!N$2:O$2000,2,FALSE))","v":""},{"$f":"IF(I255=\"\",\"\",VLOOKUP(I255,MAESTROS!P$2:Q$2000,2,FALSE))","v":""}]
[{"$f":"IF(H256=\"\",\"\",VLOOKUP(H256,MAESTROS!N$2:O$2000,2,FALSE))","v":""},{"$f":"IF(I256=\"\",\"\",VLOOKUP(I256,MAESTROS!P$2:Q$2000,2,FALSE))","v":""}]
[{"$f":"IF(H257=\"\",\"\",VLOOKUP(H257,MAESTROS!N$2:O$2000,2,FALSE))","v":""},{"$f":"IF(I257=\"\",\"\",VLOOKUP(I257,MAESTROS!P$2:Q$2000,2,FALSE))","v":""}]
[{"$f":"IF(H258=\"\",\"\",VLOOKUP(H258,MAESTROS!N$2:O$2000,2,FALSE))","v":""},{"$f":"IF(I258=\"\",\"\",VLOOKUP(I258,MAESTROS!P$2:Q$2000,2,FALSE))","v":""}]
[{"$f":"IF(H259=\"\",\"\",VLOOKUP(H259,MAESTROS!N$2:O$2000,2,FALSE))","v":""},{"$f":"IF(I259=\"\",\"\",VLOOKUP(I259,MAESTROS!P$2:Q$2000,2,FALSE))","v":""}]
[{"$f":"IF(H260=\"\",\"\",VLOOKUP(H260,MAESTROS!N$2:O$2000,2,FALSE))","v":""},{"$f":"IF(I260=\"\",\"\",VLOOKUP(I260,MAESTROS!P$2:Q$2000,2,FALSE))","v":""}]
[{"$f":"IF(H261=\"\",\"\",VLOOKUP(H261,MAESTROS!N$2:O$2000,2,FALSE))","v":""},{"$f":"IF(I261=\"\",\"\",VLOOKUP(I261,MAESTROS!P$2:Q$2000,2,FALSE))","v":""}]
[{"$f":"IF(H262=\"\",\"\",VLOOKUP(H262,MAESTROS!N$2:O$2000,2,FALSE))","v":""},{"$f":"IF(I262=\"\",\"\",VLOOKUP(I262,MAESTROS!P$2:Q$2000,2,FALSE))","v":""}]
[{"$f":"IF(H263=\"\",\"\",VLOOKUP(H263,MAESTROS!N$2:O$2000,2,FALSE))","v":""},{"$f":"IF(I263=\"\",\"\",VLOOKUP(I263,MAESTROS!P$2:Q$2000,2,FALSE))","v":""}]
[{"$f":"IF(H264=\"\",\"\",VLOOKUP(H264,MAESTROS!N$2:O$2000,2,FALSE))","v":""},{"$f":"IF(I264=\"\",\"\",VLOOKUP(I264,MAESTROS!P$2:Q$2000,2,FALSE))","v":""}]
[{"$f":"IF(H265=\"\",\"\",VLOOKUP(H265,MAESTROS!N$2:O$2000,2,FALSE))","v":""},{"$f":"IF(I265=\"\",\"\",VLOOKUP(I265,MAESTROS!P$2:Q$2000,2,FALSE))","v":""}]
[{"$f":"IF(H266=\"\",\"\",VLOOKUP(H266,MAESTROS!N$2:O$2000,2,FALSE))","v":""},{"$f":"IF(I266=\"\",\"\",VLOOKUP(I266,MAESTROS!P$2:Q$2000,2,FALSE))","v":""}]
[{"$f":"IF(H267=\"\",\"\",VLOOKUP(H267,MAESTROS!N$2:O$2000,2,FALSE))","v":""},{"$f":"IF(I267=\"\",\"\",VLOOKUP(I267,MAESTROS!P$2:Q$2000,2,FALSE))","v":""}]
[{"$f":"IF(H268=\"\",\"\",VLOOKUP(H268,MAESTROS!N$2:O$2000,2,FALSE))","v":""},{"$f":"IF(I268=\"\",\"\",VLOOKUP(I268,MAESTROS!P$2:Q$2000,2,FALSE))","v":""}]
[{"$f":"IF(H269=\"\",\"\",VLOOKUP(H269,MAESTROS!N$2:O$2000,2,FALSE))","v":""},{"$f":"IF(I269=\"\",\"\",VLOOKUP(I269,MAESTROS!P$2:Q$2000,2,FALSE))","v":""}]
[{"$f":"IF(H270=\"\",\"\",VLOOKUP(H270,MAESTROS!N$2:O$2000,2,FALSE))","v":""},{"$f":"IF(I270=\"\",\"\",VLOOKUP(I270,MAESTROS!P$2:Q$2000,2,FALSE))","v":""}]
[{"$f":"IF(H271=\"\",\"\",VLOOKUP(H271,MAESTROS!N$2:O$2000,2,FALSE))","v":""},{"$f":"IF(I271=\"\",\"\",VLOOKUP(I271,MAESTROS!P$2:Q$2000,2,FALSE))","v":""}]
[{"$f":"IF(H272=\"\",\"\",VLOOKUP(H272,MAESTROS!N$2:O$2000,2,FALSE))","v":""},{"$f":"IF(I272=\"\",\"\",VLOOKUP(I272,MAESTROS!P$2:Q$2000,2,FALSE))","v":""}]
[{"$f":"IF(H273=\"\",\"\",VLOOKUP(H273,MAESTROS!N$2:O$2000,2,FALSE))","v":""},{"$f":"IF(I273=\"\",\"\",VLOOKUP(I273,MAESTROS!P$2:Q$2000,2,FALSE))","v":""}]
[{"$f":"IF(H274=\"\",\"\",VLOOKUP(H274,MAESTROS!N$2:O$2000,2,FALSE))","v":""},{"$f":"IF(I274=\"\",\"\",VLOOKUP(I274,MAESTROS!P$2:Q$2000,2,FALSE))","v":""}]
[{"$f":"IF(H275=\"\",\"\",VLOOKUP(H275,MAESTROS!N$2:O$2000,2,FALSE))","v":""},{"$f":"IF(I275=\"\",\"\",VLOOKUP(I275,MAESTROS!P$2:Q$2000,2,FALSE))","v":""}]
[{"$f":"IF(H276=\"\",\"\",VLOOKUP(H276,MAESTROS!N$2:O$2000,2,FALSE))","v":""},{"$f":"IF(I276=\"\",\"\",VLOOKUP(I276,MAESTROS!P$2:Q$2000,2,FALSE))","v":""}]
[{"$f":"IF(H277=\"\",\"\",VLOOKUP(H277,MAESTROS!N$2:O$2000,2,FALSE))","v":""},{"$f":"IF(I277=\"\",\"\",VLOOKUP(I277,MAESTROS!P$2:Q$2000,2,FALSE))","v":""}]
[{"$f":"IF(H278=\"\",\"\",VLOOKUP(H278,MAESTROS!N$2:O$2000,2,FALSE))","v":""},{"$f":"IF(I278=\"\",\"\",VLOOKUP(I278,MAESTROS!P$2:Q$2000,2,FALSE))","v":""}]
[{"$f":"IF(H279=\"\",\"\",VLOOKUP(H279,MAESTROS!N$2:O$2000,2,FALSE))","v":""},{"$f":"IF(I279=\"\",\"\",VLOOKUP(I279,MAESTROS!P$2:Q$2000,2,FALSE))","v":""}]
[{"$f":"IF(H280=\"\",\"\",VLOOKUP(H280,MAESTROS!N$2:O$2000,2,FALSE))","v":""},{"$f":"IF(I280=\"\",\"\",VLOOKUP(I280,MAESTROS!P$2:Q$2000,2,FALSE))","v":""}]
[{"$f":"IF(H281=\"\",\"\",VLOOKUP(H281,MAESTROS!N$2:O$2000,2,FALSE))","v":""},{"$f":"IF(I281=\"\",\"\",VLOOKUP(I281,MAESTROS!P$2:Q$2000,2,FALSE))","v":""}]
[{"$f":"IF(H282=\"\",\"\",VLOOKUP(H282,MAESTROS!N$2:O$2000,2,FALSE))","v":""},{"$f":"IF(I282=\"\",\"\",VLOOKUP(I282,MAESTROS!P$2:Q$2000,2,FALSE))","v":""}]
[{"$f":"IF(H283=\"\",\"\",VLOOKUP(H283,MAESTROS!N$2:O$2000,2,FALSE))","v":""},{"$f":"IF(I283=\"\",\"\",VLOOKUP(I283,MAESTROS!P$2:Q$2000,2,FALSE))","v":""}]
[{"$f":"IF(H284=\"\",\"\",VLOOKUP(H284,MAESTROS!N$2:O$2000,2,FALSE))","v":""},{"$f":"IF(I284=\"\",\"\",VLOOKUP(I284,MAESTROS!P$2:Q$2000,2,FALSE))","v":""}]
[{"$f":"IF(H285=\"\",\"\",VLOOKUP(H285,MAESTROS!N$2:O$2000,2,FALSE))","v":""},{"$f":"IF(I285=\"\",\"\",VLOOKUP(I285,MAESTROS!P$2:Q$2000,2,FALSE))","v":""}]
[{"$f":"IF(H286=\"\",\"\",VLOOKUP(H286,MAESTROS!N$2:O$2000,2,FALSE))","v":""},{"$f":"IF(I286=\"\",\"\",VLOOKUP(I286,MAESTROS!P$2:Q$2000,2,FALSE))","v":""}]
[{"$f":"IF(H287=\"\",\"\",VLOOKUP(H287,MAESTROS!N$2:O$2000,2,FALSE))","v":""},{"$f":"IF(I287=\"\",\"\",VLOOKUP(I287,MAESTROS!P$2:Q$2000,2,FALSE))","v":""}]
[{"$f":"IF(H288=\"\",\"\",VLOOKUP(H288,MAESTROS!N$2:O$2000,2,FALSE))","v":""},{"$f":"IF(I288=\"\",\"\",VLOOKUP(I288,MAESTROS!P$2:Q$2000,2,FALSE))","v":""}]
[{"$f":"IF(H289=\"\",\"\",VLOOKUP(H289,MAESTROS!N$2:O$2000,2,FALSE))","v":""},{"$f":"IF(I289=\"\",\"\",VLOOKUP(I289,MAESTROS!P$2:Q$2000,2,FALSE))","v":""}]
[{"$f":"IF(H290=\"\",\"\",VLOOKUP(H290,MAESTROS!N$2:O$2000,2,FALSE))","v":""},{"$f":"IF(I290=\"\",\"\",VLOOKUP(I290,MAESTROS!P$2:Q$2000,2,FALSE))","v":""}]
[{"$f":"IF(H291=\"\",\"\",VLOOKUP(H291,MAESTROS!N$2:O$2000,2,FALSE))","v":""},{"$f":"IF(I291=\"\",\"\",VLOOKUP(I291,MAESTROS!P$2:Q$2000,2,FALSE))","v":""}]
[{"$f":"IF(H292=\"\",\"\",VLOOKUP(H292,MAESTROS!N$2:O$2000,2,FALSE))","v":""},{"$f":"IF(I292=\"\",\"\",VLOOKUP(I292,MAESTROS!P$2:Q$2000,2,FALSE))","v":""}]
[{"$f":"IF(H293=\"\",\"\",VLOOKUP(H293,MAESTROS!N$2:O$2000,2,FALSE))","v":""},{"$f":"IF(I293=\"\",\"\",VLOOKUP(I293,MAESTROS!P$2:Q$2000,2,FALSE))","v":""}]
[{"$f":"IF(H294=\"\",\"\",VLOOKUP(H294,MAESTROS!N$2:O$2000,2,FALSE))","v":""},{"$f":"IF(I294=\"\",\"\",VLOOKUP(I294,MAESTROS!P$2:Q$2000,2,FALSE))","v":""}]
[{"$f":"IF(H295=\"\",\"\",VLOOKUP(H295,MAESTROS!N$2:O$2000,2,FALSE))","v":""},{"$f":"IF(I295=\"\",\"\",VLOOKUP(I295,MAESTROS!P$2:Q$2000,2,FALSE))","v":""}]
[{"$f":"IF(H296=\"\",\"\",VLOOKUP(H296,MAESTROS!N$2:O$2000,2,FALSE))","v":""},{"$f":"IF(I296=\"\",\"\",VLOOKUP(I296,MAESTROS!P$2:Q$2000,2,FALSE))","v":""}]
[{"$f":"IF(H297=\"\",\"\",VLOOKUP(H297,MAESTROS!N$2:O$2000,2,FALSE))","v":""},{"$f":"IF(I297=\"\",\"\",VLOOKUP(I297,MAESTROS!P$2:Q$2000,2,FALSE))","v":""}]
[{"$f":"IF(H298=\"\",\"\",VLOOKUP(H298,MAESTROS!N$2:O$2000,2,FALSE))","v":""},{"$f":"IF(I298=\"\",\"\",VLOOKUP(I298,MAESTROS!P$2:Q$2000,2,FALSE))","v":""}]
[{"$f":"IF(H299=\"\",\"\",VLOOKUP(H299,MAESTROS!N$2:O$2000,2,FALSE))","v":""},{"$f":"IF(I299=\"\",\"\",VLOOKUP(I299,MAESTROS!P$2:Q$2000,2,FALSE))","v":""}]
[{"$f":"IF(H300=\"\",\"\",VLOOKUP(H300,MAESTROS!N$2:O$2000,2,FALSE))","v":""},{"$f":"IF(I300=\"\",\"\",VLOOKUP(I300,MAESTROS!P$2:Q$2000,2,FALSE))","v":""}]
[{"$f":"IF(H301=\"\",\"\",VLOOKUP(H301,MAESTROS!N$2:O$2000,2,FALSE))","v":""},{"$f":"IF(I301=\"\",\"\",VLOOKUP(I301,MAESTROS!P$2:Q$2000,2,FALSE))","v":""}]
[{"$f":"IF(H302=\"\",\"\",VLOOKUP(H302,MAESTROS!N$2:O$2000,2,FALSE))","v":""},{"$f":"IF(I302=\"\",\"\",VLOOKUP(I302,MAESTROS!P$2:Q$2000,2,FALSE))","v":""}]
[{"$f":"IF(H303=\"\",\"\",VLOOKUP(H303,MAESTROS!N$2:O$2000,2,FALSE))","v":""},{"$f":"IF(I303=\"\",\"\",VLOOKUP(I303,MAESTROS!P$2:Q$2000,2,FALSE))","v":""}]
[{"$f":"IF(H304=\"\",\"\",VLOOKUP(H304,MAESTROS!N$2:O$2000,2,FALSE))","v":""},{"$f":"IF(I304=\"\",\"\",VLOOKUP(I304,MAESTROS!P$2:Q$2000,2,FALSE))","v":""}]
[{"$f":"IF(H305=\"\",\"\",VLOOKUP(H305,MAESTROS!N$2:O$2000,2,FALSE))","v":""},{"$f":"IF(I305=\"\",\"\",VLOOKUP(I305,MAESTROS!P$2:Q$2000,2,FALSE))","v":""}]
[{"$f":"IF(H306=\"\",\"\",VLOOKUP(H306,MAESTROS!N$2:O$2000,2,FALSE))","v":""},{"$f":"IF(I306=\"\",\"\",VLOOKUP(I306,MAESTROS!P$2:Q$2000,2,FALSE))","v":""}]
[{"$f":"IF(H307=\"\",\"\",VLOOKUP(H307,MAESTROS!N$2:O$2000,2,FALSE))","v":""},{"$f":"IF(I307=\"\",\"\",VLOOKUP(I307,MAESTROS!P$2:Q$2000,2,FALSE))","v":""}]
[{"$f":"IF(H308=\"\",\"\",VLOOKUP(H308,MAESTROS!N$2:O$2000,2,FALSE))","v":""},{"$f":"IF(I308=\"\",\"\",VLOOKUP(I308,MAESTROS!P$2:Q$2000,2,FALSE))","v":""}]
[{"$f":"IF(H309=\"\",\"\",VLOOKUP(H309,MAESTROS!N$2:O$2000,2,FALSE))","v":""},{"$f":"IF(I309=\"\",\"\",VLOOKUP(I309,MAESTROS!P$2:Q$2000,2,FALSE))","v":""}]
[{"$f":"IF(H310=\"\",\"\",VLOOKUP(H310,MAESTROS!N$2:O$2000,2,FALSE))","v":""},{"$f":"IF(I310=\"\",\"\",VLOOKUP(I310,MAESTROS!P$2:Q$2000,2,FALSE))","v":""}]
[{"$f":"IF(H311=\"\",\"\",VLOOKUP(H311,MAESTROS!N$2:O$2000,2,FALSE))","v":""},{"$f":"IF(I311=\"\",\"\",VLOOKUP(I311,MAESTROS!P$2:Q$2000,2,FALSE))","v":""}]
[{"$f":"IF(H312=\"\",\"\",VLOOKUP(H312,MAESTROS!N$2:O$2000,2,FALSE))","v":""},{"$f":"IF(I312=\"\",\"\",VLOOKUP(I312,MAESTROS!P$2:Q$2000,2,FALSE))","v":""}]
[{"$f":"IF(H313=\"\",\"\",VLOOKUP(H313,MAESTROS!N$2:O$2000,2,FALSE))","v":""},{"$f":"IF(I313=\"\",\"\",VLOOKUP(I313,MAESTROS!P$2:Q$2000,2,FALSE))","v":""}]
[{"$f":"IF(H314=\"\",\"\",VLOOKUP(H314,MAESTROS!N$2:O$2000,2,FALSE))","v":""},{"$f":"IF(I314=\"\",\"\",VLOOKUP(I314,MAESTROS!P$2:Q$2000,2,FALSE))","v":""}]
[{"$f":"IF(H315=\"\",\"\",VLOOKUP(H315,MAESTROS!N$2:O$2000,2,FALSE))","v":""},{"$f":"IF(I315=\"\",\"\",VLOOKUP(I315,MAESTROS!P$2:Q$2000,2,FALSE))","v":""}]
[{"$f":"IF(H316=\"\",\"\",VLOOKUP(H316,MAESTROS!N$2:O$2000,2,FALSE))","v":""},{"$f":"IF(I316=\"\",\"\",VLOOKUP(I316,MAESTROS!P$2:Q$2000,2,FALSE))","v":""}]
[{"$f":"IF(H317=\"\",\"\",VLOOKUP(H317,MAESTROS!N$2:O$2000,2,FALSE))","v":""},{"$f":"IF(I317=\"\",\"\",VLOOKUP(I317,MAESTROS!P$2:Q$2000,2,FALSE))","v":""}]
[{"$f":"IF(H318=\"\",\"\",VLOOKUP(H318,MAESTROS!N$2:O$2000,2,FALSE))","v":""},{"$f":"IF(I318=\"\",\"\",VLOOKUP(I318,MAESTROS!P$2:Q$2000,2,FALSE))","v":""}]
[{"$f":"IF(H319=\"\",\"\",VLOOKUP(H319,MAESTROS!N$2:O$2000,2,FALSE))","v":""},{"$f":"IF(I319=\"\",\"\",VLOOKUP(I319,MAESTROS!P$2:Q$2000,2,FALSE))","v":""}]
[{"$f":"IF(H320=\"\",\"\",VLOOKUP(H320,MAESTROS!N$2:O$2000,2,FALSE))","v":""},{"$f":"IF(I320=\"\",\"\",VLOOKUP(I320,MAESTROS!P$2:Q$2000,2,FALSE))","v":""}]
[{"$f":"IF(H321=\"\",\"\",VLOOKUP(H321,MAESTROS!N$2:O$2000,2,FALSE))","v":""},{"$f":"IF(I321=\"\",\"\",VLOOKUP(I321,MAESTROS!P$2:Q$2000,2,FALSE))","v":""}]
[{"$f":"IF(H322=\"\",\"\",VLOOKUP(H322,MAESTROS!N$2:O$2000,2,FALSE))","v":""},{"$f":"IF(I322=\"\",\"\",VLOOKUP(I322,MAESTROS!P$2:Q$2000,2,FALSE))","v":""}]
[{"$f":"IF(H323=\"\",\"\",VLOOKUP(H323,MAESTROS!N$2:O$2000,2,FALSE))","v":""},{"$f":"IF(I323=\"\",\"\",VLOOKUP(I323,MAESTROS!P$2:Q$2000,2,FALSE))","v":""}]
[{"$f":"IF(H324=\"\",\"\",VLOOKUP(H324,MAESTROS!N$2:O$2000,2,FALSE))","v":""},{"$f":"IF(I324=\"\",\"\",VLOOKUP(I324,MAESTROS!P$2:Q$2000,2,FALSE))","v":""}]
[{"$f":"IF(H325=\"\",\"\",VLOOKUP(H325,MAESTROS!N$2:O$2000,2,FALSE))","v":""},{"$f":"IF(I325=\"\",\"\",VLOOKUP(I325,MAESTROS!P$2:Q$2000,2,FALSE))","v":""}]
[{"$f":"IF(H326=\"\",\"\",VLOOKUP(H326,MAESTROS!N$2:O$2000,2,FALSE))","v":""},{"$f":"IF(I326=\"\",\"\",VLOOKUP(I326,MAESTROS!P$2:Q$2000,2,FALSE))","v":""}]
[{"$f":"IF(H327=\"\",\"\",VLOOKUP(H327,MAESTROS!N$2:O$2000,2,FALSE))","v":""},{"$f":"IF(I327=\"\",\"\",VLOOKUP(I327,MAESTROS!P$2:Q$2000,2,FALSE))","v":""}]
[{"$f":"IF(H328=\"\",\"\",VLOOKUP(H328,MAESTROS!N$2:O$2000,2,FALSE))","v":""},{"$f":"IF(I328=\"\",\"\",VLOOKUP(I328,MAESTROS!P$2:Q$2000,2,FALSE))","v":""}]
[{"$f":"IF(H329=\"\",\"\",VLOOKUP(H329,MAESTROS!N$2:O$2000,2,FALSE))","v":""},{"$f":"IF(I329=\"\",\"\",VLOOKUP(I329,MAESTROS!P$2:Q$2000,2,FALSE))","v":""}]
[{"$f":"IF(H330=\"\",\"\",VLOOKUP(H330,MAESTROS!N$2:O$2000,2,FALSE))","v":""},{"$f":"IF(I330=\"\",\"\",VLOOKUP(I330,MAESTROS!P$2:Q$2000,2,FALSE))","v":""}]
[{"$f":"IF(H331=\"\",\"\",VLOOKUP(H331,MAESTROS!N$2:O$2000,2,FALSE))","v":""},{"$f":"IF(I331=\"\",\"\",VLOOKUP(I331,MAESTROS!P$2:Q$2000,2,FALSE))","v":""}]
[{"$f":"IF(H332=\"\",\"\",VLOOKUP(H332,MAESTROS!N$2:O$2000,2,FALSE))","v":""},{"$f":"IF(I332=\"\",\"\",VLOOKUP(I332,MAESTROS!P$2:Q$2000,2,FALSE))","v":""}]
[{"$f":"IF(H333=\"\",\"\",VLOOKUP(H333,MAESTROS!N$2:O$2000,2,FALSE))","v":""},{"$f":"IF(I333=\"\",\"\",VLOOKUP(I333,MAESTROS!P$2:Q$2000,2,FALSE))","v":""}]
[{"$f":"IF(H334=\"\",\"\",VLOOKUP(H334,MAESTROS!N$2:O$2000,2,FALSE))","v":""},{"$f":"IF(I334=\"\",\"\",VLOOKUP(I334,MAESTROS!P$2:Q$2000,2,FALSE))","v":""}]
[{"$f":"IF(H335=\"\",\"\",VLOOKUP(H335,MAESTROS!N$2:O$2000,2,FALSE))","v":""},{"$f":"IF(I335=\"\",\"\",VLOOKUP(I335,MAESTROS!P$2:Q$2000,2,FALSE))","v":""}]
[{"$f":"IF(H336=\"\",\"\",VLOOKUP(H336,MAESTROS!N$2:O$2000,2,FALSE))","v":""},{"$f":"IF(I336=\"\",\"\",VLOOKUP(I336,MAESTROS!P$2:Q$2000,2,FALSE))","v":""}]
[{"$f":"IF(H337=\"\",\"\",VLOOKUP(H337,MAESTROS!N$2:O$2000,2,FALSE))","v":""},{"$f":"IF(I337=\"\",\"\",VLOOKUP(I337,MAESTROS!P$2:Q$2000,2,FALSE))","v":""}]
[{"$f":"IF(H338=\"\",\"\",VLOOKUP(H338,MAESTROS!N$2:O$2000,2,FALSE))","v":""},{"$f":"IF(I338=\"\",\"\",VLOOKUP(I338,MAESTROS!P$2:Q$2000,2,FALSE))","v":""}]
[{"$f":"IF(H339=\"\",\"\",VLOOKUP(H339,MAESTROS!N$2:O$2000,2,FALSE))","v":""},{"$f":"IF(I339=\"\",\"\",VLOOKUP(I339,MAESTROS!P$2:Q$2000,2,FALSE))","v":""}]
[{"$f":"IF(H340=\"\",\"\",VLOOKUP(H340,MAESTROS!N$2:O$2000,2,FALSE))","v":""},{"$f":"IF(I340=\"\",\"\",VLOOKUP(I340,MAESTROS!P$2:Q$2000,2,FALSE))","v":""}]
[{"$f":"IF(H341=\"\",\"\",VLOOKUP(H341,MAESTROS!N$2:O$2000,2,FALSE))","v":""},{"$f":"IF(I341=\"\",\"\",VLOOKUP(I341,MAESTROS!P$2:Q$2000,2,FALSE))","v":""}]
[{"$f":"IF(H342=\"\",\"\",VLOOKUP(H342,MAESTROS!N$2:O$2000,2,FALSE))","v":""},{"$f":"IF(I342=\"\",\"\",VLOOKUP(I342,MAESTROS!P$2:Q$2000,2,FALSE))","v":""}]
[{"$f":"IF(H343=\"\",\"\",VLOOKUP(H343,MAESTROS!N$2:O$2000,2,FALSE))","v":""},{"$f":"IF(I343=\"\",\"\",VLOOKUP(I343,MAESTROS!P$2:Q$2000,2,FALSE))","v":""}]
[{"$f":"IF(H344=\"\",\"\",VLOOKUP(H344,MAESTROS!N$2:O$2000,2,FALSE))","v":""},{"$f":"IF(I344=\"\",\"\",VLOOKUP(I344,MAESTROS!P$2:Q$2000,2,FALSE))","v":""}]
[{"$f":"IF(H345=\"\",\"\",VLOOKUP(H345,MAESTROS!N$2:O$2000,2,FALSE))","v":""},{"$f":"IF(I345=\"\",\"\",VLOOKUP(I345,MAESTROS!P$2:Q$2000,2,FALSE))","v":""}]
[{"$f":"IF(H346=\"\",\"\",VLOOKUP(H346,MAESTROS!N$2:O$2000,2,FALSE))","v":""},{"$f":"IF(I346=\"\",\"\",VLOOKUP(I346,MAESTROS!P$2:Q$2000,2,FALSE))","v":""}]
[{"$f":"IF(H347=\"\",\"\",VLOOKUP(H347,MAESTROS!N$2:O$2000,2,FALSE))","v":""},{"$f":"IF(I347=\"\",\"\",VLOOKUP(I347,MAESTROS!P$2:Q$2000,2,FALSE))","v":""}]
[{"$f":"IF(H348=\"\",\"\",VLOOKUP(H348,MAESTROS!N$2:O$2000,2,FALSE))","v":""},{"$f":"IF(I348=\"\",\"\",VLOOKUP(I348,MAESTROS!P$2:Q$2000,2,FALSE))","v":""}]
[{"$f":"IF(H349=\"\",\"\",VLOOKUP(H349,MAESTROS!N$2:O$2000,2,FALSE))","v":""},{"$f":"IF(I349=\"\",\"\",VLOOKUP(I349,MAESTROS!P$2:Q$2000,2,FALSE))","v":""}]
[{"$f":"IF(H350=\"\",\"\",VLOOKUP(H350,MAESTROS!N$2:O$2000,2,FALSE))","v":""},{"$f":"IF(I350=\"\",\"\",VLOOKUP(I350,MAESTROS!P$2:Q$2000,2,FALSE))","v":""}]
[{"$f":"IF(H351=\"\",\"\",VLOOKUP(H351,MAESTROS!N$2:O$2000,2,FALSE))","v":""},{"$f":"IF(I351=\"\",\"\",VLOOKUP(I351,MAESTROS!P$2:Q$2000,2,FALSE))","v":""}]
[{"$f":"IF(H352=\"\",\"\",VLOOKUP(H352,MAESTROS!N$2:O$2000,2,FALSE))","v":""},{"$f":"IF(I352=\"\",\"\",VLOOKUP(I352,MAESTROS!P$2:Q$2000,2,FALSE))","v":""}]
[{"$f":"IF(H353=\"\",\"\",VLOOKUP(H353,MAESTROS!N$2:O$2000,2,FALSE))","v":""},{"$f":"IF(I353=\"\",\"\",VLOOKUP(I353,MAESTROS!P$2:Q$2000,2,FALSE))","v":""}]
[{"$f":"IF(H354=\"\",\"\",VLOOKUP(H354,MAESTROS!N$2:O$2000,2,FALSE))","v":""},{"$f":"IF(I354=\"\",\"\",VLOOKUP(I354,MAESTROS!P$2:Q$2000,2,FALSE))","v":""}]
[{"$f":"IF(H355=\"\",\"\",VLOOKUP(H355,MAESTROS!N$2:O$2000,2,FALSE))","v":""},{"$f":"IF(I355=\"\",\"\",VLOOKUP(I355,MAESTROS!P$2:Q$2000,2,FALSE))","v":""}]
[{"$f":"IF(H356=\"\",\"\",VLOOKUP(H356,MAESTROS!N$2:O$2000,2,FALSE))","v":""},{"$f":"IF(I356=\"\",\"\",VLOOKUP(I356,MAESTROS!P$2:Q$2000,2,FALSE))","v":""}]
[{"$f":"IF(H357=\"\",\"\",VLOOKUP(H357,MAESTROS!N$2:O$2000,2,FALSE))","v":""},{"$f":"IF(I357=\"\",\"\",VLOOKUP(I357,MAESTROS!P$2:Q$2000,2,FALSE))","v":""}]
[{"$f":"IF(H358=\"\",\"\",VLOOKUP(H358,MAESTROS!N$2:O$2000,2,FALSE))","v":""},{"$f":"IF(I358=\"\",\"\",VLOOKUP(I358,MAESTROS!P$2:Q$2000,2,FALSE))","v":""}]
[{"$f":"IF(H359=\"\",\"\",VLOOKUP(H359,MAESTROS!N$2:O$2000,2,FALSE))","v":""},{"$f":"IF(I359=\"\",\"\",VLOOKUP(I359,MAESTROS!P$2:Q$2000,2,FALSE))","v":""}]
[{"$f":"IF(H360=\"\",\"\",VLOOKUP(H360,MAESTROS!N$2:O$2000,2,FALSE))","v":""},{"$f":"IF(I360=\"\",\"\",VLOOKUP(I360,MAESTROS!P$2:Q$2000,2,FALSE))","v":""}]
[{"$f":"IF(H361=\"\",\"\",VLOOKUP(H361,MAESTROS!N$2:O$2000,2,FALSE))","v":""},{"$f":"IF(I361=\"\",\"\",VLOOKUP(I361,MAESTROS!P$2:Q$2000,2,FALSE))","v":""}]
[{"$f":"IF(H362=\"\",\"\",VLOOKUP(H362,MAESTROS!N$2:O$2000,2,FALSE))","v":""},{"$f":"IF(I362=\"\",\"\",VLOOKUP(I362,MAESTROS!P$2:Q$2000,2,FALSE))","v":""}]
[{"$f":"IF(H363=\"\",\"\",VLOOKUP(H363,MAESTROS!N$2:O$2000,2,FALSE))","v":""},{"$f":"IF(I363=\"\",\"\",VLOOKUP(I363,MAESTROS!P$2:Q$2000,2,FALSE))","v":""}]
[{"$f":"IF(H364=\"\",\"\",VLOOKUP(H364,MAESTROS!N$2:O$2000,2,FALSE))","v":""},{"$f":"IF(I364=\"\",\"\",VLOOKUP(I364,MAESTROS!P$2:Q$2000,2,FALSE))","v":""}]
[{"$f":"IF(H365=\"\",\"\",VLOOKUP(H365,MAESTROS!N$2:O$2000,2,FALSE))","v":""},{"$f":"IF(I365=\"\",\"\",VLOOKUP(I365,MAESTROS!P$2:Q$2000,2,FALSE))","v":""}]
[{"$f":"IF(H366=\"\",\"\",VLOOKUP(H366,MAESTROS!N$2:O$2000,2,FALSE))","v":""},{"$f":"IF(I366=\"\",\"\",VLOOKUP(I366,MAESTROS!P$2:Q$2000,2,FALSE))","v":""}]
[{"$f":"IF(H367=\"\",\"\",VLOOKUP(H367,MAESTROS!N$2:O$2000,2,FALSE))","v":""},{"$f":"IF(I367=\"\",\"\",VLOOKUP(I367,MAESTROS!P$2:Q$2000,2,FALSE))","v":""}]
[{"$f":"IF(H368=\"\",\"\",VLOOKUP(H368,MAESTROS!N$2:O$2000,2,FALSE))","v":""},{"$f":"IF(I368=\"\",\"\",VLOOKUP(I368,MAESTROS!P$2:Q$2000,2,FALSE))","v":""}]
[{"$f":"IF(H369=\"\",\"\",VLOOKUP(H369,MAESTROS!N$2:O$2000,2,FALSE))","v":""},{"$f":"IF(I369=\"\",\"\",VLOOKUP(I369,MAESTROS!P$2:Q$2000,2,FALSE))","v":""}]
[{"$f":"IF(H370=\"\",\"\",VLOOKUP(H370,MAESTROS!N$2:O$2000,2,FALSE))","v":""},{"$f":"IF(I370=\"\",\"\",VLOOKUP(I370,MAESTROS!P$2:Q$2000,2,FALSE))","v":""}]
[{"$f":"IF(H371=\"\",\"\",VLOOKUP(H371,MAESTROS!N$2:O$2000,2,FALSE))","v":""},{"$f":"IF(I371=\"\",\"\",VLOOKUP(I371,MAESTROS!P$2:Q$2000,2,FALSE))","v":""}]
[{"$f":"IF(H372=\"\",\"\",VLOOKUP(H372,MAESTROS!N$2:O$2000,2,FALSE))","v":""},{"$f":"IF(I372=\"\",\"\",VLOOKUP(I372,MAESTROS!P$2:Q$2000,2,FALSE))","v":""}]
[{"$f":"IF(H373=\"\",\"\",VLOOKUP(H373,MAESTROS!N$2:O$2000,2,FALSE))","v":""},{"$f":"IF(I373=\"\",\"\",VLOOKUP(I373,MAESTROS!P$2:Q$2000,2,FALSE))","v":""}]
[{"$f":"IF(H374=\"\",\"\",VLOOKUP(H374,MAESTROS!N$2:O$2000,2,FALSE))","v":""},{"$f":"IF(I374=\"\",\"\",VLOOKUP(I374,MAESTROS!P$2:Q$2000,2,FALSE))","v":""}]
[{"$f":"IF(H375=\"\",\"\",VLOOKUP(H375,MAESTROS!N$2:O$2000,2,FALSE))","v":""},{"$f":"IF(I375=\"\",\"\",VLOOKUP(I375,MAESTROS!P$2:Q$2000,2,FALSE))","v":""}]
[{"$f":"IF(H376=\"\",\"\",VLOOKUP(H376,MAESTROS!N$2:O$2000,2,FALSE))","v":""},{"$f":"IF(I376=\"\",\"\",VLOOKUP(I376,MAESTROS!P$2:Q$2000,2,FALSE))","v":""}]
[{"$f":"IF(H377=\"\",\"\",VLOOKUP(H377,MAESTROS!N$2:O$2000,2,FALSE))","v":""},{"$f":"IF(I377=\"\",\"\",VLOOKUP(I377,MAESTROS!P$2:Q$2000,2,FALSE))","v":""}]
[{"$f":"IF(H378=\"\",\"\",VLOOKUP(H378,MAESTROS!N$2:O$2000,2,FALSE))","v":""},{"$f":"IF(I378=\"\",\"\",VLOOKUP(I378,MAESTROS!P$2:Q$2000,2,FALSE))","v":""}]
[{"$f":"IF(H379=\"\",\"\",VLOOKUP(H379,MAESTROS!N$2:O$2000,2,FALSE))","v":""},{"$f":"IF(I379=\"\",\"\",VLOOKUP(I379,MAESTROS!P$2:Q$2000,2,FALSE))","v":""}]
[{"$f":"IF(H380=\"\",\"\",VLOOKUP(H380,MAESTROS!N$2:O$2000,2,FALSE))","v":""},{"$f":"IF(I380=\"\",\"\",VLOOKUP(I380,MAESTROS!P$2:Q$2000,2,FALSE))","v":""}]
[{"$f":"IF(H381=\"\",\"\",VLOOKUP(H381,MAESTROS!N$2:O$2000,2,FALSE))","v":""},{"$f":"IF(I381=\"\",\"\",VLOOKUP(I381,MAESTROS!P$2:Q$2000,2,FALSE))","v":""}]
[{"$f":"IF(H382=\"\",\"\",VLOOKUP(H382,MAESTROS!N$2:O$2000,2,FALSE))","v":""},{"$f":"IF(I382=\"\",\"\",VLOOKUP(I382,MAESTROS!P$2:Q$2000,2,FALSE))","v":""}]
[{"$f":"IF(H383=\"\",\"\",VLOOKUP(H383,MAESTROS!N$2:O$2000,2,FALSE))","v":""},{"$f":"IF(I383=\"\",\"\",VLOOKUP(I383,MAESTROS!P$2:Q$2000,2,FALSE))","v":""}]
[{"$f":"IF(H384=\"\",\"\",VLOOKUP(H384,MAESTROS!N$2:O$2000,2,FALSE))","v":""},{"$f":"IF(I384=\"\",\"\",VLOOKUP(I384,MAESTROS!P$2:Q$2000,2,FALSE))","v":""}]
[{"$f":"IF(H385=\"\",\"\",VLOOKUP(H385,MAESTROS!N$2:O$2000,2,FALSE))","v":""},{"$f":"IF(I385=\"\",\"\",VLOOKUP(I385,MAESTROS!P$2:Q$2000,2,FALSE))","v":""}]
[{"$f":"IF(H386=\"\",\"\",VLOOKUP(H386,MAESTROS!N$2:O$2000,2,FALSE))","v":""},{"$f":"IF(I386=\"\",\"\",VLOOKUP(I386,MAESTROS!P$2:Q$2000,2,FALSE))","v":""}]
[{"$f":"IF(H387=\"\",\"\",VLOOKUP(H387,MAESTROS!N$2:O$2000,2,FALSE))","v":""},{"$f":"IF(I387=\"\",\"\",VLOOKUP(I387,MAESTROS!P$2:Q$2000,2,FALSE))","v":""}]
[{"$f":"IF(H388=\"\",\"\",VLOOKUP(H388,MAESTROS!N$2:O$2000,2,FALSE))","v":""},{"$f":"IF(I388=\"\",\"\",VLOOKUP(I388,MAESTROS!P$2:Q$2000,2,FALSE))","v":""}]
[{"$f":"IF(H389=\"\",\"\",VLOOKUP(H389,MAESTROS!N$2:O$2000,2,FALSE))","v":""},{"$f":"IF(I389=\"\",\"\",VLOOKUP(I389,MAESTROS!P$2:Q$2000,2,FALSE))","v":""}]
[{"$f":"IF(H390=\"\",\"\",VLOOKUP(H390,MAESTROS!N$2:O$2000,2,FALSE))","v":""},{"$f":"IF(I390=\"\",\"\",VLOOKUP(I390,MAESTROS!P$2:Q$2000,2,FALSE))","v":""}]
[{"$f":"IF(H391=\"\",\"\",VLOOKUP(H391,MAESTROS!N$2:O$2000,2,FALSE))","v":""},{"$f":"IF(I391=\"\",\"\",VLOOKUP(I391,MAESTROS!P$2:Q$2000,2,FALSE))","v":""}]
[{"$f":"IF(H392=\"\",\"\",VLOOKUP(H392,MAESTROS!N$2:O$2000,2,FALSE))","v":""},{"$f":"IF(I392=\"\",\"\",VLOOKUP(I392,MAESTROS!P$2:Q$2000,2,FALSE))","v":""}]
[{"$f":"IF(H393=\"\",\"\",VLOOKUP(H393,MAESTROS!N$2:O$2000,2,FALSE))","v":""},{"$f":"IF(I393=\"\",\"\",VLOOKUP(I393,MAESTROS!P$2:Q$2000,2,FALSE))","v":""}]
[{"$f":"IF(H394=\"\",\"\",VLOOKUP(H394,MAESTROS!N$2:O$2000,2,FALSE))","v":""},{"$f":"IF(I394=\"\",\"\",VLOOKUP(I394,MAESTROS!P$2:Q$2000,2,FALSE))","v":""}]
[{"$f":"IF(H395=\"\",\"\",VLOOKUP(H395,MAESTROS!N$2:O$2000,2,FALSE))","v":""},{"$f":"IF(I395=\"\",\"\",VLOOKUP(I395,MAESTROS!P$2:Q$2000,2,FALSE))","v":""}]
[{"$f":"IF(H396=\"\",\"\",VLOOKUP(H396,MAESTROS!N$2:O$2000,2,FALSE))","v":""},{"$f":"IF(I396=\"\",\"\",VLOOKUP(I396,MAESTROS!P$2:Q$2000,2,FALSE))","v":""}]
[{"$f":"IF(H397=\"\",\"\",VLOOKUP(H397,MAESTROS!N$2:O$2000,2,FALSE))","v":""},{"$f":"IF(I397=\"\",\"\",VLOOKUP(I397,MAESTROS!P$2:Q$2000,2,FALSE))","v":""}]
[{"$f":"IF(H398=\"\",\"\",VLOOKUP(H398,MAESTROS!N$2:O$2000,2,FALSE))","v":""},{"$f":"IF(I398=\"\",\"\",VLOOKUP(I398,MAESTROS!P$2:Q$2000,2,FALSE))","v":""}]
[{"$f":"IF(H399=\"\",\"\",VLOOKUP(H399,MAESTROS!N$2:O$2000,2,FALSE))","v":""},{"$f":"IF(I399=\"\",\"\",VLOOKUP(I399,MAESTROS!P$2:Q$2000,2,FALSE))","v":""}]
[{"$f":"IF(H400=\"\",\"\",VLOOKUP(H400,MAESTROS!N$2:O$2000,2,FALSE))","v":""},{"$f":"IF(I400=\"\",\"\",VLOOKUP(I400,MAESTROS!P$2:Q$2000,2,FALSE))","v":""}]
[{"$f":"IF(H401=\"\",\"\",VLOOKUP(H401,MAESTROS!N$2:O$2000,2,FALSE))","v":""},{"$f":"IF(I401=\"\",\"\",VLOOKUP(I401,MAESTROS!P$2:Q$2000,2,FALSE))","v":""}]
[{"$f":"IF(H402=\"\",\"\",VLOOKUP(H402,MAESTROS!N$2:O$2000,2,FALSE))","v":""},{"$f":"IF(I402=\"\",\"\",VLOOKUP(I402,MAESTROS!P$2:Q$2000,2,FALSE))","v":""}]
[{"$f":"IF(H403=\"\",\"\",VLOOKUP(H403,MAESTROS!N$2:O$2000,2,FALSE))","v":""},{"$f":"IF(I403=\"\",\"\",VLOOKUP(I403,MAESTROS!P$2:Q$2000,2,FALSE))","v":""}]
[{"$f":"IF(H404=\"\",\"\",VLOOKUP(H404,MAESTROS!N$2:O$2000,2,FALSE))","v":""},{"$f":"IF(I404=\"\",\"\",VLOOKUP(I404,MAESTROS!P$2:Q$2000,2,FALSE))","v":""}]
[{"$f":"IF(H405=\"\",\"\",VLOOKUP(H405,MAESTROS!N$2:O$2000,2,FALSE))","v":""},{"$f":"IF(I405=\"\",\"\",VLOOKUP(I405,MAESTROS!P$2:Q$2000,2,FALSE))","v":""}]
[{"$f":"IF(H406=\"\",\"\",VLOOKUP(H406,MAESTROS!N$2:O$2000,2,FALSE))","v":""},{"$f":"IF(I406=\"\",\"\",VLOOKUP(I406,MAESTROS!P$2:Q$2000,2,FALSE))","v":""}]
[{"$f":"IF(H407=\"\",\"\",VLOOKUP(H407,MAESTROS!N$2:O$2000,2,FALSE))","v":""},{"$f":"IF(I407=\"\",\"\",VLOOKUP(I407,MAESTROS!P$2:Q$2000,2,FALSE))","v":""}]
[{"$f":"IF(H408=\"\",\"\",VLOOKUP(H408,MAESTROS!N$2:O$2000,2,FALSE))","v":""},{"$f":"IF(I408=\"\",\"\",VLOOKUP(I408,MAESTROS!P$2:Q$2000,2,FALSE))","v":""}]
[{"$f":"IF(H409=\"\",\"\",VLOOKUP(H409,MAESTROS!N$2:O$2000,2,FALSE))","v":""},{"$f":"IF(I409=\"\",\"\",VLOOKUP(I409,MAESTROS!P$2:Q$2000,2,FALSE))","v":""}]
[{"$f":"IF(H410=\"\",\"\",VLOOKUP(H410,MAESTROS!N$2:O$2000,2,FALSE))","v":""},{"$f":"IF(I410=\"\",\"\",VLOOKUP(I410,MAESTROS!P$2:Q$2000,2,FALSE))","v":""}]
[{"$f":"IF(H411=\"\",\"\",VLOOKUP(H411,MAESTROS!N$2:O$2000,2,FALSE))","v":""},{"$f":"IF(I411=\"\",\"\",VLOOKUP(I411,MAESTROS!P$2:Q$2000,2,FALSE))","v":""}]
[{"$f":"IF(H412=\"\",\"\",VLOOKUP(H412,MAESTROS!N$2:O$2000,2,FALSE))","v":""},{"$f":"IF(I412=\"\",\"\",VLOOKUP(I412,MAESTROS!P$2:Q$2000,2,FALSE))","v":""}]
[{"$f":"IF(H413=\"\",\"\",VLOOKUP(H413,MAESTROS!N$2:O$2000,2,FALSE))","v":""},{"$f":"IF(I413=\"\",\"\",VLOOKUP(I413,MAESTROS!P$2:Q$2000,2,FALSE))","v":""}]
[{"$f":"IF(H414=\"\",\"\",VLOOKUP(H414,MAESTROS!N$2:O$2000,2,FALSE))","v":""},{"$f":"IF(I414=\"\",\"\",VLOOKUP(I414,MAESTROS!P$2:Q$2000,2,FALSE))","v":""}]
[{"$f":"IF(H415=\"\",\"\",VLOOKUP(H415,MAESTROS!N$2:O$2000,2,FALSE))","v":""},{"$f":"IF(I415=\"\",\"\",VLOOKUP(I415,MAESTROS!P$2:Q$2000,2,FALSE))","v":""}]
[{"$f":"IF(H416=\"\",\"\",VLOOKUP(H416,MAESTROS!N$2:O$2000,2,FALSE))","v":""},{"$f":"IF(I416=\"\",\"\",VLOOKUP(I416,MAESTROS!P$2:Q$2000,2,FALSE))","v":""}]
[{"$f":"IF(H417=\"\",\"\",VLOOKUP(H417,MAESTROS!N$2:O$2000,2,FALSE))","v":""},{"$f":"IF(I417=\"\",\"\",VLOOKUP(I417,MAESTROS!P$2:Q$2000,2,FALSE))","v":""}]
[{"$f":"IF(H418=\"\",\"\",VLOOKUP(H418,MAESTROS!N$2:O$2000,2,FALSE))","v":""},{"$f":"IF(I418=\"\",\"\",VLOOKUP(I418,MAESTROS!P$2:Q$2000,2,FALSE))","v":""}]
[{"$f":"IF(H419=\"\",\"\",VLOOKUP(H419,MAESTROS!N$2:O$2000,2,FALSE))","v":""},{"$f":"IF(I419=\"\",\"\",VLOOKUP(I419,MAESTROS!P$2:Q$2000,2,FALSE))","v":""}]
[{"$f":"IF(H420=\"\",\"\",VLOOKUP(H420,MAESTROS!N$2:O$2000,2,FALSE))","v":""},{"$f":"IF(I420=\"\",\"\",VLOOKUP(I420,MAESTROS!P$2:Q$2000,2,FALSE))","v":""}]
[{"$f":"IF(H421=\"\",\"\",VLOOKUP(H421,MAESTROS!N$2:O$2000,2,FALSE))","v":""},{"$f":"IF(I421=\"\",\"\",VLOOKUP(I421,MAESTROS!P$2:Q$2000,2,FALSE))","v":""}]
[{"$f":"IF(H422=\"\",\"\",VLOOKUP(H422,MAESTROS!N$2:O$2000,2,FALSE))","v":""},{"$f":"IF(I422=\"\",\"\",VLOOKUP(I422,MAESTROS!P$2:Q$2000,2,FALSE))","v":""}]
[{"$f":"IF(H423=\"\",\"\",VLOOKUP(H423,MAESTROS!N$2:O$2000,2,FALSE))","v":""},{"$f":"IF(I423=\"\",\"\",VLOOKUP(I423,MAESTROS!P$2:Q$2000,2,FALSE))","v":""}]
[{"$f":"IF(H424=\"\",\"\",VLOOKUP(H424,MAESTROS!N$2:O$2000,2,FALSE))","v":""},{"$f":"IF(I424=\"\",\"\",VLOOKUP(I424,MAESTROS!P$2:Q$2000,2,FALSE))","v":""}]
[{"$f":"IF(H425=\"\",\"\",VLOOKUP(H425,MAESTROS!N$2:O$2000,2,FALSE))","v":""},{"$f":"IF(I425=\"\",\"\",VLOOKUP(I425,MAESTROS!P$2:Q$2000,2,FALSE))","v":""}]
[{"$f":"IF(H426=\"\",\"\",VLOOKUP(H426,MAESTROS!N$2:O$2000,2,FALSE))","v":""},{"$f":"IF(I426=\"\",\"\",VLOOKUP(I426,MAESTROS!P$2:Q$2000,2,FALSE))","v":""}]
[{"$f":"IF(H427=\"\",\"\",VLOOKUP(H427,MAESTROS!N$2:O$2000,2,FALSE))","v":""},{"$f":"IF(I427=\"\",\"\",VLOOKUP(I427,MAESTROS!P$2:Q$2000,2,FALSE))","v":""}]
[{"$f":"IF(H428=\"\",\"\",VLOOKUP(H428,MAESTROS!N$2:O$2000,2,FALSE))","v":""},{"$f":"IF(I428=\"\",\"\",VLOOKUP(I428,MAESTROS!P$2:Q$2000,2,FALSE))","v":""}]
[{"$f":"IF(H429=\"\",\"\",VLOOKUP(H429,MAESTROS!N$2:O$2000,2,FALSE))","v":""},{"$f":"IF(I429=\"\",\"\",VLOOKUP(I429,MAESTROS!P$2:Q$2000,2,FALSE))","v":""}]
[{"$f":"IF(H430=\"\",\"\",VLOOKUP(H430,MAESTROS!N$2:O$2000,2,FALSE))","v":""},{"$f":"IF(I430=\"\",\"\",VLOOKUP(I430,MAESTROS!P$2:Q$2000,2,FALSE))","v":""}]
[{"$f":"IF(H431=\"\",\"\",VLOOKUP(H431,MAESTROS!N$2:O$2000,2,FALSE))","v":""},{"$f":"IF(I431=\"\",\"\",VLOOKUP(I431,MAESTROS!P$2:Q$2000,2,FALSE))","v":""}]
[{"$f":"IF(H432=\"\",\"\",VLOOKUP(H432,MAESTROS!N$2:O$2000,2,FALSE))","v":""},{"$f":"IF(I432=\"\",\"\",VLOOKUP(I432,MAESTROS!P$2:Q$2000,2,FALSE))","v":""}]
[{"$f":"IF(H433=\"\",\"\",VLOOKUP(H433,MAESTROS!N$2:O$2000,2,FALSE))","v":""},{"$f":"IF(I433=\"\",\"\",VLOOKUP(I433,MAESTROS!P$2:Q$2000,2,FALSE))","v":""}]
[{"$f":"IF(H434=\"\",\"\",VLOOKUP(H434,MAESTROS!N$2:O$2000,2,FALSE))","v":""},{"$f":"IF(I434=\"\",\"\",VLOOKUP(I434,MAESTROS!P$2:Q$2000,2,FALSE))","v":""}]
[{"$f":"IF(H435=\"\",\"\",VLOOKUP(H435,MAESTROS!N$2:O$2000,2,FALSE))","v":""},{"$f":"IF(I435=\"\",\"\",VLOOKUP(I435,MAESTROS!P$2:Q$2000,2,FALSE))","v":""}]
[{"$f":"IF(H436=\"\",\"\",VLOOKUP(H436,MAESTROS!N$2:O$2000,2,FALSE))","v":""},{"$f":"IF(I436=\"\",\"\",VLOOKUP(I436,MAESTROS!P$2:Q$2000,2,FALSE))","v":""}]
[{"$f":"IF(H437=\"\",\"\",VLOOKUP(H437,MAESTROS!N$2:O$2000,2,FALSE))","v":""},{"$f":"IF(I437=\"\",\"\",VLOOKUP(I437,MAESTROS!P$2:Q$2000,2,FALSE))","v":""}]
[{"$f":"IF(H438=\"\",\"\",VLOOKUP(H438,MAESTROS!N$2:O$2000,2,FALSE))","v":""},{"$f":"IF(I438=\"\",\"\",VLOOKUP(I438,MAESTROS!P$2:Q$2000,2,FALSE))","v":""}]
[{"$f":"IF(H439=\"\",\"\",VLOOKUP(H439,MAESTROS!N$2:O$2000,2,FALSE))","v":""},{"$f":"IF(I439=\"\",\"\",VLOOKUP(I439,MAESTROS!P$2:Q$2000,2,FALSE))","v":""}]
[{"$f":"IF(H440=\"\",\"\",VLOOKUP(H440,MAESTROS!N$2:O$2000,2,FALSE))","v":""},{"$f":"IF(I440=\"\",\"\",VLOOKUP(I440,MAESTROS!P$2:Q$2000,2,FALSE))","v":""}]
[{"$f":"IF(H441=\"\",\"\",VLOOKUP(H441,MAESTROS!N$2:O$2000,2,FALSE))","v":""},{"$f":"IF(I441=\"\",\"\",VLOOKUP(I441,MAESTROS!P$2:Q$2000,2,FALSE))","v":""}]
[{"$f":"IF(H442=\"\",\"\",VLOOKUP(H442,MAESTROS!N$2:O$2000,2,FALSE))","v":""},{"$f":"IF(I442=\"\",\"\",VLOOKUP(I442,MAESTROS!P$2:Q$2000,2,FALSE))","v":""}]
[{"$f":"IF(H443=\"\",\"\",VLOOKUP(H443,MAESTROS!N$2:O$2000,2,FALSE))","v":""},{"$f":"IF(I443=\"\",\"\",VLOOKUP(I443,MAESTROS!P$2:Q$2000,2,FALSE))","v":""}]
[{"$f":"IF(H444=\"\",\"\",VLOOKUP(H444,MAESTROS!N$2:O$2000,2,FALSE))","v":""},{"$f":"IF(I444=\"\",\"\",VLOOKUP(I444,MAESTROS!P$2:Q$2000,2,FALSE))","v":""}]
[{"$f":"IF(H445=\"\",\"\",VLOOKUP(H445,MAESTROS!N$2:O$2000,2,FALSE))","v":""},{"$f":"IF(I445=\"\",\"\",VLOOKUP(I445,MAESTROS!P$2:Q$2000,2,FALSE))","v":""}]
[{"$f":"IF(H446=\"\",\"\",VLOOKUP(H446,MAESTROS!N$2:O$2000,2,FALSE))","v":""},{"$f":"IF(I446=\"\",\"\",VLOOKUP(I446,MAESTROS!P$2:Q$2000,2,FALSE))","v":""}]
[{"$f":"IF(H447=\"\",\"\",VLOOKUP(H447,MAESTROS!N$2:O$2000,2,FALSE))","v":""},{"$f":"IF(I447=\"\",\"\",VLOOKUP(I447,MAESTROS!P$2:Q$2000,2,FALSE))","v":""}]
[{"$f":"IF(H448=\"\",\"\",VLOOKUP(H448,MAESTROS!N$2:O$2000,2,FALSE))","v":""},{"$f":"IF(I448=\"\",\"\",VLOOKUP(I448,MAESTROS!P$2:Q$2000,2,FALSE))","v":""}]
[{"$f":"IF(H449=\"\",\"\",VLOOKUP(H449,MAESTROS!N$2:O$2000,2,FALSE))","v":""},{"$f":"IF(I449=\"\",\"\",VLOOKUP(I449,MAESTROS!P$2:Q$2000,2,FALSE))","v":""}]
[{"$f":"IF(H450=\"\",\"\",VLOOKUP(H450,MAESTROS!N$2:O$2000,2,FALSE))","v":""},{"$f":"IF(I450=\"\",\"\",VLOOKUP(I450,MAESTROS!P$2:Q$2000,2,FALSE))","v":""}]
[{"$f":"IF(H451=\"\",\"\",VLOOKUP(H451,MAESTROS!N$2:O$2000,2,FALSE))","v":""},{"$f":"IF(I451=\"\",\"\",VLOOKUP(I451,MAESTROS!P$2:Q$2000,2,FALSE))","v":""}]
[{"$f":"IF(H452=\"\",\"\",VLOOKUP(H452,MAESTROS!N$2:O$2000,2,FALSE))","v":""},{"$f":"IF(I452=\"\",\"\",VLOOKUP(I452,MAESTROS!P$2:Q$2000,2,FALSE))","v":""}]
[{"$f":"IF(H453=\"\",\"\",VLOOKUP(H453,MAESTROS!N$2:O$2000,2,FALSE))","v":""},{"$f":"IF(I453=\"\",\"\",VLOOKUP(I453,MAESTROS!P$2:Q$2000,2,FALSE))","v":""}]
[{"$f":"IF(H454=\"\",\"\",VLOOKUP(H454,MAESTROS!N$2:O$2000,2,FALSE))","v":""},{"$f":"IF(I454=\"\",\"\",VLOOKUP(I454,MAESTROS!P$2:Q$2000,2,FALSE))","v":""}]
[{"$f":"IF(H455=\"\",\"\",VLOOKUP(H455,MAESTROS!N$2:O$2000,2,FALSE))","v":""},{"$f":"IF(I455=\"\",\"\",VLOOKUP(I455,MAESTROS!P$2:Q$2000,2,FALSE))","v":""}]
[{"$f":"IF(H456=\"\",\"\",VLOOKUP(H456,MAESTROS!N$2:O$2000,2,FALSE))","v":""},{"$f":"IF(I456=\"\",\"\",VLOOKUP(I456,MAESTROS!P$2:Q$2000,2,FALSE))","v":""}]
[{"$f":"IF(H457=\"\",\"\",VLOOKUP(H457,MAESTROS!N$2:O$2000,2,FALSE))","v":""},{"$f":"IF(I457=\"\",\"\",VLOOKUP(I457,MAESTROS!P$2:Q$2000,2,FALSE))","v":""}]
[{"$f":"IF(H458=\"\",\"\",VLOOKUP(H458,MAESTROS!N$2:O$2000,2,FALSE))","v":""},{"$f":"IF(I458=\"\",\"\",VLOOKUP(I458,MAESTROS!P$2:Q$2000,2,FALSE))","v":""}]
[{"$f":"IF(H459=\"\",\"\",VLOOKUP(H459,MAESTROS!N$2:O$2000,2,FALSE))","v":""},{"$f":"IF(I459=\"\",\"\",VLOOKUP(I459,MAESTROS!P$2:Q$2000,2,FALSE))","v":""}]
[{"$f":"IF(H460=\"\",\"\",VLOOKUP(H460,MAESTROS!N$2:O$2000,2,FALSE))","v":""},{"$f":"IF(I460=\"\",\"\",VLOOKUP(I460,MAESTROS!P$2:Q$2000,2,FALSE))","v":""}]
[{"$f":"IF(H461=\"\",\"\",VLOOKUP(H461,MAESTROS!N$2:O$2000,2,FALSE))","v":""},{"$f":"IF(I461=\"\",\"\",VLOOKUP(I461,MAESTROS!P$2:Q$2000,2,FALSE))","v":""}]
[{"$f":"IF(H462=\"\",\"\",VLOOKUP(H462,MAESTROS!N$2:O$2000,2,FALSE))","v":""},{"$f":"IF(I462=\"\",\"\",VLOOKUP(I462,MAESTROS!P$2:Q$2000,2,FALSE))","v":""}]
[{"$f":"IF(H463=\"\",\"\",VLOOKUP(H463,MAESTROS!N$2:O$2000,2,FALSE))","v":""},{"$f":"IF(I463=\"\",\"\",VLOOKUP(I463,MAESTROS!P$2:Q$2000,2,FALSE))","v":""}]
[{"$f":"IF(H464=\"\",\"\",VLOOKUP(H464,MAESTROS!N$2:O$2000,2,FALSE))","v":""},{"$f":"IF(I464=\"\",\"\",VLOOKUP(I464,MAESTROS!P$2:Q$2000,2,FALSE))","v":""}]
[{"$f":"IF(H465=\"\",\"\",VLOOKUP(H465,MAESTROS!N$2:O$2000,2,FALSE))","v":""},{"$f":"IF(I465=\"\",\"\",VLOOKUP(I465,MAESTROS!P$2:Q$2000,2,FALSE))","v":""}]
[{"$f":"IF(H466=\"\",\"\",VLOOKUP(H466,MAESTROS!N$2:O$2000,2,FALSE))","v":""},{"$f":"IF(I466=\"\",\"\",VLOOKUP(I466,MAESTROS!P$2:Q$2000,2,FALSE))","v":""}]
[{"$f":"IF(H467=\"\",\"\",VLOOKUP(H467,MAESTROS!N$2:O$2000,2,FALSE))","v":""},{"$f":"IF(I467=\"\",\"\",VLOOKUP(I467,MAESTROS!P$2:Q$2000,2,FALSE))","v":""}]
[{"$f":"IF(H468=\"\",\"\",VLOOKUP(H468,MAESTROS!N$2:O$2000,2,FALSE))","v":""},{"$f":"IF(I468=\"\",\"\",VLOOKUP(I468,MAESTROS!P$2:Q$2000,2,FALSE))","v":""}]
[{"$f":"IF(H469=\"\",\"\",VLOOKUP(H469,MAESTROS!N$2:O$2000,2,FALSE))","v":""},{"$f":"IF(I469=\"\",\"\",VLOOKUP(I469,MAESTROS!P$2:Q$2000,2,FALSE))","v":""}]
[{"$f":"IF(H470=\"\",\"\",VLOOKUP(H470,MAESTROS!N$2:O$2000,2,FALSE))","v":""},{"$f":"IF(I470=\"\",\"\",VLOOKUP(I470,MAESTROS!P$2:Q$2000,2,FALSE))","v":""}]
[{"$f":"IF(H471=\"\",\"\",VLOOKUP(H471,MAESTROS!N$2:O$2000,2,FALSE))","v":""},{"$f":"IF(I471=\"\",\"\",VLOOKUP(I471,MAESTROS!P$2:Q$2000,2,FALSE))","v":""}]
[{"$f":"IF(H472=\"\",\"\",VLOOKUP(H472,MAESTROS!N$2:O$2000,2,FALSE))","v":""},{"$f":"IF(I472=\"\",\"\",VLOOKUP(I472,MAESTROS!P$2:Q$2000,2,FALSE))","v":""}]
[{"$f":"IF(H473=\"\",\"\",VLOOKUP(H473,MAESTROS!N$2:O$2000,2,FALSE))","v":""},{"$f":"IF(I473=\"\",\"\",VLOOKUP(I473,MAESTROS!P$2:Q$2000,2,FALSE))","v":""}]
[{"$f":"IF(H474=\"\",\"\",VLOOKUP(H474,MAESTROS!N$2:O$2000,2,FALSE))","v":""},{"$f":"IF(I474=\"\",\"\",VLOOKUP(I474,MAESTROS!P$2:Q$2000,2,FALSE))","v":""}]
[{"$f":"IF(H475=\"\",\"\",VLOOKUP(H475,MAESTROS!N$2:O$2000,2,FALSE))","v":""},{"$f":"IF(I475=\"\",\"\",VLOOKUP(I475,MAESTROS!P$2:Q$2000,2,FALSE))","v":""}]
[{"$f":"IF(H476=\"\",\"\",VLOOKUP(H476,MAESTROS!N$2:O$2000,2,FALSE))","v":""},{"$f":"IF(I476=\"\",\"\",VLOOKUP(I476,MAESTROS!P$2:Q$2000,2,FALSE))","v":""}]
[{"$f":"IF(H477=\"\",\"\",VLOOKUP(H477,MAESTROS!N$2:O$2000,2,FALSE))","v":""},{"$f":"IF(I477=\"\",\"\",VLOOKUP(I477,MAESTROS!P$2:Q$2000,2,FALSE))","v":""}]
[{"$f":"IF(H478=\"\",\"\",VLOOKUP(H478,MAESTROS!N$2:O$2000,2,FALSE))","v":""},{"$f":"IF(I478=\"\",\"\",VLOOKUP(I478,MAESTROS!P$2:Q$2000,2,FALSE))","v":""}]
[{"$f":"IF(H479=\"\",\"\",VLOOKUP(H479,MAESTROS!N$2:O$2000,2,FALSE))","v":""},{"$f":"IF(I479=\"\",\"\",VLOOKUP(I479,MAESTROS!P$2:Q$2000,2,FALSE))","v":""}]
[{"$f":"IF(H480=\"\",\"\",VLOOKUP(H480,MAESTROS!N$2:O$2000,2,FALSE))","v":""},{"$f":"IF(I480=\"\",\"\",VLOOKUP(I480,MAESTROS!P$2:Q$2000,2,FALSE))","v":""}]
[{"$f":"IF(H481=\"\",\"\",VLOOKUP(H481,MAESTROS!N$2:O$2000,2,FALSE))","v":""},{"$f":"IF(I481=\"\",\"\",VLOOKUP(I481,MAESTROS!P$2:Q$2000,2,FALSE))","v":""}]
[{"$f":"IF(H482=\"\",\"\",VLOOKUP(H482,MAESTROS!N$2:O$2000,2,FALSE))","v":""},{"$f":"IF(I482=\"\",\"\",VLOOKUP(I482,MAESTROS!P$2:Q$2000,2,FALSE))","v":""}]
[{"$f":"IF(H483=\"\",\"\",VLOOKUP(H483,MAESTROS!N$2:O$2000,2,FALSE))","v":""},{"$f":"IF(I483=\"\",\"\",VLOOKUP(I483,MAESTROS!P$2:Q$2000,2,FALSE))","v":""}]
[{"$f":"IF(H484=\"\",\"\",VLOOKUP(H484,MAESTROS!N$2:O$2000,2,FALSE))","v":""},{"$f":"IF(I484=\"\",\"\",VLOOKUP(I484,MAESTROS!P$2:Q$2000,2,FALSE))","v":""}]
[{"$f":"IF(H485=\"\",\"\",VLOOKUP(H485,MAESTROS!N$2:O$2000,2,FALSE))","v":""},{"$f":"IF(I485=\"\",\"\",VLOOKUP(I485,MAESTROS!P$2:Q$2000,2,FALSE))","v":""}]
[{"$f":"IF(H486=\"\",\"\",VLOOKUP(H486,MAESTROS!N$2:O$2000,2,FALSE))","v":""},{"$f":"IF(I486=\"\",\"\",VLOOKUP(I486,MAESTROS!P$2:Q$2000,2,FALSE))","v":""}]
[{"$f":"IF(H487=\"\",\"\",VLOOKUP(H487,MAESTROS!N$2:O$2000,2,FALSE))","v":""},{"$f":"IF(I487=\"\",\"\",VLOOKUP(I487,MAESTROS!P$2:Q$2000,2,FALSE))","v":""}]
[{"$f":"IF(H488=\"\",\"\",VLOOKUP(H488,MAESTROS!N$2:O$2000,2,FALSE))","v":""},{"$f":"IF(I488=\"\",\"\",VLOOKUP(I488,MAESTROS!P$2:Q$2000,2,FALSE))","v":""}]
[{"$f":"IF(H489=\"\",\"\",VLOOKUP(H489,MAESTROS!N$2:O$2000,2,FALSE))","v":""},{"$f":"IF(I489=\"\",\"\",VLOOKUP(I489,MAESTROS!P$2:Q$2000,2,FALSE))","v":""}]
[{"$f":"IF(H490=\"\",\"\",VLOOKUP(H490,MAESTROS!N$2:O$2000,2,FALSE))","v":""},{"$f":"IF(I490=\"\",\"\",VLOOKUP(I490,MAESTROS!P$2:Q$2000,2,FALSE))","v":""}]
[{"$f":"IF(H491=\"\",\"\",VLOOKUP(H491,MAESTROS!N$2:O$2000,2,FALSE))","v":""},{"$f":"IF(I491=\"\",\"\",VLOOKUP(I491,MAESTROS!P$2:Q$2000,2,FALSE))","v":""}]
[{"$f":"IF(H492=\"\",\"\",VLOOKUP(H492,MAESTROS!N$2:O$2000,2,FALSE))","v":""},{"$f":"IF(I492=\"\",\"\",VLOOKUP(I492,MAESTROS!P$2:Q$2000,2,FALSE))","v":""}]
[{"$f":"IF(H493=\"\",\"\",VLOOKUP(H493,MAESTROS!N$2:O$2000,2,FALSE))","v":""},{"$f":"IF(I493=\"\",\"\",VLOOKUP(I493,MAESTROS!P$2:Q$2000,2,FALSE))","v":""}]
[{"$f":"IF(H494=\"\",\"\",VLOOKUP(H494,MAESTROS!N$2:O$2000,2,FALSE))","v":""},{"$f":"IF(I494=\"\",\"\",VLOOKUP(I494,MAESTROS!P$2:Q$2000,2,FALSE))","v":""}]
[{"$f":"IF(H495=\"\",\"\",VLOOKUP(H495,MAESTROS!N$2:O$2000,2,FALSE))","v":""},{"$f":"IF(I495=\"\",\"\",VLOOKUP(I495,MAESTROS!P$2:Q$2000,2,FALSE))","v":""}]
[{"$f":"IF(H496=\"\",\"\",VLOOKUP(H496,MAESTROS!N$2:O$2000,2,FALSE))","v":""},{"$f":"IF(I496=\"\",\"\",VLOOKUP(I496,MAESTROS!P$2:Q$2000,2,FALSE))","v":""}]
[{"$f":"IF(H497=\"\",\"\",VLOOKUP(H497,MAESTROS!N$2:O$2000,2,FALSE))","v":""},{"$f":"IF(I497=\"\",\"\",VLOOKUP(I497,MAESTROS!P$2:Q$2000,2,FALSE))","v":""}]
[{"$f":"IF(H498=\"\",\"\",VLOOKUP(H498,MAESTROS!N$2:O$2000,2,FALSE))","v":""},{"$f":"IF(I498=\"\",\"\",VLOOKUP(I498,MAESTROS!P$2:Q$2000,2,FALSE))","v":""}]
[{"$f":"IF(H499=\"\",\"\",VLOOKUP(H499,MAESTROS!N$2:O$2000,2,FALSE))","v":""},{"$f":"IF(I499=\"\",\"\",VLOOKUP(I499,MAESTROS!P$2:Q$2000,2,FALSE))","v":""}]
[{"$f":"IF(H500=\"\",\"\",VLOOKUP(H500,MAESTROS!N$2:O$2000,2,FALSE))","v":""},{"$f":"IF(I500=\"\",\"\",VLOOKUP(I500,MAESTROS!P$2:Q$2000,2,FALSE))","v":""}]
[{"$f":"IF(H501=\"\",\"\",VLOOKUP(H501,MAESTROS!N$2:O$2000,2,FALSE))","v":""},{"$f":"IF(I501=\"\",\"\",VLOOKUP(I501,MAESTROS!P$2:Q$2000,2,FALSE))","v":""}]
[{"$f":"IF(H502=\"\",\"\",VLOOKUP(H502,MAESTROS!N$2:O$2000,2,FALSE))","v":""},{"$f":"IF(I502=\"\",\"\",VLOOKUP(I502,MAESTROS!P$2:Q$2000,2,FALSE))","v":""}]
[{"$f":"IF(H503=\"\",\"\",VLOOKUP(H503,MAESTROS!N$2:O$2000,2,FALSE))","v":""},{"$f":"IF(I503=\"\",\"\",VLOOKUP(I503,MAESTROS!P$2:Q$2000,2,FALSE))","v":""}]
[{"$f":"IF(H504=\"\",\"\",VLOOKUP(H504,MAESTROS!N$2:O$2000,2,FALSE))","v":""},{"$f":"IF(I504=\"\",\"\",VLOOKUP(I504,MAESTROS!P$2:Q$2000,2,FALSE))","v":""}]
[{"$f":"IF(H505=\"\",\"\",VLOOKUP(H505,MAESTROS!N$2:O$2000,2,FALSE))","v":""},{"$f":"IF(I505=\"\",\"\",VLOOKUP(I505,MAESTROS!P$2:Q$2000,2,FALSE))","v":""}]
[{"$f":"IF(H506=\"\",\"\",VLOOKUP(H506,MAESTROS!N$2:O$2000,2,FALSE))","v":""},{"$f":"IF(I506=\"\",\"\",VLOOKUP(I506,MAESTROS!P$2:Q$2000,2,FALSE))","v":""}]
[{"$f":"IF(H507=\"\",\"\",VLOOKUP(H507,MAESTROS!N$2:O$2000,2,FALSE))","v":""},{"$f":"IF(I507=\"\",\"\",VLOOKUP(I507,MAESTROS!P$2:Q$2000,2,FALSE))","v":""}]
[{"$f":"IF(H508=\"\",\"\",VLOOKUP(H508,MAESTROS!N$2:O$2000,2,FALSE))","v":""},{"$f":"IF(I508=\"\",\"\",VLOOKUP(I508,MAESTROS!P$2:Q$2000,2,FALSE))","v":""}]
[{"$f":"IF(H509=\"\",\"\",VLOOKUP(H509,MAESTROS!N$2:O$2000,2,FALSE))","v":""},{"$f":"IF(I509=\"\",\"\",VLOOKUP(I509,MAESTROS!P$2:Q$2000,2,FALSE))","v":""}]
[{"$f":"IF(H510=\"\",\"\",VLOOKUP(H510,MAESTROS!N$2:O$2000,2,FALSE))","v":""},{"$f":"IF(I510=\"\",\"\",VLOOKUP(I510,MAESTROS!P$2:Q$2000,2,FALSE))","v":""}]
[{"$f":"IF(H511=\"\",\"\",VLOOKUP(H511,MAESTROS!N$2:O$2000,2,FALSE))","v":""},{"$f":"IF(I511=\"\",\"\",VLOOKUP(I511,MAESTROS!P$2:Q$2000,2,FALSE))","v":""}]
[{"$f":"IF(H512=\"\",\"\",VLOOKUP(H512,MAESTROS!N$2:O$2000,2,FALSE))","v":""},{"$f":"IF(I512=\"\",\"\",VLOOKUP(I512,MAESTROS!P$2:Q$2000,2,FALSE))","v":""}]
[{"$f":"IF(H513=\"\",\"\",VLOOKUP(H513,MAESTROS!N$2:O$2000,2,FALSE))","v":""},{"$f":"IF(I513=\"\",\"\",VLOOKUP(I513,MAESTROS!P$2:Q$2000,2,FALSE))","v":""}]
[{"$f":"IF(H514=\"\",\"\",VLOOKUP(H514,MAESTROS!N$2:O$2000,2,FALSE))","v":""},{"$f":"IF(I514=\"\",\"\",VLOOKUP(I514,MAESTROS!P$2:Q$2000,2,FALSE))","v":""}]
[{"$f":"IF(H515=\"\",\"\",VLOOKUP(H515,MAESTROS!N$2:O$2000,2,FALSE))","v":""},{"$f":"IF(I515=\"\",\"\",VLOOKUP(I515,MAESTROS!P$2:Q$2000,2,FALSE))","v":""}]
[{"$f":"IF(H516=\"\",\"\",VLOOKUP(H516,MAESTROS!N$2:O$2000,2,FALSE))","v":""},{"$f":"IF(I516=\"\",\"\",VLOOKUP(I516,MAESTROS!P$2:Q$2000,2,FALSE))","v":""}]
[{"$f":"IF(H517=\"\",\"\",VLOOKUP(H517,MAESTROS!N$2:O$2000,2,FALSE))","v":""},{"$f":"IF(I517=\"\",\"\",VLOOKUP(I517,MAESTROS!P$2:Q$2000,2,FALSE))","v":""}]
[{"$f":"IF(H518=\"\",\"\",VLOOKUP(H518,MAESTROS!N$2:O$2000,2,FALSE))","v":""},{"$f":"IF(I518=\"\",\"\",VLOOKUP(I518,MAESTROS!P$2:Q$2000,2,FALSE))","v":""}]
[{"$f":"IF(H519=\"\",\"\",VLOOKUP(H519,MAESTROS!N$2:O$2000,2,FALSE))","v":""},{"$f":"IF(I519=\"\",\"\",VLOOKUP(I519,MAESTROS!P$2:Q$2000,2,FALSE))","v":""}]
[{"$f":"IF(H520=\"\",\"\",VLOOKUP(H520,MAESTROS!N$2:O$2000,2,FALSE))","v":""},{"$f":"IF(I520=\"\",\"\",VLOOKUP(I520,MAESTROS!P$2:Q$2000,2,FALSE))","v":""}]
[{"$f":"IF(H521=\"\",\"\",VLOOKUP(H521,MAESTROS!N$2:O$2000,2,FALSE))","v":""},{"$f":"IF(I521=\"\",\"\",VLOOKUP(I521,MAESTROS!P$2:Q$2000,2,FALSE))","v":""}]
[{"$f":"IF(H522=\"\",\"\",VLOOKUP(H522,MAESTROS!N$2:O$2000,2,FALSE))","v":""},{"$f":"IF(I522=\"\",\"\",VLOOKUP(I522,MAESTROS!P$2:Q$2000,2,FALSE))","v":""}]
[{"$f":"IF(H523=\"\",\"\",VLOOKUP(H523,MAESTROS!N$2:O$2000,2,FALSE))","v":""},{"$f":"IF(I523=\"\",\"\",VLOOKUP(I523,MAESTROS!P$2:Q$2000,2,FALSE))","v":""}]
[{"$f":"IF(H524=\"\",\"\",VLOOKUP(H524,MAESTROS!N$2:O$2000,2,FALSE))","v":""},{"$f":"IF(I524=\"\",\"\",VLOOKUP(I524,MAESTROS!P$2:Q$2000,2,FALSE))","v":""}]
[{"$f":"IF(H525=\"\",\"\",VLOOKUP(H525,MAESTROS!N$2:O$2000,2,FALSE))","v":""},{"$f":"IF(I525=\"\",\"\",VLOOKUP(I525,MAESTROS!P$2:Q$2000,2,FALSE))","v":""}]
[{"$f":"IF(H526=\"\",\"\",VLOOKUP(H526,MAESTROS!N$2:O$2000,2,FALSE))","v":""},{"$f":"IF(I526=\"\",\"\",VLOOKUP(I526,MAESTROS!P$2:Q$2000,2,FALSE))","v":""}]
[{"$f":"IF(H527=\"\",\"\",VLOOKUP(H527,MAESTROS!N$2:O$2000,2,FALSE))","v":""},{"$f":"IF(I527=\"\",\"\",VLOOKUP(I527,MAESTROS!P$2:Q$2000,2,FALSE))","v":""}]
[{"$f":"IF(H528=\"\",\"\",VLOOKUP(H528,MAESTROS!N$2:O$2000,2,FALSE))","v":""},{"$f":"IF(I528=\"\",\"\",VLOOKUP(I528,MAESTROS!P$2:Q$2000,2,FALSE))","v":""}]
[{"$f":"IF(H529=\"\",\"\",VLOOKUP(H529,MAESTROS!N$2:O$2000,2,FALSE))","v":""},{"$f":"IF(I529=\"\",\"\",VLOOKUP(I529,MAESTROS!P$2:Q$2000,2,FALSE))","v":""}]
[{"$f":"IF(H530=\"\",\"\",VLOOKUP(H530,MAESTROS!N$2:O$2000,2,FALSE))","v":""},{"$f":"IF(I530=\"\",\"\",VLOOKUP(I530,MAESTROS!P$2:Q$2000,2,FALSE))","v":""}]
[{"$f":"IF(H531=\"\",\"\",VLOOKUP(H531,MAESTROS!N$2:O$2000,2,FALSE))","v":""},{"$f":"IF(I531=\"\",\"\",VLOOKUP(I531,MAESTROS!P$2:Q$2000,2,FALSE))","v":""}]
[{"$f":"IF(H532=\"\",\"\",VLOOKUP(H532,MAESTROS!N$2:O$2000,2,FALSE))","v":""},{"$f":"IF(I532=\"\",\"\",VLOOKUP(I532,MAESTROS!P$2:Q$2000,2,FALSE))","v":""}]
[{"$f":"IF(H533=\"\",\"\",VLOOKUP(H533,MAESTROS!N$2:O$2000,2,FALSE))","v":""},{"$f":"IF(I533=\"\",\"\",VLOOKUP(I533,MAESTROS!P$2:Q$2000,2,FALSE))","v":""}]
[{"$f":"IF(H534=\"\",\"\",VLOOKUP(H534,MAESTROS!N$2:O$2000,2,FALSE))","v":""},{"$f":"IF(I534=\"\",\"\",VLOOKUP(I534,MAESTROS!P$2:Q$2000,2,FALSE))","v":""}]
[{"$f":"IF(H535=\"\",\"\",VLOOKUP(H535,MAESTROS!N$2:O$2000,2,FALSE))","v":""},{"$f":"IF(I535=\"\",\"\",VLOOKUP(I535,MAESTROS!P$2:Q$2000,2,FALSE))","v":""}]
[{"$f":"IF(H536=\"\",\"\",VLOOKUP(H536,MAESTROS!N$2:O$2000,2,FALSE))","v":""},{"$f":"IF(I536=\"\",\"\",VLOOKUP(I536,MAESTROS!P$2:Q$2000,2,FALSE))","v":""}]
[{"$f":"IF(H537=\"\",\"\",VLOOKUP(H537,MAESTROS!N$2:O$2000,2,FALSE))","v":""},{"$f":"IF(I537=\"\",\"\",VLOOKUP(I537,MAESTROS!P$2:Q$2000,2,FALSE))","v":""}]
[{"$f":"IF(H538=\"\",\"\",VLOOKUP(H538,MAESTROS!N$2:O$2000,2,FALSE))","v":""},{"$f":"IF(I538=\"\",\"\",VLOOKUP(I538,MAESTROS!P$2:Q$2000,2,FALSE))","v":""}]
[{"$f":"IF(H539=\"\",\"\",VLOOKUP(H539,MAESTROS!N$2:O$2000,2,FALSE))","v":""},{"$f":"IF(I539=\"\",\"\",VLOOKUP(I539,MAESTROS!P$2:Q$2000,2,FALSE))","v":""}]
[{"$f":"IF(H540=\"\",\"\",VLOOKUP(H540,MAESTROS!N$2:O$2000,2,FALSE))","v":""},{"$f":"IF(I540=\"\",\"\",VLOOKUP(I540,MAESTROS!P$2:Q$2000,2,FALSE))","v":""}]
[{"$f":"IF(H541=\"\",\"\",VLOOKUP(H541,MAESTROS!N$2:O$2000,2,FALSE))","v":""},{"$f":"IF(I541=\"\",\"\",VLOOKUP(I541,MAESTROS!P$2:Q$2000,2,FALSE))","v":""}]
[{"$f":"IF(H542=\"\",\"\",VLOOKUP(H542,MAESTROS!N$2:O$2000,2,FALSE))","v":""},{"$f":"IF(I542=\"\",\"\",VLOOKUP(I542,MAESTROS!P$2:Q$2000,2,FALSE))","v":""}]
[{"$f":"IF(H543=\"\",\"\",VLOOKUP(H543,MAESTROS!N$2:O$2000,2,FALSE))","v":""},{"$f":"IF(I543=\"\",\"\",VLOOKUP(I543,MAESTROS!P$2:Q$2000,2,FALSE))","v":""}]
[{"$f":"IF(H544=\"\",\"\",VLOOKUP(H544,MAESTROS!N$2:O$2000,2,FALSE))","v":""},{"$f":"IF(I544=\"\",\"\",VLOOKUP(I544,MAESTROS!P$2:Q$2000,2,FALSE))","v":""}]
[{"$f":"IF(H545=\"\",\"\",VLOOKUP(H545,MAESTROS!N$2:O$2000,2,FALSE))","v":""},{"$f":"IF(I545=\"\",\"\",VLOOKUP(I545,MAESTROS!P$2:Q$2000,2,FALSE))","v":""}]
[{"$f":"IF(H546=\"\",\"\",VLOOKUP(H546,MAESTROS!N$2:O$2000,2,FALSE))","v":""},{"$f":"IF(I546=\"\",\"\",VLOOKUP(I546,MAESTROS!P$2:Q$2000,2,FALSE))","v":""}]
[{"$f":"IF(H547=\"\",\"\",VLOOKUP(H547,MAESTROS!N$2:O$2000,2,FALSE))","v":""},{"$f":"IF(I547=\"\",\"\",VLOOKUP(I547,MAESTROS!P$2:Q$2000,2,FALSE))","v":""}]
[{"$f":"IF(H548=\"\",\"\",VLOOKUP(H548,MAESTROS!N$2:O$2000,2,FALSE))","v":""},{"$f":"IF(I548=\"\",\"\",VLOOKUP(I548,MAESTROS!P$2:Q$2000,2,FALSE))","v":""}]
[{"$f":"IF(H549=\"\",\"\",VLOOKUP(H549,MAESTROS!N$2:O$2000,2,FALSE))","v":""},{"$f":"IF(I549=\"\",\"\",VLOOKUP(I549,MAESTROS!P$2:Q$2000,2,FALSE))","v":""}]
[{"$f":"IF(H550=\"\",\"\",VLOOKUP(H550,MAESTROS!N$2:O$2000,2,FALSE))","v":""},{"$f":"IF(I550=\"\",\"\",VLOOKUP(I550,MAESTROS!P$2:Q$2000,2,FALSE))","v":""}]
[{"$f":"IF(H551=\"\",\"\",VLOOKUP(H551,MAESTROS!N$2:O$2000,2,FALSE))","v":""},{"$f":"IF(I551=\"\",\"\",VLOOKUP(I551,MAESTROS!P$2:Q$2000,2,FALSE))","v":""}]
[{"$f":"IF(H552=\"\",\"\",VLOOKUP(H552,MAESTROS!N$2:O$2000,2,FALSE))","v":""},{"$f":"IF(I552=\"\",\"\",VLOOKUP(I552,MAESTROS!P$2:Q$2000,2,FALSE))","v":""}]
[{"$f":"IF(H553=\"\",\"\",VLOOKUP(H553,MAESTROS!N$2:O$2000,2,FALSE))","v":""},{"$f":"IF(I553=\"\",\"\",VLOOKUP(I553,MAESTROS!P$2:Q$2000,2,FALSE))","v":""}]
[{"$f":"IF(H554=\"\",\"\",VLOOKUP(H554,MAESTROS!N$2:O$2000,2,FALSE))","v":""},{"$f":"IF(I554=\"\",\"\",VLOOKUP(I554,MAESTROS!P$2:Q$2000,2,FALSE))","v":""}]
[{"$f":"IF(H555=\"\",\"\",VLOOKUP(H555,MAESTROS!N$2:O$2000,2,FALSE))","v":""},{"$f":"IF(I555=\"\",\"\",VLOOKUP(I555,MAESTROS!P$2:Q$2000,2,FALSE))","v":""}]
[{"$f":"IF(H556=\"\",\"\",VLOOKUP(H556,MAESTROS!N$2:O$2000,2,FALSE))","v":""},{"$f":"IF(I556=\"\",\"\",VLOOKUP(I556,MAESTROS!P$2:Q$2000,2,FALSE))","v":""}]
[{"$f":"IF(H557=\"\",\"\",VLOOKUP(H557,MAESTROS!N$2:O$2000,2,FALSE))","v":""},{"$f":"IF(I557=\"\",\"\",VLOOKUP(I557,MAESTROS!P$2:Q$2000,2,FALSE))","v":""}]
[{"$f":"IF(H558=\"\",\"\",VLOOKUP(H558,MAESTROS!N$2:O$2000,2,FALSE))","v":""},{"$f":"IF(I558=\"\",\"\",VLOOKUP(I558,MAESTROS!P$2:Q$2000,2,FALSE))","v":""}]
[{"$f":"IF(H559=\"\",\"\",VLOOKUP(H559,MAESTROS!N$2:O$2000,2,FALSE))","v":""},{"$f":"IF(I559=\"\",\"\",VLOOKUP(I559,MAESTROS!P$2:Q$2000,2,FALSE))","v":""}]
[{"$f":"IF(H560=\"\",\"\",VLOOKUP(H560,MAESTROS!N$2:O$2000,2,FALSE))","v":""},{"$f":"IF(I560=\"\",\"\",VLOOKUP(I560,MAESTROS!P$2:Q$2000,2,FALSE))","v":""}]
[{"$f":"IF(H561=\"\",\"\",VLOOKUP(H561,MAESTROS!N$2:O$2000,2,FALSE))","v":""},{"$f":"IF(I561=\"\",\"\",VLOOKUP(I561,MAESTROS!P$2:Q$2000,2,FALSE))","v":""}]
[{"$f":"IF(H562=\"\",\"\",VLOOKUP(H562,MAESTROS!N$2:O$2000,2,FALSE))","v":""},{"$f":"IF(I562=\"\",\"\",VLOOKUP(I562,MAESTROS!P$2:Q$2000,2,FALSE))","v":""}]
[{"$f":"IF(H563=\"\",\"\",VLOOKUP(H563,MAESTROS!N$2:O$2000,2,FALSE))","v":""},{"$f":"IF(I563=\"\",\"\",VLOOKUP(I563,MAESTROS!P$2:Q$2000,2,FALSE))","v":""}]
[{"$f":"IF(H564=\"\",\"\",VLOOKUP(H564,MAESTROS!N$2:O$2000,2,FALSE))","v":""},{"$f":"IF(I564=\"\",\"\",VLOOKUP(I564,MAESTROS!P$2:Q$2000,2,FALSE))","v":""}]
[{"$f":"IF(H565=\"\",\"\",VLOOKUP(H565,MAESTROS!N$2:O$2000,2,FALSE))","v":""},{"$f":"IF(I565=\"\",\"\",VLOOKUP(I565,MAESTROS!P$2:Q$2000,2,FALSE))","v":""}]
[{"$f":"IF(H566=\"\",\"\",VLOOKUP(H566,MAESTROS!N$2:O$2000,2,FALSE))","v":""},{"$f":"IF(I566=\"\",\"\",VLOOKUP(I566,MAESTROS!P$2:Q$2000,2,FALSE))","v":""}]
[{"$f":"IF(H567=\"\",\"\",VLOOKUP(H567,MAESTROS!N$2:O$2000,2,FALSE))","v":""},{"$f":"IF(I567=\"\",\"\",VLOOKUP(I567,MAESTROS!P$2:Q$2000,2,FALSE))","v":""}]
[{"$f":"IF(H568=\"\",\"\",VLOOKUP(H568,MAESTROS!N$2:O$2000,2,FALSE))","v":""},{"$f":"IF(I568=\"\",\"\",VLOOKUP(I568,MAESTROS!P$2:Q$2000,2,FALSE))","v":""}]
[{"$f":"IF(H569=\"\",\"\",VLOOKUP(H569,MAESTROS!N$2:O$2000,2,FALSE))","v":""},{"$f":"IF(I569=\"\",\"\",VLOOKUP(I569,MAESTROS!P$2:Q$2000,2,FALSE))","v":""}]
[{"$f":"IF(H570=\"\",\"\",VLOOKUP(H570,MAESTROS!N$2:O$2000,2,FALSE))","v":""},{"$f":"IF(I570=\"\",\"\",VLOOKUP(I570,MAESTROS!P$2:Q$2000,2,FALSE))","v":""}]
[{"$f":"IF(H571=\"\",\"\",VLOOKUP(H571,MAESTROS!N$2:O$2000,2,FALSE))","v":""},{"$f":"IF(I571=\"\",\"\",VLOOKUP(I571,MAESTROS!P$2:Q$2000,2,FALSE))","v":""}]
[{"$f":"IF(H572=\"\",\"\",VLOOKUP(H572,MAESTROS!N$2:O$2000,2,FALSE))","v":""},{"$f":"IF(I572=\"\",\"\",VLOOKUP(I572,MAESTROS!P$2:Q$2000,2,FALSE))","v":""}]
[{"$f":"IF(H573=\"\",\"\",VLOOKUP(H573,MAESTROS!N$2:O$2000,2,FALSE))","v":""},{"$f":"IF(I573=\"\",\"\",VLOOKUP(I573,MAESTROS!P$2:Q$2000,2,FALSE))","v":""}]
[{"$f":"IF(H574=\"\",\"\",VLOOKUP(H574,MAESTROS!N$2:O$2000,2,FALSE))","v":""},{"$f":"IF(I574=\"\",\"\",VLOOKUP(I574,MAESTROS!P$2:Q$2000,2,FALSE))","v":""}]
[{"$f":"IF(H575=\"\",\"\",VLOOKUP(H575,MAESTROS!N$2:O$2000,2,FALSE))","v":""},{"$f":"IF(I575=\"\",\"\",VLOOKUP(I575,MAESTROS!P$2:Q$2000,2,FALSE))","v":""}]
[{"$f":"IF(H576=\"\",\"\",VLOOKUP(H576,MAESTROS!N$2:O$2000,2,FALSE))","v":""},{"$f":"IF(I576=\"\",\"\",VLOOKUP(I576,MAESTROS!P$2:Q$2000,2,FALSE))","v":""}]
[{"$f":"IF(H577=\"\",\"\",VLOOKUP(H577,MAESTROS!N$2:O$2000,2,FALSE))","v":""},{"$f":"IF(I577=\"\",\"\",VLOOKUP(I577,MAESTROS!P$2:Q$2000,2,FALSE))","v":""}]
[{"$f":"IF(H578=\"\",\"\",VLOOKUP(H578,MAESTROS!N$2:O$2000,2,FALSE))","v":""},{"$f":"IF(I578=\"\",\"\",VLOOKUP(I578,MAESTROS!P$2:Q$2000,2,FALSE))","v":""}]
[{"$f":"IF(H579=\"\",\"\",VLOOKUP(H579,MAESTROS!N$2:O$2000,2,FALSE))","v":""},{"$f":"IF(I579=\"\",\"\",VLOOKUP(I579,MAESTROS!P$2:Q$2000,2,FALSE))","v":""}]
[{"$f":"IF(H580=\"\",\"\",VLOOKUP(H580,MAESTROS!N$2:O$2000,2,FALSE))","v":""},{"$f":"IF(I580=\"\",\"\",VLOOKUP(I580,MAESTROS!P$2:Q$2000,2,FALSE))","v":""}]
[{"$f":"IF(H581=\"\",\"\",VLOOKUP(H581,MAESTROS!N$2:O$2000,2,FALSE))","v":""},{"$f":"IF(I581=\"\",\"\",VLOOKUP(I581,MAESTROS!P$2:Q$2000,2,FALSE))","v":""}]
[{"$f":"IF(H582=\"\",\"\",VLOOKUP(H582,MAESTROS!N$2:O$2000,2,FALSE))","v":""},{"$f":"IF(I582=\"\",\"\",VLOOKUP(I582,MAESTROS!P$2:Q$2000,2,FALSE))","v":""}]
[{"$f":"IF(H583=\"\",\"\",VLOOKUP(H583,MAESTROS!N$2:O$2000,2,FALSE))","v":""},{"$f":"IF(I583=\"\",\"\",VLOOKUP(I583,MAESTROS!P$2:Q$2000,2,FALSE))","v":""}]
[{"$f":"IF(H584=\"\",\"\",VLOOKUP(H584,MAESTROS!N$2:O$2000,2,FALSE))","v":""},{"$f":"IF(I584=\"\",\"\",VLOOKUP(I584,MAESTROS!P$2:Q$2000,2,FALSE))","v":""}]
[{"$f":"IF(H585=\"\",\"\",VLOOKUP(H585,MAESTROS!N$2:O$2000,2,FALSE))","v":""},{"$f":"IF(I585=\"\",\"\",VLOOKUP(I585,MAESTROS!P$2:Q$2000,2,FALSE))","v":""}]
[{"$f":"IF(H586=\"\",\"\",VLOOKUP(H586,MAESTROS!N$2:O$2000,2,FALSE))","v":""},{"$f":"IF(I586=\"\",\"\",VLOOKUP(I586,MAESTROS!P$2:Q$2000,2,FALSE))","v":""}]
[{"$f":"IF(H587=\"\",\"\",VLOOKUP(H587,MAESTROS!N$2:O$2000,2,FALSE))","v":""},{"$f":"IF(I587=\"\",\"\",VLOOKUP(I587,MAESTROS!P$2:Q$2000,2,FALSE))","v":""}]
[{"$f":"IF(H588=\"\",\"\",VLOOKUP(H588,MAESTROS!N$2:O$2000,2,FALSE))","v":""},{"$f":"IF(I588=\"\",\"\",VLOOKUP(I588,MAESTROS!P$2:Q$2000,2,FALSE))","v":""}]
[{"$f":"IF(H589=\"\",\"\",VLOOKUP(H589,MAESTROS!N$2:O$2000,2,FALSE))","v":""},{"$f":"IF(I589=\"\",\"\",VLOOKUP(I589,MAESTROS!P$2:Q$2000,2,FALSE))","v":""}]
[{"$f":"IF(H590=\"\",\"\",VLOOKUP(H590,MAESTROS!N$2:O$2000,2,FALSE))","v":""},{"$f":"IF(I590=\"\",\"\",VLOOKUP(I590,MAESTROS!P$2:Q$2000,2,FALSE))","v":""}]
[{"$f":"IF(H591=\"\",\"\",VLOOKUP(H591,MAESTROS!N$2:O$2000,2,FALSE))","v":""},{"$f":"IF(I591=\"\",\"\",VLOOKUP(I591,MAESTROS!P$2:Q$2000,2,FALSE))","v":""}]
[{"$f":"IF(H592=\"\",\"\",VLOOKUP(H592,MAESTROS!N$2:O$2000,2,FALSE))","v":""},{"$f":"IF(I592=\"\",\"\",VLOOKUP(I592,MAESTROS!P$2:Q$2000,2,FALSE))","v":""}]
[{"$f":"IF(H593=\"\",\"\",VLOOKUP(H593,MAESTROS!N$2:O$2000,2,FALSE))","v":""},{"$f":"IF(I593=\"\",\"\",VLOOKUP(I593,MAESTROS!P$2:Q$2000,2,FALSE))","v":""}]
[{"$f":"IF(H594=\"\",\"\",VLOOKUP(H594,MAESTROS!N$2:O$2000,2,FALSE))","v":""},{"$f":"IF(I594=\"\",\"\",VLOOKUP(I594,MAESTROS!P$2:Q$2000,2,FALSE))","v":""}]
[{"$f":"IF(H595=\"\",\"\",VLOOKUP(H595,MAESTROS!N$2:O$2000,2,FALSE))","v":""},{"$f":"IF(I595=\"\",\"\",VLOOKUP(I595,MAESTROS!P$2:Q$2000,2,FALSE))","v":""}]
[{"$f":"IF(H596=\"\",\"\",VLOOKUP(H596,MAESTROS!N$2:O$2000,2,FALSE))","v":""},{"$f":"IF(I596=\"\",\"\",VLOOKUP(I596,MAESTROS!P$2:Q$2000,2,FALSE))","v":""}]
[{"$f":"IF(H597=\"\",\"\",VLOOKUP(H597,MAESTROS!N$2:O$2000,2,FALSE))","v":""},{"$f":"IF(I597=\"\",\"\",VLOOKUP(I597,MAESTROS!P$2:Q$2000,2,FALSE))","v":""}]
[{"$f":"IF(H598=\"\",\"\",VLOOKUP(H598,MAESTROS!N$2:O$2000,2,FALSE))","v":""},{"$f":"IF(I598=\"\",\"\",VLOOKUP(I598,MAESTROS!P$2:Q$2000,2,FALSE))","v":""}]
[{"$f":"IF(H599=\"\",\"\",VLOOKUP(H599,MAESTROS!N$2:O$2000,2,FALSE))","v":""},{"$f":"IF(I599=\"\",\"\",VLOOKUP(I599,MAESTROS!P$2:Q$2000,2,FALSE))","v":""}]
[{"$f":"IF(H600=\"\",\"\",VLOOKUP(H600,MAESTROS!N$2:O$2000,2,FALSE))","v":""},{"$f":"IF(I600=\"\",\"\",VLOOKUP(I600,MAESTROS!P$2:Q$2000,2,FALSE))","v":""}]
[{"$f":"IF(H601=\"\",\"\",VLOOKUP(H601,MAESTROS!N$2:O$2000,2,FALSE))","v":""},{"$f":"IF(I601=\"\",\"\",VLOOKUP(I601,MAESTROS!P$2:Q$2000,2,FALSE))","v":""}]
[{"$f":"IF(H602=\"\",\"\",VLOOKUP(H602,MAESTROS!N$2:O$2000,2,FALSE))","v":""},{"$f":"IF(I602=\"\",\"\",VLOOKUP(I602,MAESTROS!P$2:Q$2000,2,FALSE))","v":""}]
[{"$f":"IF(H603=\"\",\"\",VLOOKUP(H603,MAESTROS!N$2:O$2000,2,FALSE))","v":""},{"$f":"IF(I603=\"\",\"\",VLOOKUP(I603,MAESTROS!P$2:Q$2000,2,FALSE))","v":""}]
[{"$f":"IF(H604=\"\",\"\",VLOOKUP(H604,MAESTROS!N$2:O$2000,2,FALSE))","v":""},{"$f":"IF(I604=\"\",\"\",VLOOKUP(I604,MAESTROS!P$2:Q$2000,2,FALSE))","v":""}]
[{"$f":"IF(H605=\"\",\"\",VLOOKUP(H605,MAESTROS!N$2:O$2000,2,FALSE))","v":""},{"$f":"IF(I605=\"\",\"\",VLOOKUP(I605,MAESTROS!P$2:Q$2000,2,FALSE))","v":""}]
[{"$f":"IF(H606=\"\",\"\",VLOOKUP(H606,MAESTROS!N$2:O$2000,2,FALSE))","v":""},{"$f":"IF(I606=\"\",\"\",VLOOKUP(I606,MAESTROS!P$2:Q$2000,2,FALSE))","v":""}]
[{"$f":"IF(H607=\"\",\"\",VLOOKUP(H607,MAESTROS!N$2:O$2000,2,FALSE))","v":""},{"$f":"IF(I607=\"\",\"\",VLOOKUP(I607,MAESTROS!P$2:Q$2000,2,FALSE))","v":""}]
[{"$f":"IF(H608=\"\",\"\",VLOOKUP(H608,MAESTROS!N$2:O$2000,2,FALSE))","v":""},{"$f":"IF(I608=\"\",\"\",VLOOKUP(I608,MAESTROS!P$2:Q$2000,2,FALSE))","v":""}]
[{"$f":"IF(H609=\"\",\"\",VLOOKUP(H609,MAESTROS!N$2:O$2000,2,FALSE))","v":""},{"$f":"IF(I609=\"\",\"\",VLOOKUP(I609,MAESTROS!P$2:Q$2000,2,FALSE))","v":""}]
[{"$f":"IF(H610=\"\",\"\",VLOOKUP(H610,MAESTROS!N$2:O$2000,2,FALSE))","v":""},{"$f":"IF(I610=\"\",\"\",VLOOKUP(I610,MAESTROS!P$2:Q$2000,2,FALSE))","v":""}]
[{"$f":"IF(H611=\"\",\"\",VLOOKUP(H611,MAESTROS!N$2:O$2000,2,FALSE))","v":""},{"$f":"IF(I611=\"\",\"\",VLOOKUP(I611,MAESTROS!P$2:Q$2000,2,FALSE))","v":""}]
[{"$f":"IF(H612=\"\",\"\",VLOOKUP(H612,MAESTROS!N$2:O$2000,2,FALSE))","v":""},{"$f":"IF(I612=\"\",\"\",VLOOKUP(I612,MAESTROS!P$2:Q$2000,2,FALSE))","v":""}]
[{"$f":"IF(H613=\"\",\"\",VLOOKUP(H613,MAESTROS!N$2:O$2000,2,FALSE))","v":""},{"$f":"IF(I613=\"\",\"\",VLOOKUP(I613,MAESTROS!P$2:Q$2000,2,FALSE))","v":""}]
[{"$f":"IF(H614=\"\",\"\",VLOOKUP(H614,MAESTROS!N$2:O$2000,2,FALSE))","v":""},{"$f":"IF(I614=\"\",\"\",VLOOKUP(I614,MAESTROS!P$2:Q$2000,2,FALSE))","v":""}]
[{"$f":"IF(H615=\"\",\"\",VLOOKUP(H615,MAESTROS!N$2:O$2000,2,FALSE))","v":""},{"$f":"IF(I615=\"\",\"\",VLOOKUP(I615,MAESTROS!P$2:Q$2000,2,FALSE))","v":""}]
[{"$f":"IF(H616=\"\",\"\",VLOOKUP(H616,MAESTROS!N$2:O$2000,2,FALSE))","v":""},{"$f":"IF(I616=\"\",\"\",VLOOKUP(I616,MAESTROS!P$2:Q$2000,2,FALSE))","v":""}]
[{"$f":"IF(H617=\"\",\"\",VLOOKUP(H617,MAESTROS!N$2:O$2000,2,FALSE))","v":""},{"$f":"IF(I617=\"\",\"\",VLOOKUP(I617,MAESTROS!P$2:Q$2000,2,FALSE))","v":""}]
[{"$f":"IF(H618=\"\",\"\",VLOOKUP(H618,MAESTROS!N$2:O$2000,2,FALSE))","v":""},{"$f":"IF(I618=\"\",\"\",VLOOKUP(I618,MAESTROS!P$2:Q$2000,2,FALSE))","v":""}]
[{"$f":"IF(H619=\"\",\"\",VLOOKUP(H619,MAESTROS!N$2:O$2000,2,FALSE))","v":""},{"$f":"IF(I619=\"\",\"\",VLOOKUP(I619,MAESTROS!P$2:Q$2000,2,FALSE))","v":""}]
[{"$f":"IF(H620=\"\",\"\",VLOOKUP(H620,MAESTROS!N$2:O$2000,2,FALSE))","v":""},{"$f":"IF(I620=\"\",\"\",VLOOKUP(I620,MAESTROS!P$2:Q$2000,2,FALSE))","v":""}]
[{"$f":"IF(H621=\"\",\"\",VLOOKUP(H621,MAESTROS!N$2:O$2000,2,FALSE))","v":""},{"$f":"IF(I621=\"\",\"\",VLOOKUP(I621,MAESTROS!P$2:Q$2000,2,FALSE))","v":""}]
[{"$f":"IF(H622=\"\",\"\",VLOOKUP(H622,MAESTROS!N$2:O$2000,2,FALSE))","v":""},{"$f":"IF(I622=\"\",\"\",VLOOKUP(I622,MAESTROS!P$2:Q$2000,2,FALSE))","v":""}]
[{"$f":"IF(H623=\"\",\"\",VLOOKUP(H623,MAESTROS!N$2:O$2000,2,FALSE))","v":""},{"$f":"IF(I623=\"\",\"\",VLOOKUP(I623,MAESTROS!P$2:Q$2000,2,FALSE))","v":""}]
[{"$f":"IF(H624=\"\",\"\",VLOOKUP(H624,MAESTROS!N$2:O$2000,2,FALSE))","v":""},{"$f":"IF(I624=\"\",\"\",VLOOKUP(I624,MAESTROS!P$2:Q$2000,2,FALSE))","v":""}]
[{"$f":"IF(H625=\"\",\"\",VLOOKUP(H625,MAESTROS!N$2:O$2000,2,FALSE))","v":""},{"$f":"IF(I625=\"\",\"\",VLOOKUP(I625,MAESTROS!P$2:Q$2000,2,FALSE))","v":""}]
[{"$f":"IF(H626=\"\",\"\",VLOOKUP(H626,MAESTROS!N$2:O$2000,2,FALSE))","v":""},{"$f":"IF(I626=\"\",\"\",VLOOKUP(I626,MAESTROS!P$2:Q$2000,2,FALSE))","v":""}]
[{"$f":"IF(H627=\"\",\"\",VLOOKUP(H627,MAESTROS!N$2:O$2000,2,FALSE))","v":""},{"$f":"IF(I627=\"\",\"\",VLOOKUP(I627,MAESTROS!P$2:Q$2000,2,FALSE))","v":""}]
[{"$f":"IF(H628=\"\",\"\",VLOOKUP(H628,MAESTROS!N$2:O$2000,2,FALSE))","v":""},{"$f":"IF(I628=\"\",\"\",VLOOKUP(I628,MAESTROS!P$2:Q$2000,2,FALSE))","v":""}]
[{"$f":"IF(H629=\"\",\"\",VLOOKUP(H629,MAESTROS!N$2:O$2000,2,FALSE))","v":""},{"$f":"IF(I629=\"\",\"\",VLOOKUP(I629,MAESTROS!P$2:Q$2000,2,FALSE))","v":""}]
[{"$f":"IF(H630=\"\",\"\",VLOOKUP(H630,MAESTROS!N$2:O$2000,2,FALSE))","v":""},{"$f":"IF(I630=\"\",\"\",VLOOKUP(I630,MAESTROS!P$2:Q$2000,2,FALSE))","v":""}]
[{"$f":"IF(H631=\"\",\"\",VLOOKUP(H631,MAESTROS!N$2:O$2000,2,FALSE))","v":""},{"$f":"IF(I631=\"\",\"\",VLOOKUP(I631,MAESTROS!P$2:Q$2000,2,FALSE))","v":""}]
[{"$f":"IF(H632=\"\",\"\",VLOOKUP(H632,MAESTROS!N$2:O$2000,2,FALSE))","v":""},{"$f":"IF(I632=\"\",\"\",VLOOKUP(I632,MAESTROS!P$2:Q$2000,2,FALSE))","v":""}]
[{"$f":"IF(H633=\"\",\"\",VLOOKUP(H633,MAESTROS!N$2:O$2000,2,FALSE))","v":""},{"$f":"IF(I633=\"\",\"\",VLOOKUP(I633,MAESTROS!P$2:Q$2000,2,FALSE))","v":""}]
[{"$f":"IF(H634=\"\",\"\",VLOOKUP(H634,MAESTROS!N$2:O$2000,2,FALSE))","v":""},{"$f":"IF(I634=\"\",\"\",VLOOKUP(I634,MAESTROS!P$2:Q$2000,2,FALSE))","v":""}]
[{"$f":"IF(H635=\"\",\"\",VLOOKUP(H635,MAESTROS!N$2:O$2000,2,FALSE))","v":""},{"$f":"IF(I635=\"\",\"\",VLOOKUP(I635,MAESTROS!P$2:Q$2000,2,FALSE))","v":""}]
[{"$f":"IF(H636=\"\",\"\",VLOOKUP(H636,MAESTROS!N$2:O$2000,2,FALSE))","v":""},{"$f":"IF(I636=\"\",\"\",VLOOKUP(I636,MAESTROS!P$2:Q$2000,2,FALSE))","v":""}]
[{"$f":"IF(H637=\"\",\"\",VLOOKUP(H637,MAESTROS!N$2:O$2000,2,FALSE))","v":""},{"$f":"IF(I637=\"\",\"\",VLOOKUP(I637,MAESTROS!P$2:Q$2000,2,FALSE))","v":""}]
[{"$f":"IF(H638=\"\",\"\",VLOOKUP(H638,MAESTROS!N$2:O$2000,2,FALSE))","v":""},{"$f":"IF(I638=\"\",\"\",VLOOKUP(I638,MAESTROS!P$2:Q$2000,2,FALSE))","v":""}]
[{"$f":"IF(H639=\"\",\"\",VLOOKUP(H639,MAESTROS!N$2:O$2000,2,FALSE))","v":""},{"$f":"IF(I639=\"\",\"\",VLOOKUP(I639,MAESTROS!P$2:Q$2000,2,FALSE))","v":""}]
[{"$f":"IF(H640=\"\",\"\",VLOOKUP(H640,MAESTROS!N$2:O$2000,2,FALSE))","v":""},{"$f":"IF(I640=\"\",\"\",VLOOKUP(I640,MAESTROS!P$2:Q$2000,2,FALSE))","v":""}]
[{"$f":"IF(H641=\"\",\"\",VLOOKUP(H641,MAESTROS!N$2:O$2000,2,FALSE))","v":""},{"$f":"IF(I641=\"\",\"\",VLOOKUP(I641,MAESTROS!P$2:Q$2000,2,FALSE))","v":""}]
[{"$f":"IF(H642=\"\",\"\",VLOOKUP(H642,MAESTROS!N$2:O$2000,2,FALSE))","v":""},{"$f":"IF(I642=\"\",\"\",VLOOKUP(I642,MAESTROS!P$2:Q$2000,2,FALSE))","v":""}]
[{"$f":"IF(H643=\"\",\"\",VLOOKUP(H643,MAESTROS!N$2:O$2000,2,FALSE))","v":""},{"$f":"IF(I643=\"\",\"\",VLOOKUP(I643,MAESTROS!P$2:Q$2000,2,FALSE))","v":""}]
[{"$f":"IF(H644=\"\",\"\",VLOOKUP(H644,MAESTROS!N$2:O$2000,2,FALSE))","v":""},{"$f":"IF(I644=\"\",\"\",VLOOKUP(I644,MAESTROS!P$2:Q$2000,2,FALSE))","v":""}]
[{"$f":"IF(H645=\"\",\"\",VLOOKUP(H645,MAESTROS!N$2:O$2000,2,FALSE))","v":""},{"$f":"IF(I645=\"\",\"\",VLOOKUP(I645,MAESTROS!P$2:Q$2000,2,FALSE))","v":""}]
[{"$f":"IF(H646=\"\",\"\",VLOOKUP(H646,MAESTROS!N$2:O$2000,2,FALSE))","v":""},{"$f":"IF(I646=\"\",\"\",VLOOKUP(I646,MAESTROS!P$2:Q$2000,2,FALSE))","v":""}]
[{"$f":"IF(H647=\"\",\"\",VLOOKUP(H647,MAESTROS!N$2:O$2000,2,FALSE))","v":""},{"$f":"IF(I647=\"\",\"\",VLOOKUP(I647,MAESTROS!P$2:Q$2000,2,FALSE))","v":""}]
[{"$f":"IF(H648=\"\",\"\",VLOOKUP(H648,MAESTROS!N$2:O$2000,2,FALSE))","v":""},{"$f":"IF(I648=\"\",\"\",VLOOKUP(I648,MAESTROS!P$2:Q$2000,2,FALSE))","v":""}]
[{"$f":"IF(H649=\"\",\"\",VLOOKUP(H649,MAESTROS!N$2:O$2000,2,FALSE))","v":""},{"$f":"IF(I649=\"\",\"\",VLOOKUP(I649,MAESTROS!P$2:Q$2000,2,FALSE))","v":""}]
[{"$f":"IF(H650=\"\",\"\",VLOOKUP(H650,MAESTROS!N$2:O$2000,2,FALSE))","v":""},{"$f":"IF(I650=\"\",\"\",VLOOKUP(I650,MAESTROS!P$2:Q$2000,2,FALSE))","v":""}]
[{"$f":"IF(H651=\"\",\"\",VLOOKUP(H651,MAESTROS!N$2:O$2000,2,FALSE))","v":""},{"$f":"IF(I651=\"\",\"\",VLOOKUP(I651,MAESTROS!P$2:Q$2000,2,FALSE))","v":""}]
[{"$f":"IF(H652=\"\",\"\",VLOOKUP(H652,MAESTROS!N$2:O$2000,2,FALSE))","v":""},{"$f":"IF(I652=\"\",\"\",VLOOKUP(I652,MAESTROS!P$2:Q$2000,2,FALSE))","v":""}]
[{"$f":"IF(H653=\"\",\"\",VLOOKUP(H653,MAESTROS!N$2:O$2000,2,FALSE))","v":""},{"$f":"IF(I653=\"\",\"\",VLOOKUP(I653,MAESTROS!P$2:Q$2000,2,FALSE))","v":""}]
[{"$f":"IF(H654=\"\",\"\",VLOOKUP(H654,MAESTROS!N$2:O$2000,2,FALSE))","v":""},{"$f":"IF(I654=\"\",\"\",VLOOKUP(I654,MAESTROS!P$2:Q$2000,2,FALSE))","v":""}]
[{"$f":"IF(H655=\"\",\"\",VLOOKUP(H655,MAESTROS!N$2:O$2000,2,FALSE))","v":""},{"$f":"IF(I655=\"\",\"\",VLOOKUP(I655,MAESTROS!P$2:Q$2000,2,FALSE))","v":""}]
[{"$f":"IF(H656=\"\",\"\",VLOOKUP(H656,MAESTROS!N$2:O$2000,2,FALSE))","v":""},{"$f":"IF(I656=\"\",\"\",VLOOKUP(I656,MAESTROS!P$2:Q$2000,2,FALSE))","v":""}]
[{"$f":"IF(H657=\"\",\"\",VLOOKUP(H657,MAESTROS!N$2:O$2000,2,FALSE))","v":""},{"$f":"IF(I657=\"\",\"\",VLOOKUP(I657,MAESTROS!P$2:Q$2000,2,FALSE))","v":""}]
[{"$f":"IF(H658=\"\",\"\",VLOOKUP(H658,MAESTROS!N$2:O$2000,2,FALSE))","v":""},{"$f":"IF(I658=\"\",\"\",VLOOKUP(I658,MAESTROS!P$2:Q$2000,2,FALSE))","v":""}]
[{"$f":"IF(H659=\"\",\"\",VLOOKUP(H659,MAESTROS!N$2:O$2000,2,FALSE))","v":""},{"$f":"IF(I659=\"\",\"\",VLOOKUP(I659,MAESTROS!P$2:Q$2000,2,FALSE))","v":""}]
[{"$f":"IF(H660=\"\",\"\",VLOOKUP(H660,MAESTROS!N$2:O$2000,2,FALSE))","v":""},{"$f":"IF(I660=\"\",\"\",VLOOKUP(I660,MAESTROS!P$2:Q$2000,2,FALSE))","v":""}]
[{"$f":"IF(H661=\"\",\"\",VLOOKUP(H661,MAESTROS!N$2:O$2000,2,FALSE))","v":""},{"$f":"IF(I661=\"\",\"\",VLOOKUP(I661,MAESTROS!P$2:Q$2000,2,FALSE))","v":""}]
[{"$f":"IF(H662=\"\",\"\",VLOOKUP(H662,MAESTROS!N$2:O$2000,2,FALSE))","v":""},{"$f":"IF(I662=\"\",\"\",VLOOKUP(I662,MAESTROS!P$2:Q$2000,2,FALSE))","v":""}]
[{"$f":"IF(H663=\"\",\"\",VLOOKUP(H663,MAESTROS!N$2:O$2000,2,FALSE))","v":""},{"$f":"IF(I663=\"\",\"\",VLOOKUP(I663,MAESTROS!P$2:Q$2000,2,FALSE))","v":""}]
[{"$f":"IF(H664=\"\",\"\",VLOOKUP(H664,MAESTROS!N$2:O$2000,2,FALSE))","v":""},{"$f":"IF(I664=\"\",\"\",VLOOKUP(I664,MAESTROS!P$2:Q$2000,2,FALSE))","v":""}]
[{"$f":"IF(H665=\"\",\"\",VLOOKUP(H665,MAESTROS!N$2:O$2000,2,FALSE))","v":""},{"$f":"IF(I665=\"\",\"\",VLOOKUP(I665,MAESTROS!P$2:Q$2000,2,FALSE))","v":""}]
[{"$f":"IF(H666=\"\",\"\",VLOOKUP(H666,MAESTROS!N$2:O$2000,2,FALSE))","v":""},{"$f":"IF(I666=\"\",\"\",VLOOKUP(I666,MAESTROS!P$2:Q$2000,2,FALSE))","v":""}]
[{"$f":"IF(H667=\"\",\"\",VLOOKUP(H667,MAESTROS!N$2:O$2000,2,FALSE))","v":""},{"$f":"IF(I667=\"\",\"\",VLOOKUP(I667,MAESTROS!P$2:Q$2000,2,FALSE))","v":""}]
[{"$f":"IF(H668=\"\",\"\",VLOOKUP(H668,MAESTROS!N$2:O$2000,2,FALSE))","v":""},{"$f":"IF(I668=\"\",\"\",VLOOKUP(I668,MAESTROS!P$2:Q$2000,2,FALSE))","v":""}]
[{"$f":"IF(H669=\"\",\"\",VLOOKUP(H669,MAESTROS!N$2:O$2000,2,FALSE))","v":""},{"$f":"IF(I669=\"\",\"\",VLOOKUP(I669,MAESTROS!P$2:Q$2000,2,FALSE))","v":""}]
[{"$f":"IF(H670=\"\",\"\",VLOOKUP(H670,MAESTROS!N$2:O$2000,2,FALSE))","v":""},{"$f":"IF(I670=\"\",\"\",VLOOKUP(I670,MAESTROS!P$2:Q$2000,2,FALSE))","v":""}]
[{"$f":"IF(H671=\"\",\"\",VLOOKUP(H671,MAESTROS!N$2:O$2000,2,FALSE))","v":""},{"$f":"IF(I671=\"\",\"\",VLOOKUP(I671,MAESTROS!P$2:Q$2000,2,FALSE))","v":""}]
[{"$f":"IF(H672=\"\",\"\",VLOOKUP(H672,MAESTROS!N$2:O$2000,2,FALSE))","v":""},{"$f":"IF(I672=\"\",\"\",VLOOKUP(I672,MAESTROS!P$2:Q$2000,2,FALSE))","v":""}]
[{"$f":"IF(H673=\"\",\"\",VLOOKUP(H673,MAESTROS!N$2:O$2000,2,FALSE))","v":""},{"$f":"IF(I673=\"\",\"\",VLOOKUP(I673,MAESTROS!P$2:Q$2000,2,FALSE))","v":""}]
[{"$f":"IF(H674=\"\",\"\",VLOOKUP(H674,MAESTROS!N$2:O$2000,2,FALSE))","v":""},{"$f":"IF(I674=\"\",\"\",VLOOKUP(I674,MAESTROS!P$2:Q$2000,2,FALSE))","v":""}]
[{"$f":"IF(H675=\"\",\"\",VLOOKUP(H675,MAESTROS!N$2:O$2000,2,FALSE))","v":""},{"$f":"IF(I675=\"\",\"\",VLOOKUP(I675,MAESTROS!P$2:Q$2000,2,FALSE))","v":""}]
[{"$f":"IF(H676=\"\",\"\",VLOOKUP(H676,MAESTROS!N$2:O$2000,2,FALSE))","v":""},{"$f":"IF(I676=\"\",\"\",VLOOKUP(I676,MAESTROS!P$2:Q$2000,2,FALSE))","v":""}]
[{"$f":"IF(H677=\"\",\"\",VLOOKUP(H677,MAESTROS!N$2:O$2000,2,FALSE))","v":""},{"$f":"IF(I677=\"\",\"\",VLOOKUP(I677,MAESTROS!P$2:Q$2000,2,FALSE))","v":""}]
[{"$f":"IF(H678=\"\",\"\",VLOOKUP(H678,MAESTROS!N$2:O$2000,2,FALSE))","v":""},{"$f":"IF(I678=\"\",\"\",VLOOKUP(I678,MAESTROS!P$2:Q$2000,2,FALSE))","v":""}]
[{"$f":"IF(H679=\"\",\"\",VLOOKUP(H679,MAESTROS!N$2:O$2000,2,FALSE))","v":""},{"$f":"IF(I679=\"\",\"\",VLOOKUP(I679,MAESTROS!P$2:Q$2000,2,FALSE))","v":""}]
[{"$f":"IF(H680=\"\",\"\",VLOOKUP(H680,MAESTROS!N$2:O$2000,2,FALSE))","v":""},{"$f":"IF(I680=\"\",\"\",VLOOKUP(I680,MAESTROS!P$2:Q$2000,2,FALSE))","v":""}]
[{"$f":"IF(H681=\"\",\"\",VLOOKUP(H681,MAESTROS!N$2:O$2000,2,FALSE))","v":""},{"$f":"IF(I681=\"\",\"\",VLOOKUP(I681,MAESTROS!P$2:Q$2000,2,FALSE))","v":""}]
[{"$f":"IF(H682=\"\",\"\",VLOOKUP(H682,MAESTROS!N$2:O$2000,2,FALSE))","v":""},{"$f":"IF(I682=\"\",\"\",VLOOKUP(I682,MAESTROS!P$2:Q$2000,2,FALSE))","v":""}]
[{"$f":"IF(H683=\"\",\"\",VLOOKUP(H683,MAESTROS!N$2:O$2000,2,FALSE))","v":""},{"$f":"IF(I683=\"\",\"\",VLOOKUP(I683,MAESTROS!P$2:Q$2000,2,FALSE))","v":""}]
[{"$f":"IF(H684=\"\",\"\",VLOOKUP(H684,MAESTROS!N$2:O$2000,2,FALSE))","v":""},{"$f":"IF(I684=\"\",\"\",VLOOKUP(I684,MAESTROS!P$2:Q$2000,2,FALSE))","v":""}]
[{"$f":"IF(H685=\"\",\"\",VLOOKUP(H685,MAESTROS!N$2:O$2000,2,FALSE))","v":""},{"$f":"IF(I685=\"\",\"\",VLOOKUP(I685,MAESTROS!P$2:Q$2000,2,FALSE))","v":""}]
[{"$f":"IF(H686=\"\",\"\",VLOOKUP(H686,MAESTROS!N$2:O$2000,2,FALSE))","v":""},{"$f":"IF(I686=\"\",\"\",VLOOKUP(I686,MAESTROS!P$2:Q$2000,2,FALSE))","v":""}]
[{"$f":"IF(H687=\"\",\"\",VLOOKUP(H687,MAESTROS!N$2:O$2000,2,FALSE))","v":""},{"$f":"IF(I687=\"\",\"\",VLOOKUP(I687,MAESTROS!P$2:Q$2000,2,FALSE))","v":""}]
[{"$f":"IF(H688=\"\",\"\",VLOOKUP(H688,MAESTROS!N$2:O$2000,2,FALSE))","v":""},{"$f":"IF(I688=\"\",\"\",VLOOKUP(I688,MAESTROS!P$2:Q$2000,2,FALSE))","v":""}]
[{"$f":"IF(H689=\"\",\"\",VLOOKUP(H689,MAESTROS!N$2:O$2000,2,FALSE))","v":""},{"$f":"IF(I689=\"\",\"\",VLOOKUP(I689,MAESTROS!P$2:Q$2000,2,FALSE))","v":""}]
[{"$f":"IF(H690=\"\",\"\",VLOOKUP(H690,MAESTROS!N$2:O$2000,2,FALSE))","v":""},{"$f":"IF(I690=\"\",\"\",VLOOKUP(I690,MAESTROS!P$2:Q$2000,2,FALSE))","v":""}]
[{"$f":"IF(H691=\"\",\"\",VLOOKUP(H691,MAESTROS!N$2:O$2000,2,FALSE))","v":""},{"$f":"IF(I691=\"\",\"\",VLOOKUP(I691,MAESTROS!P$2:Q$2000,2,FALSE))","v":""}]
[{"$f":"IF(H692=\"\",\"\",VLOOKUP(H692,MAESTROS!N$2:O$2000,2,FALSE))","v":""},{"$f":"IF(I692=\"\",\"\",VLOOKUP(I692,MAESTROS!P$2:Q$2000,2,FALSE))","v":""}]
[{"$f":"IF(H693=\"\",\"\",VLOOKUP(H693,MAESTROS!N$2:O$2000,2,FALSE))","v":""},{"$f":"IF(I693=\"\",\"\",VLOOKUP(I693,MAESTROS!P$2:Q$2000,2,FALSE))","v":""}]
[{"$f":"IF(H694=\"\",\"\",VLOOKUP(H694,MAESTROS!N$2:O$2000,2,FALSE))","v":""},{"$f":"IF(I694=\"\",\"\",VLOOKUP(I694,MAESTROS!P$2:Q$2000,2,FALSE))","v":""}]
[{"$f":"IF(H695=\"\",\"\",VLOOKUP(H695,MAESTROS!N$2:O$2000,2,FALSE))","v":""},{"$f":"IF(I695=\"\",\"\",VLOOKUP(I695,MAESTROS!P$2:Q$2000,2,FALSE))","v":""}]
[{"$f":"IF(H696=\"\",\"\",VLOOKUP(H696,MAESTROS!N$2:O$2000,2,FALSE))","v":""},{"$f":"IF(I696=\"\",\"\",VLOOKUP(I696,MAESTROS!P$2:Q$2000,2,FALSE))","v":""}]
[{"$f":"IF(H697=\"\",\"\",VLOOKUP(H697,MAESTROS!N$2:O$2000,2,FALSE))","v":""},{"$f":"IF(I697=\"\",\"\",VLOOKUP(I697,MAESTROS!P$2:Q$2000,2,FALSE))","v":""}]
[{"$f":"IF(H698=\"\",\"\",VLOOKUP(H698,MAESTROS!N$2:O$2000,2,FALSE))","v":""},{"$f":"IF(I698=\"\",\"\",VLOOKUP(I698,MAESTROS!P$2:Q$2000,2,FALSE))","v":""}]
[{"$f":"IF(H699=\"\",\"\",VLOOKUP(H699,MAESTROS!N$2:O$2000,2,FALSE))","v":""},{"$f":"IF(I699=\"\",\"\",VLOOKUP(I699,MAESTROS!P$2:Q$2000,2,FALSE))","v":""}]
[{"$f":"IF(H700=\"\",\"\",VLOOKUP(H700,MAESTROS!N$2:O$2000,2,FALSE))","v":""},{"$f":"IF(I700=\"\",\"\",VLOOKUP(I700,MAESTROS!P$2:Q$2000,2,FALSE))","v":""}]
[{"$f":"IF(H701=\"\",\"\",VLOOKUP(H701,MAESTROS!N$2:O$2000,2,FALSE))","v":""},{"$f":"IF(I701=\"\",\"\",VLOOKUP(I701,MAESTROS!P$2:Q$2000,2,FALSE))","v":""}]
[{"$f":"IF(H702=\"\",\"\",VLOOKUP(H702,MAESTROS!N$2:O$2000,2,FALSE))","v":""},{"$f":"IF(I702=\"\",\"\",VLOOKUP(I702,MAESTROS!P$2:Q$2000,2,FALSE))","v":""}]
[{"$f":"IF(H703=\"\",\"\",VLOOKUP(H703,MAESTROS!N$2:O$2000,2,FALSE))","v":""},{"$f":"IF(I703=\"\",\"\",VLOOKUP(I703,MAESTROS!P$2:Q$2000,2,FALSE))","v":""}]
[{"$f":"IF(H704=\"\",\"\",VLOOKUP(H704,MAESTROS!N$2:O$2000,2,FALSE))","v":""},{"$f":"IF(I704=\"\",\"\",VLOOKUP(I704,MAESTROS!P$2:Q$2000,2,FALSE))","v":""}]
[{"$f":"IF(H705=\"\",\"\",VLOOKUP(H705,MAESTROS!N$2:O$2000,2,FALSE))","v":""},{"$f":"IF(I705=\"\",\"\",VLOOKUP(I705,MAESTROS!P$2:Q$2000,2,FALSE))","v":""}]
[{"$f":"IF(H706=\"\",\"\",VLOOKUP(H706,MAESTROS!N$2:O$2000,2,FALSE))","v":""},{"$f":"IF(I706=\"\",\"\",VLOOKUP(I706,MAESTROS!P$2:Q$2000,2,FALSE))","v":""}]
[{"$f":"IF(H707=\"\",\"\",VLOOKUP(H707,MAESTROS!N$2:O$2000,2,FALSE))","v":""},{"$f":"IF(I707=\"\",\"\",VLOOKUP(I707,MAESTROS!P$2:Q$2000,2,FALSE))","v":""}]
[{"$f":"IF(H708=\"\",\"\",VLOOKUP(H708,MAESTROS!N$2:O$2000,2,FALSE))","v":""},{"$f":"IF(I708=\"\",\"\",VLOOKUP(I708,MAESTROS!P$2:Q$2000,2,FALSE))","v":""}]
[{"$f":"IF(H709=\"\",\"\",VLOOKUP(H709,MAESTROS!N$2:O$2000,2,FALSE))","v":""},{"$f":"IF(I709=\"\",\"\",VLOOKUP(I709,MAESTROS!P$2:Q$2000,2,FALSE))","v":""}]
[{"$f":"IF(H710=\"\",\"\",VLOOKUP(H710,MAESTROS!N$2:O$2000,2,FALSE))","v":""},{"$f":"IF(I710=\"\",\"\",VLOOKUP(I710,MAESTROS!P$2:Q$2000,2,FALSE))","v":""}]
[{"$f":"IF(H711=\"\",\"\",VLOOKUP(H711,MAESTROS!N$2:O$2000,2,FALSE))","v":""},{"$f":"IF(I711=\"\",\"\",VLOOKUP(I711,MAESTROS!P$2:Q$2000,2,FALSE))","v":""}]
[{"$f":"IF(H712=\"\",\"\",VLOOKUP(H712,MAESTROS!N$2:O$2000,2,FALSE))","v":""},{"$f":"IF(I712=\"\",\"\",VLOOKUP(I712,MAESTROS!P$2:Q$2000,2,FALSE))","v":""}]
[{"$f":"IF(H713=\"\",\"\",VLOOKUP(H713,MAESTROS!N$2:O$2000,2,FALSE))","v":""},{"$f":"IF(I713=\"\",\"\",VLOOKUP(I713,MAESTROS!P$2:Q$2000,2,FALSE))","v":""}]
[{"$f":"IF(H714=\"\",\"\",VLOOKUP(H714,MAESTROS!N$2:O$2000,2,FALSE))","v":""},{"$f":"IF(I714=\"\",\"\",VLOOKUP(I714,MAESTROS!P$2:Q$2000,2,FALSE))","v":""}]
[{"$f":"IF(H715=\"\",\"\",VLOOKUP(H715,MAESTROS!N$2:O$2000,2,FALSE))","v":""},{"$f":"IF(I715=\"\",\"\",VLOOKUP(I715,MAESTROS!P$2:Q$2000,2,FALSE))","v":""}]
[{"$f":"IF(H716=\"\",\"\",VLOOKUP(H716,MAESTROS!N$2:O$2000,2,FALSE))","v":""},{"$f":"IF(I716=\"\",\"\",VLOOKUP(I716,MAESTROS!P$2:Q$2000,2,FALSE))","v":""}]
[{"$f":"IF(H717=\"\",\"\",VLOOKUP(H717,MAESTROS!N$2:O$2000,2,FALSE))","v":""},{"$f":"IF(I717=\"\",\"\",VLOOKUP(I717,MAESTROS!P$2:Q$2000,2,FALSE))","v":""}]
[{"$f":"IF(H718=\"\",\"\",VLOOKUP(H718,MAESTROS!N$2:O$2000,2,FALSE))","v":""},{"$f":"IF(I718=\"\",\"\",VLOOKUP(I718,MAESTROS!P$2:Q$2000,2,FALSE))","v":""}]
[{"$f":"IF(H719=\"\",\"\",VLOOKUP(H719,MAESTROS!N$2:O$2000,2,FALSE))","v":""},{"$f":"IF(I719=\"\",\"\",VLOOKUP(I719,MAESTROS!P$2:Q$2000,2,FALSE))","v":""}]
[{"$f":"IF(H720=\"\",\"\",VLOOKUP(H720,MAESTROS!N$2:O$2000,2,FALSE))","v":""},{"$f":"IF(I720=\"\",\"\",VLOOKUP(I720,MAESTROS!P$2:Q$2000,2,FALSE))","v":""}]
[{"$f":"IF(H721=\"\",\"\",VLOOKUP(H721,MAESTROS!N$2:O$2000,2,FALSE))","v":""},{"$f":"IF(I721=\"\",\"\",VLOOKUP(I721,MAESTROS!P$2:Q$2000,2,FALSE))","v":""}]
[{"$f":"IF(H722=\"\",\"\",VLOOKUP(H722,MAESTROS!N$2:O$2000,2,FALSE))","v":""},{"$f":"IF(I722=\"\",\"\",VLOOKUP(I722,MAESTROS!P$2:Q$2000,2,FALSE))","v":""}]
[{"$f":"IF(H723=\"\",\"\",VLOOKUP(H723,MAESTROS!N$2:O$2000,2,FALSE))","v":""},{"$f":"IF(I723=\"\",\"\",VLOOKUP(I723,MAESTROS!P$2:Q$2000,2,FALSE))","v":""}]
[{"$f":"IF(H724=\"\",\"\",VLOOKUP(H724,MAESTROS!N$2:O$2000,2,FALSE))","v":""},{"$f":"IF(I724=\"\",\"\",VLOOKUP(I724,MAESTROS!P$2:Q$2000,2,FALSE))","v":""}]
[{"$f":"IF(H725=\"\",\"\",VLOOKUP(H725,MAESTROS!N$2:O$2000,2,FALSE))","v":""},{"$f":"IF(I725=\"\",\"\",VLOOKUP(I725,MAESTROS!P$2:Q$2000,2,FALSE))","v":""}]
[{"$f":"IF(H726=\"\",\"\",VLOOKUP(H726,MAESTROS!N$2:O$2000,2,FALSE))","v":""},{"$f":"IF(I726=\"\",\"\",VLOOKUP(I726,MAESTROS!P$2:Q$2000,2,FALSE))","v":""}]
[{"$f":"IF(H727=\"\",\"\",VLOOKUP(H727,MAESTROS!N$2:O$2000,2,FALSE))","v":""},{"$f":"IF(I727=\"\",\"\",VLOOKUP(I727,MAESTROS!P$2:Q$2000,2,FALSE))","v":""}]
[{"$f":"IF(H728=\"\",\"\",VLOOKUP(H728,MAESTROS!N$2:O$2000,2,FALSE))","v":""},{"$f":"IF(I728=\"\",\"\",VLOOKUP(I728,MAESTROS!P$2:Q$2000,2,FALSE))","v":""}]
[{"$f":"IF(H729=\"\",\"\",VLOOKUP(H729,MAESTROS!N$2:O$2000,2,FALSE))","v":""},{"$f":"IF(I729=\"\",\"\",VLOOKUP(I729,MAESTROS!P$2:Q$2000,2,FALSE))","v":""}]
[{"$f":"IF(H730=\"\",\"\",VLOOKUP(H730,MAESTROS!N$2:O$2000,2,FALSE))","v":""},{"$f":"IF(I730=\"\",\"\",VLOOKUP(I730,MAESTROS!P$2:Q$2000,2,FALSE))","v":""}]
[{"$f":"IF(H731=\"\",\"\",VLOOKUP(H731,MAESTROS!N$2:O$2000,2,FALSE))","v":""},{"$f":"IF(I731=\"\",\"\",VLOOKUP(I731,MAESTROS!P$2:Q$2000,2,FALSE))","v":""}]
[{"$f":"IF(H732=\"\",\"\",VLOOKUP(H732,MAESTROS!N$2:O$2000,2,FALSE))","v":""},{"$f":"IF(I732=\"\",\"\",VLOOKUP(I732,MAESTROS!P$2:Q$2000,2,FALSE))","v":""}]
[{"$f":"IF(H733=\"\",\"\",VLOOKUP(H733,MAESTROS!N$2:O$2000,2,FALSE))","v":""},{"$f":"IF(I733=\"\",\"\",VLOOKUP(I733,MAESTROS!P$2:Q$2000,2,FALSE))","v":""}]
[{"$f":"IF(H734=\"\",\"\",VLOOKUP(H734,MAESTROS!N$2:O$2000,2,FALSE))","v":""},{"$f":"IF(I734=\"\",\"\",VLOOKUP(I734,MAESTROS!P$2:Q$2000,2,FALSE))","v":""}]
[{"$f":"IF(H735=\"\",\"\",VLOOKUP(H735,MAESTROS!N$2:O$2000,2,FALSE))","v":""},{"$f":"IF(I735=\"\",\"\",VLOOKUP(I735,MAESTROS!P$2:Q$2000,2,FALSE))","v":""}]
[{"$f":"IF(H736=\"\",\"\",VLOOKUP(H736,MAESTROS!N$2:O$2000,2,FALSE))","v":""},{"$f":"IF(I736=\"\",\"\",VLOOKUP(I736,MAESTROS!P$2:Q$2000,2,FALSE))","v":""}]
[{"$f":"IF(H737=\"\",\"\",VLOOKUP(H737,MAESTROS!N$2:O$2000,2,FALSE))","v":""},{"$f":"IF(I737=\"\",\"\",VLOOKUP(I737,MAESTROS!P$2:Q$2000,2,FALSE))","v":""}]
[{"$f":"IF(H738=\"\",\"\",VLOOKUP(H738,MAESTROS!N$2:O$2000,2,FALSE))","v":""},{"$f":"IF(I738=\"\",\"\",VLOOKUP(I738,MAESTROS!P$2:Q$2000,2,FALSE))","v":""}]
[{"$f":"IF(H739=\"\",\"\",VLOOKUP(H739,MAESTROS!N$2:O$2000,2,FALSE))","v":""},{"$f":"IF(I739=\"\",\"\",VLOOKUP(I739,MAESTROS!P$2:Q$2000,2,FALSE))","v":""}]
[{"$f":"IF(H740=\"\",\"\",VLOOKUP(H740,MAESTROS!N$2:O$2000,2,FALSE))","v":""},{"$f":"IF(I740=\"\",\"\",VLOOKUP(I740,MAESTROS!P$2:Q$2000,2,FALSE))","v":""}]
[{"$f":"IF(H741=\"\",\"\",VLOOKUP(H741,MAESTROS!N$2:O$2000,2,FALSE))","v":""},{"$f":"IF(I741=\"\",\"\",VLOOKUP(I741,MAESTROS!P$2:Q$2000,2,FALSE))","v":""}]
[{"$f":"IF(H742=\"\",\"\",VLOOKUP(H742,MAESTROS!N$2:O$2000,2,FALSE))","v":""},{"$f":"IF(I742=\"\",\"\",VLOOKUP(I742,MAESTROS!P$2:Q$2000,2,FALSE))","v":""}]
[{"$f":"IF(H743=\"\",\"\",VLOOKUP(H743,MAESTROS!N$2:O$2000,2,FALSE))","v":""},{"$f":"IF(I743=\"\",\"\",VLOOKUP(I743,MAESTROS!P$2:Q$2000,2,FALSE))","v":""}]
[{"$f":"IF(H744=\"\",\"\",VLOOKUP(H744,MAESTROS!N$2:O$2000,2,FALSE))","v":""},{"$f":"IF(I744=\"\",\"\",VLOOKUP(I744,MAESTROS!P$2:Q$2000,2,FALSE))","v":""}]
[{"$f":"IF(H745=\"\",\"\",VLOOKUP(H745,MAESTROS!N$2:O$2000,2,FALSE))","v":""},{"$f":"IF(I745=\"\",\"\",VLOOKUP(I745,MAESTROS!P$2:Q$2000,2,FALSE))","v":""}]
[{"$f":"IF(H746=\"\",\"\",VLOOKUP(H746,MAESTROS!N$2:O$2000,2,FALSE))","v":""},{"$f":"IF(I746=\"\",\"\",VLOOKUP(I746,MAESTROS!P$2:Q$2000,2,FALSE))","v":""}]
[{"$f":"IF(H747=\"\",\"\",VLOOKUP(H747,MAESTROS!N$2:O$2000,2,FALSE))","v":""},{"$f":"IF(I747=\"\",\"\",VLOOKUP(I747,MAESTROS!P$2:Q$2000,2,FALSE))","v":""}]
[{"$f":"IF(H748=\"\",\"\",VLOOKUP(H748,MAESTROS!N$2:O$2000,2,FALSE))","v":""},{"$f":"IF(I748=\"\",\"\",VLOOKUP(I748,MAESTROS!P$2:Q$2000,2,FALSE))","v":""}]
[{"$f":"IF(H749=\"\",\"\",VLOOKUP(H749,MAESTROS!N$2:O$2000,2,FALSE))","v":""},{"$f":"IF(I749=\"\",\"\",VLOOKUP(I749,MAESTROS!P$2:Q$2000,2,FALSE))","v":""}]
[{"$f":"IF(H750=\"\",\"\",VLOOKUP(H750,MAESTROS!N$2:O$2000,2,FALSE))","v":""},{"$f":"IF(I750=\"\",\"\",VLOOKUP(I750,MAESTROS!P$2:Q$2000,2,FALSE))","v":""}]
[{"$f":"IF(H751=\"\",\"\",VLOOKUP(H751,MAESTROS!N$2:O$2000,2,FALSE))","v":""},{"$f":"IF(I751=\"\",\"\",VLOOKUP(I751,MAESTROS!P$2:Q$2000,2,FALSE))","v":""}]
[{"$f":"IF(H752=\"\",\"\",VLOOKUP(H752,MAESTROS!N$2:O$2000,2,FALSE))","v":""},{"$f":"IF(I752=\"\",\"\",VLOOKUP(I752,MAESTROS!P$2:Q$2000,2,FALSE))","v":""}]
[{"$f":"IF(H753=\"\",\"\",VLOOKUP(H753,MAESTROS!N$2:O$2000,2,FALSE))","v":""},{"$f":"IF(I753=\"\",\"\",VLOOKUP(I753,MAESTROS!P$2:Q$2000,2,FALSE))","v":""}]
[{"$f":"IF(H754=\"\",\"\",VLOOKUP(H754,MAESTROS!N$2:O$2000,2,FALSE))","v":""},{"$f":"IF(I754=\"\",\"\",VLOOKUP(I754,MAESTROS!P$2:Q$2000,2,FALSE))","v":""}]
[{"$f":"IF(H755=\"\",\"\",VLOOKUP(H755,MAESTROS!N$2:O$2000,2,FALSE))","v":""},{"$f":"IF(I755=\"\",\"\",VLOOKUP(I755,MAESTROS!P$2:Q$2000,2,FALSE))","v":""}]
[{"$f":"IF(H756=\"\",\"\",VLOOKUP(H756,MAESTROS!N$2:O$2000,2,FALSE))","v":""},{"$f":"IF(I756=\"\",\"\",VLOOKUP(I756,MAESTROS!P$2:Q$2000,2,FALSE))","v":""}]
[{"$f":"IF(H757=\"\",\"\",VLOOKUP(H757,MAESTROS!N$2:O$2000,2,FALSE))","v":""},{"$f":"IF(I757=\"\",\"\",VLOOKUP(I757,MAESTROS!P$2:Q$2000,2,FALSE))","v":""}]
[{"$f":"IF(H758=\"\",\"\",VLOOKUP(H758,MAESTROS!N$2:O$2000,2,FALSE))","v":""},{"$f":"IF(I758=\"\",\"\",VLOOKUP(I758,MAESTROS!P$2:Q$2000,2,FALSE))","v":""}]
[{"$f":"IF(H759=\"\",\"\",VLOOKUP(H759,MAESTROS!N$2:O$2000,2,FALSE))","v":""},{"$f":"IF(I759=\"\",\"\",VLOOKUP(I759,MAESTROS!P$2:Q$2000,2,FALSE))","v":""}]
[{"$f":"IF(H760=\"\",\"\",VLOOKUP(H760,MAESTROS!N$2:O$2000,2,FALSE))","v":""},{"$f":"IF(I760=\"\",\"\",VLOOKUP(I760,MAESTROS!P$2:Q$2000,2,FALSE))","v":""}]
[{"$f":"IF(H761=\"\",\"\",VLOOKUP(H761,MAESTROS!N$2:O$2000,2,FALSE))","v":""},{"$f":"IF(I761=\"\",\"\",VLOOKUP(I761,MAESTROS!P$2:Q$2000,2,FALSE))","v":""}]
[{"$f":"IF(H762=\"\",\"\",VLOOKUP(H762,MAESTROS!N$2:O$2000,2,FALSE))","v":""},{"$f":"IF(I762=\"\",\"\",VLOOKUP(I762,MAESTROS!P$2:Q$2000,2,FALSE))","v":""}]
[{"$f":"IF(H763=\"\",\"\",VLOOKUP(H763,MAESTROS!N$2:O$2000,2,FALSE))","v":""},{"$f":"IF(I763=\"\",\"\",VLOOKUP(I763,MAESTROS!P$2:Q$2000,2,FALSE))","v":""}]
[{"$f":"IF(H764=\"\",\"\",VLOOKUP(H764,MAESTROS!N$2:O$2000,2,FALSE))","v":""},{"$f":"IF(I764=\"\",\"\",VLOOKUP(I764,MAESTROS!P$2:Q$2000,2,FALSE))","v":""}]
[{"$f":"IF(H765=\"\",\"\",VLOOKUP(H765,MAESTROS!N$2:O$2000,2,FALSE))","v":""},{"$f":"IF(I765=\"\",\"\",VLOOKUP(I765,MAESTROS!P$2:Q$2000,2,FALSE))","v":""}]
[{"$f":"IF(H766=\"\",\"\",VLOOKUP(H766,MAESTROS!N$2:O$2000,2,FALSE))","v":""},{"$f":"IF(I766=\"\",\"\",VLOOKUP(I766,MAESTROS!P$2:Q$2000,2,FALSE))","v":""}]
[{"$f":"IF(H767=\"\",\"\",VLOOKUP(H767,MAESTROS!N$2:O$2000,2,FALSE))","v":""},{"$f":"IF(I767=\"\",\"\",VLOOKUP(I767,MAESTROS!P$2:Q$2000,2,FALSE))","v":""}]
[{"$f":"IF(H768=\"\",\"\",VLOOKUP(H768,MAESTROS!N$2:O$2000,2,FALSE))","v":""},{"$f":"IF(I768=\"\",\"\",VLOOKUP(I768,MAESTROS!P$2:Q$2000,2,FALSE))","v":""}]
[{"$f":"IF(H769=\"\",\"\",VLOOKUP(H769,MAESTROS!N$2:O$2000,2,FALSE))","v":""},{"$f":"IF(I769=\"\",\"\",VLOOKUP(I769,MAESTROS!P$2:Q$2000,2,FALSE))","v":""}]
[{"$f":"IF(H770=\"\",\"\",VLOOKUP(H770,MAESTROS!N$2:O$2000,2,FALSE))","v":""},{"$f":"IF(I770=\"\",\"\",VLOOKUP(I770,MAESTROS!P$2:Q$2000,2,FALSE))","v":""}]
[{"$f":"IF(H771=\"\",\"\",VLOOKUP(H771,MAESTROS!N$2:O$2000,2,FALSE))","v":""},{"$f":"IF(I771=\"\",\"\",VLOOKUP(I771,MAESTROS!P$2:Q$2000,2,FALSE))","v":""}]
[{"$f":"IF(H772=\"\",\"\",VLOOKUP(H772,MAESTROS!N$2:O$2000,2,FALSE))","v":""},{"$f":"IF(I772=\"\",\"\",VLOOKUP(I772,MAESTROS!P$2:Q$2000,2,FALSE))","v":""}]
[{"$f":"IF(H773=\"\",\"\",VLOOKUP(H773,MAESTROS!N$2:O$2000,2,FALSE))","v":""},{"$f":"IF(I773=\"\",\"\",VLOOKUP(I773,MAESTROS!P$2:Q$2000,2,FALSE))","v":""}]
[{"$f":"IF(H774=\"\",\"\",VLOOKUP(H774,MAESTROS!N$2:O$2000,2,FALSE))","v":""},{"$f":"IF(I774=\"\",\"\",VLOOKUP(I774,MAESTROS!P$2:Q$2000,2,FALSE))","v":""}]
[{"$f":"IF(H775=\"\",\"\",VLOOKUP(H775,MAESTROS!N$2:O$2000,2,FALSE))","v":""},{"$f":"IF(I775=\"\",\"\",VLOOKUP(I775,MAESTROS!P$2:Q$2000,2,FALSE))","v":""}]
[{"$f":"IF(H776=\"\",\"\",VLOOKUP(H776,MAESTROS!N$2:O$2000,2,FALSE))","v":""},{"$f":"IF(I776=\"\",\"\",VLOOKUP(I776,MAESTROS!P$2:Q$2000,2,FALSE))","v":""}]
[{"$f":"IF(H777=\"\",\"\",VLOOKUP(H777,MAESTROS!N$2:O$2000,2,FALSE))","v":""},{"$f":"IF(I777=\"\",\"\",VLOOKUP(I777,MAESTROS!P$2:Q$2000,2,FALSE))","v":""}]
[{"$f":"IF(H778=\"\",\"\",VLOOKUP(H778,MAESTROS!N$2:O$2000,2,FALSE))","v":""},{"$f":"IF(I778=\"\",\"\",VLOOKUP(I778,MAESTROS!P$2:Q$2000,2,FALSE))","v":""}]
[{"$f":"IF(H779=\"\",\"\",VLOOKUP(H779,MAESTROS!N$2:O$2000,2,FALSE))","v":""},{"$f":"IF(I779=\"\",\"\",VLOOKUP(I779,MAESTROS!P$2:Q$2000,2,FALSE))","v":""}]
[{"$f":"IF(H780=\"\",\"\",VLOOKUP(H780,MAESTROS!N$2:O$2000,2,FALSE))","v":""},{"$f":"IF(I780=\"\",\"\",VLOOKUP(I780,MAESTROS!P$2:Q$2000,2,FALSE))","v":""}]
[{"$f":"IF(H781=\"\",\"\",VLOOKUP(H781,MAESTROS!N$2:O$2000,2,FALSE))","v":""},{"$f":"IF(I781=\"\",\"\",VLOOKUP(I781,MAESTROS!P$2:Q$2000,2,FALSE))","v":""}]
[{"$f":"IF(H782=\"\",\"\",VLOOKUP(H782,MAESTROS!N$2:O$2000,2,FALSE))","v":""},{"$f":"IF(I782=\"\",\"\",VLOOKUP(I782,MAESTROS!P$2:Q$2000,2,FALSE))","v":""}]
[{"$f":"IF(H783=\"\",\"\",VLOOKUP(H783,MAESTROS!N$2:O$2000,2,FALSE))","v":""},{"$f":"IF(I783=\"\",\"\",VLOOKUP(I783,MAESTROS!P$2:Q$2000,2,FALSE))","v":""}]
[{"$f":"IF(H784=\"\",\"\",VLOOKUP(H784,MAESTROS!N$2:O$2000,2,FALSE))","v":""},{"$f":"IF(I784=\"\",\"\",VLOOKUP(I784,MAESTROS!P$2:Q$2000,2,FALSE))","v":""}]
[{"$f":"IF(H785=\"\",\"\",VLOOKUP(H785,MAESTROS!N$2:O$2000,2,FALSE))","v":""},{"$f":"IF(I785=\"\",\"\",VLOOKUP(I785,MAESTROS!P$2:Q$2000,2,FALSE))","v":""}]
[{"$f":"IF(H786=\"\",\"\",VLOOKUP(H786,MAESTROS!N$2:O$2000,2,FALSE))","v":""},{"$f":"IF(I786=\"\",\"\",VLOOKUP(I786,MAESTROS!P$2:Q$2000,2,FALSE))","v":""}]
[{"$f":"IF(H787=\"\",\"\",VLOOKUP(H787,MAESTROS!N$2:O$2000,2,FALSE))","v":""},{"$f":"IF(I787=\"\",\"\",VLOOKUP(I787,MAESTROS!P$2:Q$2000,2,FALSE))","v":""}]
[{"$f":"IF(H788=\"\",\"\",VLOOKUP(H788,MAESTROS!N$2:O$2000,2,FALSE))","v":""},{"$f":"IF(I788=\"\",\"\",VLOOKUP(I788,MAESTROS!P$2:Q$2000,2,FALSE))","v":""}]
[{"$f":"IF(H789=\"\",\"\",VLOOKUP(H789,MAESTROS!N$2:O$2000,2,FALSE))","v":""},{"$f":"IF(I789=\"\",\"\",VLOOKUP(I789,MAESTROS!P$2:Q$2000,2,FALSE))","v":""}]
[{"$f":"IF(H790=\"\",\"\",VLOOKUP(H790,MAESTROS!N$2:O$2000,2,FALSE))","v":""},{"$f":"IF(I790=\"\",\"\",VLOOKUP(I790,MAESTROS!P$2:Q$2000,2,FALSE))","v":""}]
[{"$f":"IF(H791=\"\",\"\",VLOOKUP(H791,MAESTROS!N$2:O$2000,2,FALSE))","v":""},{"$f":"IF(I791=\"\",\"\",VLOOKUP(I791,MAESTROS!P$2:Q$2000,2,FALSE))","v":""}]
[{"$f":"IF(H792=\"\",\"\",VLOOKUP(H792,MAESTROS!N$2:O$2000,2,FALSE))","v":""},{"$f":"IF(I792=\"\",\"\",VLOOKUP(I792,MAESTROS!P$2:Q$2000,2,FALSE))","v":""}]
[{"$f":"IF(H793=\"\",\"\",VLOOKUP(H793,MAESTROS!N$2:O$2000,2,FALSE))","v":""},{"$f":"IF(I793=\"\",\"\",VLOOKUP(I793,MAESTROS!P$2:Q$2000,2,FALSE))","v":""}]
[{"$f":"IF(H794=\"\",\"\",VLOOKUP(H794,MAESTROS!N$2:O$2000,2,FALSE))","v":""},{"$f":"IF(I794=\"\",\"\",VLOOKUP(I794,MAESTROS!P$2:Q$2000,2,FALSE))","v":""}]
[{"$f":"IF(H795=\"\",\"\",VLOOKUP(H795,MAESTROS!N$2:O$2000,2,FALSE))","v":""},{"$f":"IF(I795=\"\",\"\",VLOOKUP(I795,MAESTROS!P$2:Q$2000,2,FALSE))","v":""}]
[{"$f":"IF(H796=\"\",\"\",VLOOKUP(H796,MAESTROS!N$2:O$2000,2,FALSE))","v":""},{"$f":"IF(I796=\"\",\"\",VLOOKUP(I796,MAESTROS!P$2:Q$2000,2,FALSE))","v":""}]
[{"$f":"IF(H797=\"\",\"\",VLOOKUP(H797,MAESTROS!N$2:O$2000,2,FALSE))","v":""},{"$f":"IF(I797=\"\",\"\",VLOOKUP(I797,MAESTROS!P$2:Q$2000,2,FALSE))","v":""}]
[{"$f":"IF(H798=\"\",\"\",VLOOKUP(H798,MAESTROS!N$2:O$2000,2,FALSE))","v":""},{"$f":"IF(I798=\"\",\"\",VLOOKUP(I798,MAESTROS!P$2:Q$2000,2,FALSE))","v":""}]
[{"$f":"IF(H799=\"\",\"\",VLOOKUP(H799,MAESTROS!N$2:O$2000,2,FALSE))","v":""},{"$f":"IF(I799=\"\",\"\",VLOOKUP(I799,MAESTROS!P$2:Q$2000,2,FALSE))","v":""}]
[{"$f":"IF(H800=\"\",\"\",VLOOKUP(H800,MAESTROS!N$2:O$2000,2,FALSE))","v":""},{"$f":"IF(I800=\"\",\"\",VLOOKUP(I800,MAESTROS!P$2:Q$2000,2,FALSE))","v":""}]
[{"$f":"IF(H801=\"\",\"\",VLOOKUP(H801,MAESTROS!N$2:O$2000,2,FALSE))","v":""},{"$f":"IF(I801=\"\",\"\",VLOOKUP(I801,MAESTROS!P$2:Q$2000,2,FALSE))","v":""}]
[{"$f":"IF(H802=\"\",\"\",VLOOKUP(H802,MAESTROS!N$2:O$2000,2,FALSE))","v":""},{"$f":"IF(I802=\"\",\"\",VLOOKUP(I802,MAESTROS!P$2:Q$2000,2,FALSE))","v":""}]
[{"$f":"IF(H803=\"\",\"\",VLOOKUP(H803,MAESTROS!N$2:O$2000,2,FALSE))","v":""},{"$f":"IF(I803=\"\",\"\",VLOOKUP(I803,MAESTROS!P$2:Q$2000,2,FALSE))","v":""}]
[{"$f":"IF(H804=\"\",\"\",VLOOKUP(H804,MAESTROS!N$2:O$2000,2,FALSE))","v":""},{"$f":"IF(I804=\"\",\"\",VLOOKUP(I804,MAESTROS!P$2:Q$2000,2,FALSE))","v":""}]
[{"$f":"IF(H805=\"\",\"\",VLOOKUP(H805,MAESTROS!N$2:O$2000,2,FALSE))","v":""},{"$f":"IF(I805=\"\",\"\",VLOOKUP(I805,MAESTROS!P$2:Q$2000,2,FALSE))","v":""}]
[{"$f":"IF(H806=\"\",\"\",VLOOKUP(H806,MAESTROS!N$2:O$2000,2,FALSE))","v":""},{"$f":"IF(I806=\"\",\"\",VLOOKUP(I806,MAESTROS!P$2:Q$2000,2,FALSE))","v":""}]
[{"$f":"IF(H807=\"\",\"\",VLOOKUP(H807,MAESTROS!N$2:O$2000,2,FALSE))","v":""},{"$f":"IF(I807=\"\",\"\",VLOOKUP(I807,MAESTROS!P$2:Q$2000,2,FALSE))","v":""}]
[{"$f":"IF(H808=\"\",\"\",VLOOKUP(H808,MAESTROS!N$2:O$2000,2,FALSE))","v":""},{"$f":"IF(I808=\"\",\"\",VLOOKUP(I808,MAESTROS!P$2:Q$2000,2,FALSE))","v":""}]
[{"$f":"IF(H809=\"\",\"\",VLOOKUP(H809,MAESTROS!N$2:O$2000,2,FALSE))","v":""},{"$f":"IF(I809=\"\",\"\",VLOOKUP(I809,MAESTROS!P$2:Q$2000,2,FALSE))","v":""}]
[{"$f":"IF(H810=\"\",\"\",VLOOKUP(H810,MAESTROS!N$2:O$2000,2,FALSE))","v":""},{"$f":"IF(I810=\"\",\"\",VLOOKUP(I810,MAESTROS!P$2:Q$2000,2,FALSE))","v":""}]
[{"$f":"IF(H811=\"\",\"\",VLOOKUP(H811,MAESTROS!N$2:O$2000,2,FALSE))","v":""},{"$f":"IF(I811=\"\",\"\",VLOOKUP(I811,MAESTROS!P$2:Q$2000,2,FALSE))","v":""}]
[{"$f":"IF(H812=\"\",\"\",VLOOKUP(H812,MAESTROS!N$2:O$2000,2,FALSE))","v":""},{"$f":"IF(I812=\"\",\"\",VLOOKUP(I812,MAESTROS!P$2:Q$2000,2,FALSE))","v":""}]
[{"$f":"IF(H813=\"\",\"\",VLOOKUP(H813,MAESTROS!N$2:O$2000,2,FALSE))","v":""},{"$f":"IF(I813=\"\",\"\",VLOOKUP(I813,MAESTROS!P$2:Q$2000,2,FALSE))","v":""}]
[{"$f":"IF(H814=\"\",\"\",VLOOKUP(H814,MAESTROS!N$2:O$2000,2,FALSE))","v":""},{"$f":"IF(I814=\"\",\"\",VLOOKUP(I814,MAESTROS!P$2:Q$2000,2,FALSE))","v":""}]
[{"$f":"IF(H815=\"\",\"\",VLOOKUP(H815,MAESTROS!N$2:O$2000,2,FALSE))","v":""},{"$f":"IF(I815=\"\",\"\",VLOOKUP(I815,MAESTROS!P$2:Q$2000,2,FALSE))","v":""}]
[{"$f":"IF(H816=\"\",\"\",VLOOKUP(H816,MAESTROS!N$2:O$2000,2,FALSE))","v":""},{"$f":"IF(I816=\"\",\"\",VLOOKUP(I816,MAESTROS!P$2:Q$2000,2,FALSE))","v":""}]
[{"$f":"IF(H817=\"\",\"\",VLOOKUP(H817,MAESTROS!N$2:O$2000,2,FALSE))","v":""},{"$f":"IF(I817=\"\",\"\",VLOOKUP(I817,MAESTROS!P$2:Q$2000,2,FALSE))","v":""}]
[{"$f":"IF(H818=\"\",\"\",VLOOKUP(H818,MAESTROS!N$2:O$2000,2,FALSE))","v":""},{"$f":"IF(I818=\"\",\"\",VLOOKUP(I818,MAESTROS!P$2:Q$2000,2,FALSE))","v":""}]
[{"$f":"IF(H819=\"\",\"\",VLOOKUP(H819,MAESTROS!N$2:O$2000,2,FALSE))","v":""},{"$f":"IF(I819=\"\",\"\",VLOOKUP(I819,MAESTROS!P$2:Q$2000,2,FALSE))","v":""}]
[{"$f":"IF(H820=\"\",\"\",VLOOKUP(H820,MAESTROS!N$2:O$2000,2,FALSE))","v":""},{"$f":"IF(I820=\"\",\"\",VLOOKUP(I820,MAESTROS!P$2:Q$2000,2,FALSE))","v":""}]
[{"$f":"IF(H821=\"\",\"\",VLOOKUP(H821,MAESTROS!N$2:O$2000,2,FALSE))","v":""},{"$f":"IF(I821=\"\",\"\",VLOOKUP(I821,MAESTROS!P$2:Q$2000,2,FALSE))","v":""}]
[{"$f":"IF(H822=\"\",\"\",VLOOKUP(H822,MAESTROS!N$2:O$2000,2,FALSE))","v":""},{"$f":"IF(I822=\"\",\"\",VLOOKUP(I822,MAESTROS!P$2:Q$2000,2,FALSE))","v":""}]
[{"$f":"IF(H823=\"\",\"\",VLOOKUP(H823,MAESTROS!N$2:O$2000,2,FALSE))","v":""},{"$f":"IF(I823=\"\",\"\",VLOOKUP(I823,MAESTROS!P$2:Q$2000,2,FALSE))","v":""}]
[{"$f":"IF(H824=\"\",\"\",VLOOKUP(H824,MAESTROS!N$2:O$2000,2,FALSE))","v":""},{"$f":"IF(I824=\"\",\"\",VLOOKUP(I824,MAESTROS!P$2:Q$2000,2,FALSE))","v":""}]
[{"$f":"IF(H825=\"\",\"\",VLOOKUP(H825,MAESTROS!N$2:O$2000,2,FALSE))","v":""},{"$f":"IF(I825=\"\",\"\",VLOOKUP(I825,MAESTROS!P$2:Q$2000,2,FALSE))","v":""}]
[{"$f":"IF(H826=\"\",\"\",VLOOKUP(H826,MAESTROS!N$2:O$2000,2,FALSE))","v":""},{"$f":"IF(I826=\"\",\"\",VLOOKUP(I826,MAESTROS!P$2:Q$2000,2,FALSE))","v":""}]
[{"$f":"IF(H827=\"\",\"\",VLOOKUP(H827,MAESTROS!N$2:O$2000,2,FALSE))","v":""},{"$f":"IF(I827=\"\",\"\",VLOOKUP(I827,MAESTROS!P$2:Q$2000,2,FALSE))","v":""}]
[{"$f":"IF(H828=\"\",\"\",VLOOKUP(H828,MAESTROS!N$2:O$2000,2,FALSE))","v":""},{"$f":"IF(I828=\"\",\"\",VLOOKUP(I828,MAESTROS!P$2:Q$2000,2,FALSE))","v":""}]
[{"$f":"IF(H829=\"\",\"\",VLOOKUP(H829,MAESTROS!N$2:O$2000,2,FALSE))","v":""},{"$f":"IF(I829=\"\",\"\",VLOOKUP(I829,MAESTROS!P$2:Q$2000,2,FALSE))","v":""}]
[{"$f":"IF(H830=\"\",\"\",VLOOKUP(H830,MAESTROS!N$2:O$2000,2,FALSE))","v":""},{"$f":"IF(I830=\"\",\"\",VLOOKUP(I830,MAESTROS!P$2:Q$2000,2,FALSE))","v":""}]
[{"$f":"IF(H831=\"\",\"\",VLOOKUP(H831,MAESTROS!N$2:O$2000,2,FALSE))","v":""},{"$f":"IF(I831=\"\",\"\",VLOOKUP(I831,MAESTROS!P$2:Q$2000,2,FALSE))","v":""}]
[{"$f":"IF(H832=\"\",\"\",VLOOKUP(H832,MAESTROS!N$2:O$2000,2,FALSE))","v":""},{"$f":"IF(I832=\"\",\"\",VLOOKUP(I832,MAESTROS!P$2:Q$2000,2,FALSE))","v":""}]
[{"$f":"IF(H833=\"\",\"\",VLOOKUP(H833,MAESTROS!N$2:O$2000,2,FALSE))","v":""},{"$f":"IF(I833=\"\",\"\",VLOOKUP(I833,MAESTROS!P$2:Q$2000,2,FALSE))","v":""}]
[{"$f":"IF(H834=\"\",\"\",VLOOKUP(H834,MAESTROS!N$2:O$2000,2,FALSE))","v":""},{"$f":"IF(I834=\"\",\"\",VLOOKUP(I834,MAESTROS!P$2:Q$2000,2,FALSE))","v":""}]
[{"$f":"IF(H835=\"\",\"\",VLOOKUP(H835,MAESTROS!N$2:O$2000,2,FALSE))","v":""},{"$f":"IF(I835=\"\",\"\",VLOOKUP(I835,MAESTROS!P$2:Q$2000,2,FALSE))","v":""}]
[{"$f":"IF(H836=\"\",\"\",VLOOKUP(H836,MAESTROS!N$2:O$2000,2,FALSE))","v":""},{"$f":"IF(I836=\"\",\"\",VLOOKUP(I836,MAESTROS!P$2:Q$2000,2,FALSE))","v":""}]
[{"$f":"IF(H837=\"\",\"\",VLOOKUP(H837,MAESTROS!N$2:O$2000,2,FALSE))","v":""},{"$f":"IF(I837=\"\",\"\",VLOOKUP(I837,MAESTROS!P$2:Q$2000,2,FALSE))","v":""}]
[{"$f":"IF(H838=\"\",\"\",VLOOKUP(H838,MAESTROS!N$2:O$2000,2,FALSE))","v":""},{"$f":"IF(I838=\"\",\"\",VLOOKUP(I838,MAESTROS!P$2:Q$2000,2,FALSE))","v":""}]
[{"$f":"IF(H839=\"\",\"\",VLOOKUP(H839,MAESTROS!N$2:O$2000,2,FALSE))","v":""},{"$f":"IF(I839=\"\",\"\",VLOOKUP(I839,MAESTROS!P$2:Q$2000,2,FALSE))","v":""}]
[{"$f":"IF(H840=\"\",\"\",VLOOKUP(H840,MAESTROS!N$2:O$2000,2,FALSE))","v":""},{"$f":"IF(I840=\"\",\"\",VLOOKUP(I840,MAESTROS!P$2:Q$2000,2,FALSE))","v":""}]
[{"$f":"IF(H841=\"\",\"\",VLOOKUP(H841,MAESTROS!N$2:O$2000,2,FALSE))","v":""},{"$f":"IF(I841=\"\",\"\",VLOOKUP(I841,MAESTROS!P$2:Q$2000,2,FALSE))","v":""}]
[{"$f":"IF(H842=\"\",\"\",VLOOKUP(H842,MAESTROS!N$2:O$2000,2,FALSE))","v":""},{"$f":"IF(I842=\"\",\"\",VLOOKUP(I842,MAESTROS!P$2:Q$2000,2,FALSE))","v":""}]
[{"$f":"IF(H843=\"\",\"\",VLOOKUP(H843,MAESTROS!N$2:O$2000,2,FALSE))","v":""},{"$f":"IF(I843=\"\",\"\",VLOOKUP(I843,MAESTROS!P$2:Q$2000,2,FALSE))","v":""}]
[{"$f":"IF(H844=\"\",\"\",VLOOKUP(H844,MAESTROS!N$2:O$2000,2,FALSE))","v":""},{"$f":"IF(I844=\"\",\"\",VLOOKUP(I844,MAESTROS!P$2:Q$2000,2,FALSE))","v":""}]
[{"$f":"IF(H845=\"\",\"\",VLOOKUP(H845,MAESTROS!N$2:O$2000,2,FALSE))","v":""},{"$f":"IF(I845=\"\",\"\",VLOOKUP(I845,MAESTROS!P$2:Q$2000,2,FALSE))","v":""}]
[{"$f":"IF(H846=\"\",\"\",VLOOKUP(H846,MAESTROS!N$2:O$2000,2,FALSE))","v":""},{"$f":"IF(I846=\"\",\"\",VLOOKUP(I846,MAESTROS!P$2:Q$2000,2,FALSE))","v":""}]
[{"$f":"IF(H847=\"\",\"\",VLOOKUP(H847,MAESTROS!N$2:O$2000,2,FALSE))","v":""},{"$f":"IF(I847=\"\",\"\",VLOOKUP(I847,MAESTROS!P$2:Q$2000,2,FALSE))","v":""}]
[{"$f":"IF(H848=\"\",\"\",VLOOKUP(H848,MAESTROS!N$2:O$2000,2,FALSE))","v":""},{"$f":"IF(I848=\"\",\"\",VLOOKUP(I848,MAESTROS!P$2:Q$2000,2,FALSE))","v":""}]
[{"$f":"IF(H849=\"\",\"\",VLOOKUP(H849,MAESTROS!N$2:O$2000,2,FALSE))","v":""},{"$f":"IF(I849=\"\",\"\",VLOOKUP(I849,MAESTROS!P$2:Q$2000,2,FALSE))","v":""}]
[{"$f":"IF(H850=\"\",\"\",VLOOKUP(H850,MAESTROS!N$2:O$2000,2,FALSE))","v":""},{"$f":"IF(I850=\"\",\"\",VLOOKUP(I850,MAESTROS!P$2:Q$2000,2,FALSE))","v":""}]
[{"$f":"IF(H851=\"\",\"\",VLOOKUP(H851,MAESTROS!N$2:O$2000,2,FALSE))","v":""},{"$f":"IF(I851=\"\",\"\",VLOOKUP(I851,MAESTROS!P$2:Q$2000,2,FALSE))","v":""}]
[{"$f":"IF(H852=\"\",\"\",VLOOKUP(H852,MAESTROS!N$2:O$2000,2,FALSE))","v":""},{"$f":"IF(I852=\"\",\"\",VLOOKUP(I852,MAESTROS!P$2:Q$2000,2,FALSE))","v":""}]
[{"$f":"IF(H853=\"\",\"\",VLOOKUP(H853,MAESTROS!N$2:O$2000,2,FALSE))","v":""},{"$f":"IF(I853=\"\",\"\",VLOOKUP(I853,MAESTROS!P$2:Q$2000,2,FALSE))","v":""}]
[{"$f":"IF(H854=\"\",\"\",VLOOKUP(H854,MAESTROS!N$2:O$2000,2,FALSE))","v":""},{"$f":"IF(I854=\"\",\"\",VLOOKUP(I854,MAESTROS!P$2:Q$2000,2,FALSE))","v":""}]
[{"$f":"IF(H855=\"\",\"\",VLOOKUP(H855,MAESTROS!N$2:O$2000,2,FALSE))","v":""},{"$f":"IF(I855=\"\",\"\",VLOOKUP(I855,MAESTROS!P$2:Q$2000,2,FALSE))","v":""}]
[{"$f":"IF(H856=\"\",\"\",VLOOKUP(H856,MAESTROS!N$2:O$2000,2,FALSE))","v":""},{"$f":"IF(I856=\"\",\"\",VLOOKUP(I856,MAESTROS!P$2:Q$2000,2,FALSE))","v":""}]
[{"$f":"IF(H857=\"\",\"\",VLOOKUP(H857,MAESTROS!N$2:O$2000,2,FALSE))","v":""},{"$f":"IF(I857=\"\",\"\",VLOOKUP(I857,MAESTROS!P$2:Q$2000,2,FALSE))","v":""}]
[{"$f":"IF(H858=\"\",\"\",VLOOKUP(H858,MAESTROS!N$2:O$2000,2,FALSE))","v":""},{"$f":"IF(I858=\"\",\"\",VLOOKUP(I858,MAESTROS!P$2:Q$2000,2,FALSE))","v":""}]
[{"$f":"IF(H859=\"\",\"\",VLOOKUP(H859,MAESTROS!N$2:O$2000,2,FALSE))","v":""},{"$f":"IF(I859=\"\",\"\",VLOOKUP(I859,MAESTROS!P$2:Q$2000,2,FALSE))","v":""}]
[{"$f":"IF(H860=\"\",\"\",VLOOKUP(H860,MAESTROS!N$2:O$2000,2,FALSE))","v":""},{"$f":"IF(I860=\"\",\"\",VLOOKUP(I860,MAESTROS!P$2:Q$2000,2,FALSE))","v":""}]
[{"$f":"IF(H861=\"\",\"\",VLOOKUP(H861,MAESTROS!N$2:O$2000,2,FALSE))","v":""},{"$f":"IF(I861=\"\",\"\",VLOOKUP(I861,MAESTROS!P$2:Q$2000,2,FALSE))","v":""}]
[{"$f":"IF(H862=\"\",\"\",VLOOKUP(H862,MAESTROS!N$2:O$2000,2,FALSE))","v":""},{"$f":"IF(I862=\"\",\"\",VLOOKUP(I862,MAESTROS!P$2:Q$2000,2,FALSE))","v":""}]
[{"$f":"IF(H863=\"\",\"\",VLOOKUP(H863,MAESTROS!N$2:O$2000,2,FALSE))","v":""},{"$f":"IF(I863=\"\",\"\",VLOOKUP(I863,MAESTROS!P$2:Q$2000,2,FALSE))","v":""}]
[{"$f":"IF(H864=\"\",\"\",VLOOKUP(H864,MAESTROS!N$2:O$2000,2,FALSE))","v":""},{"$f":"IF(I864=\"\",\"\",VLOOKUP(I864,MAESTROS!P$2:Q$2000,2,FALSE))","v":""}]
[{"$f":"IF(H865=\"\",\"\",VLOOKUP(H865,MAESTROS!N$2:O$2000,2,FALSE))","v":""},{"$f":"IF(I865=\"\",\"\",VLOOKUP(I865,MAESTROS!P$2:Q$2000,2,FALSE))","v":""}]
[{"$f":"IF(H866=\"\",\"\",VLOOKUP(H866,MAESTROS!N$2:O$2000,2,FALSE))","v":""},{"$f":"IF(I866=\"\",\"\",VLOOKUP(I866,MAESTROS!P$2:Q$2000,2,FALSE))","v":""}]
[{"$f":"IF(H867=\"\",\"\",VLOOKUP(H867,MAESTROS!N$2:O$2000,2,FALSE))","v":""},{"$f":"IF(I867=\"\",\"\",VLOOKUP(I867,MAESTROS!P$2:Q$2000,2,FALSE))","v":""}]
[{"$f":"IF(H868=\"\",\"\",VLOOKUP(H868,MAESTROS!N$2:O$2000,2,FALSE))","v":""},{"$f":"IF(I868=\"\",\"\",VLOOKUP(I868,MAESTROS!P$2:Q$2000,2,FALSE))","v":""}]
[{"$f":"IF(H869=\"\",\"\",VLOOKUP(H869,MAESTROS!N$2:O$2000,2,FALSE))","v":""},{"$f":"IF(I869=\"\",\"\",VLOOKUP(I869,MAESTROS!P$2:Q$2000,2,FALSE))","v":""}]
[{"$f":"IF(H870=\"\",\"\",VLOOKUP(H870,MAESTROS!N$2:O$2000,2,FALSE))","v":""},{"$f":"IF(I870=\"\",\"\",VLOOKUP(I870,MAESTROS!P$2:Q$2000,2,FALSE))","v":""}]
[{"$f":"IF(H871=\"\",\"\",VLOOKUP(H871,MAESTROS!N$2:O$2000,2,FALSE))","v":""},{"$f":"IF(I871=\"\",\"\",VLOOKUP(I871,MAESTROS!P$2:Q$2000,2,FALSE))","v":""}]
[{"$f":"IF(H872=\"\",\"\",VLOOKUP(H872,MAESTROS!N$2:O$2000,2,FALSE))","v":""},{"$f":"IF(I872=\"\",\"\",VLOOKUP(I872,MAESTROS!P$2:Q$2000,2,FALSE))","v":""}]
[{"$f":"IF(H873=\"\",\"\",VLOOKUP(H873,MAESTROS!N$2:O$2000,2,FALSE))","v":""},{"$f":"IF(I873=\"\",\"\",VLOOKUP(I873,MAESTROS!P$2:Q$2000,2,FALSE))","v":""}]
[{"$f":"IF(H874=\"\",\"\",VLOOKUP(H874,MAESTROS!N$2:O$2000,2,FALSE))","v":""},{"$f":"IF(I874=\"\",\"\",VLOOKUP(I874,MAESTROS!P$2:Q$2000,2,FALSE))","v":""}]
[{"$f":"IF(H875=\"\",\"\",VLOOKUP(H875,MAESTROS!N$2:O$2000,2,FALSE))","v":""},{"$f":"IF(I875=\"\",\"\",VLOOKUP(I875,MAESTROS!P$2:Q$2000,2,FALSE))","v":""}]
[{"$f":"IF(H876=\"\",\"\",VLOOKUP(H876,MAESTROS!N$2:O$2000,2,FALSE))","v":""},{"$f":"IF(I876=\"\",\"\",VLOOKUP(I876,MAESTROS!P$2:Q$2000,2,FALSE))","v":""}]
[{"$f":"IF(H877=\"\",\"\",VLOOKUP(H877,MAESTROS!N$2:O$2000,2,FALSE))","v":""},{"$f":"IF(I877=\"\",\"\",VLOOKUP(I877,MAESTROS!P$2:Q$2000,2,FALSE))","v":""}]
[{"$f":"IF(H878=\"\",\"\",VLOOKUP(H878,MAESTROS!N$2:O$2000,2,FALSE))","v":""},{"$f":"IF(I878=\"\",\"\",VLOOKUP(I878,MAESTROS!P$2:Q$2000,2,FALSE))","v":""}]
[{"$f":"IF(H879=\"\",\"\",VLOOKUP(H879,MAESTROS!N$2:O$2000,2,FALSE))","v":""},{"$f":"IF(I879=\"\",\"\",VLOOKUP(I879,MAESTROS!P$2:Q$2000,2,FALSE))","v":""}]
[{"$f":"IF(H880=\"\",\"\",VLOOKUP(H880,MAESTROS!N$2:O$2000,2,FALSE))","v":""},{"$f":"IF(I880=\"\",\"\",VLOOKUP(I880,MAESTROS!P$2:Q$2000,2,FALSE))","v":""}]
[{"$f":"IF(H881=\"\",\"\",VLOOKUP(H881,MAESTROS!N$2:O$2000,2,FALSE))","v":""},{"$f":"IF(I881=\"\",\"\",VLOOKUP(I881,MAESTROS!P$2:Q$2000,2,FALSE))","v":""}]
[{"$f":"IF(H882=\"\",\"\",VLOOKUP(H882,MAESTROS!N$2:O$2000,2,FALSE))","v":""},{"$f":"IF(I882=\"\",\"\",VLOOKUP(I882,MAESTROS!P$2:Q$2000,2,FALSE))","v":""}]
[{"$f":"IF(H883=\"\",\"\",VLOOKUP(H883,MAESTROS!N$2:O$2000,2,FALSE))","v":""},{"$f":"IF(I883=\"\",\"\",VLOOKUP(I883,MAESTROS!P$2:Q$2000,2,FALSE))","v":""}]
[{"$f":"IF(H884=\"\",\"\",VLOOKUP(H884,MAESTROS!N$2:O$2000,2,FALSE))","v":""},{"$f":"IF(I884=\"\",\"\",VLOOKUP(I884,MAESTROS!P$2:Q$2000,2,FALSE))","v":""}]
[{"$f":"IF(H885=\"\",\"\",VLOOKUP(H885,MAESTROS!N$2:O$2000,2,FALSE))","v":""},{"$f":"IF(I885=\"\",\"\",VLOOKUP(I885,MAESTROS!P$2:Q$2000,2,FALSE))","v":""}]
[{"$f":"IF(H886=\"\",\"\",VLOOKUP(H886,MAESTROS!N$2:O$2000,2,FALSE))","v":""},{"$f":"IF(I886=\"\",\"\",VLOOKUP(I886,MAESTROS!P$2:Q$2000,2,FALSE))","v":""}]
[{"$f":"IF(H887=\"\",\"\",VLOOKUP(H887,MAESTROS!N$2:O$2000,2,FALSE))","v":""},{"$f":"IF(I887=\"\",\"\",VLOOKUP(I887,MAESTROS!P$2:Q$2000,2,FALSE))","v":""}]
[{"$f":"IF(H888=\"\",\"\",VLOOKUP(H888,MAESTROS!N$2:O$2000,2,FALSE))","v":""},{"$f":"IF(I888=\"\",\"\",VLOOKUP(I888,MAESTROS!P$2:Q$2000,2,FALSE))","v":""}]
[{"$f":"IF(H889=\"\",\"\",VLOOKUP(H889,MAESTROS!N$2:O$2000,2,FALSE))","v":""},{"$f":"IF(I889=\"\",\"\",VLOOKUP(I889,MAESTROS!P$2:Q$2000,2,FALSE))","v":""}]
[{"$f":"IF(H890=\"\",\"\",VLOOKUP(H890,MAESTROS!N$2:O$2000,2,FALSE))","v":""},{"$f":"IF(I890=\"\",\"\",VLOOKUP(I890,MAESTROS!P$2:Q$2000,2,FALSE))","v":""}]
[{"$f":"IF(H891=\"\",\"\",VLOOKUP(H891,MAESTROS!N$2:O$2000,2,FALSE))","v":""},{"$f":"IF(I891=\"\",\"\",VLOOKUP(I891,MAESTROS!P$2:Q$2000,2,FALSE))","v":""}]
[{"$f":"IF(H892=\"\",\"\",VLOOKUP(H892,MAESTROS!N$2:O$2000,2,FALSE))","v":""},{"$f":"IF(I892=\"\",\"\",VLOOKUP(I892,MAESTROS!P$2:Q$2000,2,FALSE))","v":""}]
[{"$f":"IF(H893=\"\",\"\",VLOOKUP(H893,MAESTROS!N$2:O$2000,2,FALSE))","v":""},{"$f":"IF(I893=\"\",\"\",VLOOKUP(I893,MAESTROS!P$2:Q$2000,2,FALSE))","v":""}]
[{"$f":"IF(H894=\"\",\"\",VLOOKUP(H894,MAESTROS!N$2:O$2000,2,FALSE))","v":""},{"$f":"IF(I894=\"\",\"\",VLOOKUP(I894,MAESTROS!P$2:Q$2000,2,FALSE))","v":""}]
[{"$f":"IF(H895=\"\",\"\",VLOOKUP(H895,MAESTROS!N$2:O$2000,2,FALSE))","v":""},{"$f":"IF(I895=\"\",\"\",VLOOKUP(I895,MAESTROS!P$2:Q$2000,2,FALSE))","v":""}]
[{"$f":"IF(H896=\"\",\"\",VLOOKUP(H896,MAESTROS!N$2:O$2000,2,FALSE))","v":""},{"$f":"IF(I896=\"\",\"\",VLOOKUP(I896,MAESTROS!P$2:Q$2000,2,FALSE))","v":""}]
[{"$f":"IF(H897=\"\",\"\",VLOOKUP(H897,MAESTROS!N$2:O$2000,2,FALSE))","v":""},{"$f":"IF(I897=\"\",\"\",VLOOKUP(I897,MAESTROS!P$2:Q$2000,2,FALSE))","v":""}]
[{"$f":"IF(H898=\"\",\"\",VLOOKUP(H898,MAESTROS!N$2:O$2000,2,FALSE))","v":""},{"$f":"IF(I898=\"\",\"\",VLOOKUP(I898,MAESTROS!P$2:Q$2000,2,FALSE))","v":""}]
[{"$f":"IF(H899=\"\",\"\",VLOOKUP(H899,MAESTROS!N$2:O$2000,2,FALSE))","v":""},{"$f":"IF(I899=\"\",\"\",VLOOKUP(I899,MAESTROS!P$2:Q$2000,2,FALSE))","v":""}]
[{"$f":"IF(H900=\"\",\"\",VLOOKUP(H900,MAESTROS!N$2:O$2000,2,FALSE))","v":""},{"$f":"IF(I900=\"\",\"\",VLOOKUP(I900,MAESTROS!P$2:Q$2000,2,FALSE))","v":""}]
[{"$f":"IF(H901=\"\",\"\",VLOOKUP(H901,MAESTROS!N$2:O$2000,2,FALSE))","v":""},{"$f":"IF(I901=\"\",\"\",VLOOKUP(I901,MAESTROS!P$2:Q$2000,2,FALSE))","v":""}]
[{"$f":"IF(H902=\"\",\"\",VLOOKUP(H902,MAESTROS!N$2:O$2000,2,FALSE))","v":""},{"$f":"IF(I902=\"\",\"\",VLOOKUP(I902,MAESTROS!P$2:Q$2000,2,FALSE))","v":""}]
[{"$f":"IF(H903=\"\",\"\",VLOOKUP(H903,MAESTROS!N$2:O$2000,2,FALSE))","v":""},{"$f":"IF(I903=\"\",\"\",VLOOKUP(I903,MAESTROS!P$2:Q$2000,2,FALSE))","v":""}]
[{"$f":"IF(H904=\"\",\"\",VLOOKUP(H904,MAESTROS!N$2:O$2000,2,FALSE))","v":""},{"$f":"IF(I904=\"\",\"\",VLOOKUP(I904,MAESTROS!P$2:Q$2000,2,FALSE))","v":""}]
[{"$f":"IF(H905=\"\",\"\",VLOOKUP(H905,MAESTROS!N$2:O$2000,2,FALSE))","v":""},{"$f":"IF(I905=\"\",\"\",VLOOKUP(I905,MAESTROS!P$2:Q$2000,2,FALSE))","v":""}]
[{"$f":"IF(H906=\"\",\"\",VLOOKUP(H906,MAESTROS!N$2:O$2000,2,FALSE))","v":""},{"$f":"IF(I906=\"\",\"\",VLOOKUP(I906,MAESTROS!P$2:Q$2000,2,FALSE))","v":""}]
[{"$f":"IF(H907=\"\",\"\",VLOOKUP(H907,MAESTROS!N$2:O$2000,2,FALSE))","v":""},{"$f":"IF(I907=\"\",\"\",VLOOKUP(I907,MAESTROS!P$2:Q$2000,2,FALSE))","v":""}]
[{"$f":"IF(H908=\"\",\"\",VLOOKUP(H908,MAESTROS!N$2:O$2000,2,FALSE))","v":""},{"$f":"IF(I908=\"\",\"\",VLOOKUP(I908,MAESTROS!P$2:Q$2000,2,FALSE))","v":""}]
[{"$f":"IF(H909=\"\",\"\",VLOOKUP(H909,MAESTROS!N$2:O$2000,2,FALSE))","v":""},{"$f":"IF(I909=\"\",\"\",VLOOKUP(I909,MAESTROS!P$2:Q$2000,2,FALSE))","v":""}]
[{"$f":"IF(H910=\"\",\"\",VLOOKUP(H910,MAESTROS!N$2:O$2000,2,FALSE))","v":""},{"$f":"IF(I910=\"\",\"\",VLOOKUP(I910,MAESTROS!P$2:Q$2000,2,FALSE))","v":""}]
[{"$f":"IF(H911=\"\",\"\",VLOOKUP(H911,MAESTROS!N$2:O$2000,2,FALSE))","v":""},{"$f":"IF(I911=\"\",\"\",VLOOKUP(I911,MAESTROS!P$2:Q$2000,2,FALSE))","v":""}]
[{"$f":"IF(H912=\"\",\"\",VLOOKUP(H912,MAESTROS!N$2:O$2000,2,FALSE))","v":""},{"$f":"IF(I912=\"\",\"\",VLOOKUP(I912,MAESTROS!P$2:Q$2000,2,FALSE))","v":""}]
[{"$f":"IF(H913=\"\",\"\",VLOOKUP(H913,MAESTROS!N$2:O$2000,2,FALSE))","v":""},{"$f":"IF(I913=\"\",\"\",VLOOKUP(I913,MAESTROS!P$2:Q$2000,2,FALSE))","v":""}]
[{"$f":"IF(H914=\"\",\"\",VLOOKUP(H914,MAESTROS!N$2:O$2000,2,FALSE))","v":""},{"$f":"IF(I914=\"\",\"\",VLOOKUP(I914,MAESTROS!P$2:Q$2000,2,FALSE))","v":""}]
[{"$f":"IF(H915=\"\",\"\",VLOOKUP(H915,MAESTROS!N$2:O$2000,2,FALSE))","v":""},{"$f":"IF(I915=\"\",\"\",VLOOKUP(I915,MAESTROS!P$2:Q$2000,2,FALSE))","v":""}]
[{"$f":"IF(H916=\"\",\"\",VLOOKUP(H916,MAESTROS!N$2:O$2000,2,FALSE))","v":""},{"$f":"IF(I916=\"\",\"\",VLOOKUP(I916,MAESTROS!P$2:Q$2000,2,FALSE))","v":""}]
[{"$f":"IF(H917=\"\",\"\",VLOOKUP(H917,MAESTROS!N$2:O$2000,2,FALSE))","v":""},{"$f":"IF(I917=\"\",\"\",VLOOKUP(I917,MAESTROS!P$2:Q$2000,2,FALSE))","v":""}]
[{"$f":"IF(H918=\"\",\"\",VLOOKUP(H918,MAESTROS!N$2:O$2000,2,FALSE))","v":""},{"$f":"IF(I918=\"\",\"\",VLOOKUP(I918,MAESTROS!P$2:Q$2000,2,FALSE))","v":""}]
[{"$f":"IF(H919=\"\",\"\",VLOOKUP(H919,MAESTROS!N$2:O$2000,2,FALSE))","v":""},{"$f":"IF(I919=\"\",\"\",VLOOKUP(I919,MAESTROS!P$2:Q$2000,2,FALSE))","v":""}]
[{"$f":"IF(H920=\"\",\"\",VLOOKUP(H920,MAESTROS!N$2:O$2000,2,FALSE))","v":""},{"$f":"IF(I920=\"\",\"\",VLOOKUP(I920,MAESTROS!P$2:Q$2000,2,FALSE))","v":""}]
[{"$f":"IF(H921=\"\",\"\",VLOOKUP(H921,MAESTROS!N$2:O$2000,2,FALSE))","v":""},{"$f":"IF(I921=\"\",\"\",VLOOKUP(I921,MAESTROS!P$2:Q$2000,2,FALSE))","v":""}]
[{"$f":"IF(H922=\"\",\"\",VLOOKUP(H922,MAESTROS!N$2:O$2000,2,FALSE))","v":""},{"$f":"IF(I922=\"\",\"\",VLOOKUP(I922,MAESTROS!P$2:Q$2000,2,FALSE))","v":""}]
[{"$f":"IF(H923=\"\",\"\",VLOOKUP(H923,MAESTROS!N$2:O$2000,2,FALSE))","v":""},{"$f":"IF(I923=\"\",\"\",VLOOKUP(I923,MAESTROS!P$2:Q$2000,2,FALSE))","v":""}]
[{"$f":"IF(H924=\"\",\"\",VLOOKUP(H924,MAESTROS!N$2:O$2000,2,FALSE))","v":""},{"$f":"IF(I924=\"\",\"\",VLOOKUP(I924,MAESTROS!P$2:Q$2000,2,FALSE))","v":""}]
[{"$f":"IF(H925=\"\",\"\",VLOOKUP(H925,MAESTROS!N$2:O$2000,2,FALSE))","v":""},{"$f":"IF(I925=\"\",\"\",VLOOKUP(I925,MAESTROS!P$2:Q$2000,2,FALSE))","v":""}]
[{"$f":"IF(H926=\"\",\"\",VLOOKUP(H926,MAESTROS!N$2:O$2000,2,FALSE))","v":""},{"$f":"IF(I926=\"\",\"\",VLOOKUP(I926,MAESTROS!P$2:Q$2000,2,FALSE))","v":""}]
[{"$f":"IF(H927=\"\",\"\",VLOOKUP(H927,MAESTROS!N$2:O$2000,2,FALSE))","v":""},{"$f":"IF(I927=\"\",\"\",VLOOKUP(I927,MAESTROS!P$2:Q$2000,2,FALSE))","v":""}]
[{"$f":"IF(H928=\"\",\"\",VLOOKUP(H928,MAESTROS!N$2:O$2000,2,FALSE))","v":""},{"$f":"IF(I928=\"\",\"\",VLOOKUP(I928,MAESTROS!P$2:Q$2000,2,FALSE))","v":""}]
[{"$f":"IF(H929=\"\",\"\",VLOOKUP(H929,MAESTROS!N$2:O$2000,2,FALSE))","v":""},{"$f":"IF(I929=\"\",\"\",VLOOKUP(I929,MAESTROS!P$2:Q$2000,2,FALSE))","v":""}]
[{"$f":"IF(H930=\"\",\"\",VLOOKUP(H930,MAESTROS!N$2:O$2000,2,FALSE))","v":""},{"$f":"IF(I930=\"\",\"\",VLOOKUP(I930,MAESTROS!P$2:Q$2000,2,FALSE))","v":""}]
[{"$f":"IF(H931=\"\",\"\",VLOOKUP(H931,MAESTROS!N$2:O$2000,2,FALSE))","v":""},{"$f":"IF(I931=\"\",\"\",VLOOKUP(I931,MAESTROS!P$2:Q$2000,2,FALSE))","v":""}]
[{"$f":"IF(H932=\"\",\"\",VLOOKUP(H932,MAESTROS!N$2:O$2000,2,FALSE))","v":""},{"$f":"IF(I932=\"\",\"\",VLOOKUP(I932,MAESTROS!P$2:Q$2000,2,FALSE))","v":""}]
[{"$f":"IF(H933=\"\",\"\",VLOOKUP(H933,MAESTROS!N$2:O$2000,2,FALSE))","v":""},{"$f":"IF(I933=\"\",\"\",VLOOKUP(I933,MAESTROS!P$2:Q$2000,2,FALSE))","v":""}]
[{"$f":"IF(H934=\"\",\"\",VLOOKUP(H934,MAESTROS!N$2:O$2000,2,FALSE))","v":""},{"$f":"IF(I934=\"\",\"\",VLOOKUP(I934,MAESTROS!P$2:Q$2000,2,FALSE))","v":""}]
[{"$f":"IF(H935=\"\",\"\",VLOOKUP(H935,MAESTROS!N$2:O$2000,2,FALSE))","v":""},{"$f":"IF(I935=\"\",\"\",VLOOKUP(I935,MAESTROS!P$2:Q$2000,2,FALSE))","v":""}]
[{"$f":"IF(H936=\"\",\"\",VLOOKUP(H936,MAESTROS!N$2:O$2000,2,FALSE))","v":""},{"$f":"IF(I936=\"\",\"\",VLOOKUP(I936,MAESTROS!P$2:Q$2000,2,FALSE))","v":""}]
[{"$f":"IF(H937=\"\",\"\",VLOOKUP(H937,MAESTROS!N$2:O$2000,2,FALSE))","v":""},{"$f":"IF(I937=\"\",\"\",VLOOKUP(I937,MAESTROS!P$2:Q$2000,2,FALSE))","v":""}]
[{"$f":"IF(H938=\"\",\"\",VLOOKUP(H938,MAESTROS!N$2:O$2000,2,FALSE))","v":""},{"$f":"IF(I938=\"\",\"\",VLOOKUP(I938,MAESTROS!P$2:Q$2000,2,FALSE))","v":""}]
[{"$f":"IF(H939=\"\",\"\",VLOOKUP(H939,MAESTROS!N$2:O$2000,2,FALSE))","v":""},{"$f":"IF(I939=\"\",\"\",VLOOKUP(I939,MAESTROS!P$2:Q$2000,2,FALSE))","v":""}]
[{"$f":"IF(H940=\"\",\"\",VLOOKUP(H940,MAESTROS!N$2:O$2000,2,FALSE))","v":""},{"$f":"IF(I940=\"\",\"\",VLOOKUP(I940,MAESTROS!P$2:Q$2000,2,FALSE))","v":""}]
[{"$f":"IF(H941=\"\",\"\",VLOOKUP(H941,MAESTROS!N$2:O$2000,2,FALSE))","v":""},{"$f":"IF(I941=\"\",\"\",VLOOKUP(I941,MAESTROS!P$2:Q$2000,2,FALSE))","v":""}]
[{"$f":"IF(H942=\"\",\"\",VLOOKUP(H942,MAESTROS!N$2:O$2000,2,FALSE))","v":""},{"$f":"IF(I942=\"\",\"\",VLOOKUP(I942,MAESTROS!P$2:Q$2000,2,FALSE))","v":""}]
[{"$f":"IF(H943=\"\",\"\",VLOOKUP(H943,MAESTROS!N$2:O$2000,2,FALSE))","v":""},{"$f":"IF(I943=\"\",\"\",VLOOKUP(I943,MAESTROS!P$2:Q$2000,2,FALSE))","v":""}]
[{"$f":"IF(H944=\"\",\"\",VLOOKUP(H944,MAESTROS!N$2:O$2000,2,FALSE))","v":""},{"$f":"IF(I944=\"\",\"\",VLOOKUP(I944,MAESTROS!P$2:Q$2000,2,FALSE))","v":""}]
[{"$f":"IF(H945=\"\",\"\",VLOOKUP(H945,MAESTROS!N$2:O$2000,2,FALSE))","v":""},{"$f":"IF(I945=\"\",\"\",VLOOKUP(I945,MAESTROS!P$2:Q$2000,2,FALSE))","v":""}]
[{"$f":"IF(H946=\"\",\"\",VLOOKUP(H946,MAESTROS!N$2:O$2000,2,FALSE))","v":""},{"$f":"IF(I946=\"\",\"\",VLOOKUP(I946,MAESTROS!P$2:Q$2000,2,FALSE))","v":""}]
[{"$f":"IF(H947=\"\",\"\",VLOOKUP(H947,MAESTROS!N$2:O$2000,2,FALSE))","v":""},{"$f":"IF(I947=\"\",\"\",VLOOKUP(I947,MAESTROS!P$2:Q$2000,2,FALSE))","v":""}]
[{"$f":"IF(H948=\"\",\"\",VLOOKUP(H948,MAESTROS!N$2:O$2000,2,FALSE))","v":""},{"$f":"IF(I948=\"\",\"\",VLOOKUP(I948,MAESTROS!P$2:Q$2000,2,FALSE))","v":""}]
[{"$f":"IF(H949=\"\",\"\",VLOOKUP(H949,MAESTROS!N$2:O$2000,2,FALSE))","v":""},{"$f":"IF(I949=\"\",\"\",VLOOKUP(I949,MAESTROS!P$2:Q$2000,2,FALSE))","v":""}]
[{"$f":"IF(H950=\"\",\"\",VLOOKUP(H950,MAESTROS!N$2:O$2000,2,FALSE))","v":""},{"$f":"IF(I950=\"\",\"\",VLOOKUP(I950,MAESTROS!P$2:Q$2000,2,FALSE))","v":""}]
[{"$f":"IF(H951=\"\",\"\",VLOOKUP(H951,MAESTROS!N$2:O$2000,2,FALSE))","v":""},{"$f":"IF(I951=\"\",\"\",VLOOKUP(I951,MAESTROS!P$2:Q$2000,2,FALSE))","v":""}]
[{"$f":"IF(H952=\"\",\"\",VLOOKUP(H952,MAESTROS!N$2:O$2000,2,FALSE))","v":""},{"$f":"IF(I952=\"\",\"\",VLOOKUP(I952,MAESTROS!P$2:Q$2000,2,FALSE))","v":""}]
[{"$f":"IF(H953=\"\",\"\",VLOOKUP(H953,MAESTROS!N$2:O$2000,2,FALSE))","v":""},{"$f":"IF(I953=\"\",\"\",VLOOKUP(I953,MAESTROS!P$2:Q$2000,2,FALSE))","v":""}]
[{"$f":"IF(H954=\"\",\"\",VLOOKUP(H954,MAESTROS!N$2:O$2000,2,FALSE))","v":""},{"$f":"IF(I954=\"\",\"\",VLOOKUP(I954,MAESTROS!P$2:Q$2000,2,FALSE))","v":""}]
[{"$f":"IF(H955=\"\",\"\",VLOOKUP(H955,MAESTROS!N$2:O$2000,2,FALSE))","v":""},{"$f":"IF(I955=\"\",\"\",VLOOKUP(I955,MAESTROS!P$2:Q$2000,2,FALSE))","v":""}]
[{"$f":"IF(H956=\"\",\"\",VLOOKUP(H956,MAESTROS!N$2:O$2000,2,FALSE))","v":""},{"$f":"IF(I956=\"\",\"\",VLOOKUP(I956,MAESTROS!P$2:Q$2000,2,FALSE))","v":""}]
[{"$f":"IF(H957=\"\",\"\",VLOOKUP(H957,MAESTROS!N$2:O$2000,2,FALSE))","v":""},{"$f":"IF(I957=\"\",\"\",VLOOKUP(I957,MAESTROS!P$2:Q$2000,2,FALSE))","v":""}]
[{"$f":"IF(H958=\"\",\"\",VLOOKUP(H958,MAESTROS!N$2:O$2000,2,FALSE))","v":""},{"$f":"IF(I958=\"\",\"\",VLOOKUP(I958,MAESTROS!P$2:Q$2000,2,FALSE))","v":""}]
[{"$f":"IF(H959=\"\",\"\",VLOOKUP(H959,MAESTROS!N$2:O$2000,2,FALSE))","v":""},{"$f":"IF(I959=\"\",\"\",VLOOKUP(I959,MAESTROS!P$2:Q$2000,2,FALSE))","v":""}]
[{"$f":"IF(H960=\"\",\"\",VLOOKUP(H960,MAESTROS!N$2:O$2000,2,FALSE))","v":""},{"$f":"IF(I960=\"\",\"\",VLOOKUP(I960,MAESTROS!P$2:Q$2000,2,FALSE))","v":""}]
[{"$f":"IF(H961=\"\",\"\",VLOOKUP(H961,MAESTROS!N$2:O$2000,2,FALSE))","v":""},{"$f":"IF(I961=\"\",\"\",VLOOKUP(I961,MAESTROS!P$2:Q$2000,2,FALSE))","v":""}]
[{"$f":"IF(H962=\"\",\"\",VLOOKUP(H962,MAESTROS!N$2:O$2000,2,FALSE))","v":""},{"$f":"IF(I962=\"\",\"\",VLOOKUP(I962,MAESTROS!P$2:Q$2000,2,FALSE))","v":""}]
[{"$f":"IF(H963=\"\",\"\",VLOOKUP(H963,MAESTROS!N$2:O$2000,2,FALSE))","v":""},{"$f":"IF(I963=\"\",\"\",VLOOKUP(I963,MAESTROS!P$2:Q$2000,2,FALSE))","v":""}]
[{"$f":"IF(H964=\"\",\"\",VLOOKUP(H964,MAESTROS!N$2:O$2000,2,FALSE))","v":""},{"$f":"IF(I964=\"\",\"\",VLOOKUP(I964,MAESTROS!P$2:Q$2000,2,FALSE))","v":""}]
[{"$f":"IF(H965=\"\",\"\",VLOOKUP(H965,MAESTROS!N$2:O$2000,2,FALSE))","v":""},{"$f":"IF(I965=\"\",\"\",VLOOKUP(I965,MAESTROS!P$2:Q$2000,2,FALSE))","v":""}]
[{"$f":"IF(H966=\"\",\"\",VLOOKUP(H966,MAESTROS!N$2:O$2000,2,FALSE))","v":""},{"$f":"IF(I966=\"\",\"\",VLOOKUP(I966,MAESTROS!P$2:Q$2000,2,FALSE))","v":""}]
[{"$f":"IF(H967=\"\",\"\",VLOOKUP(H967,MAESTROS!N$2:O$2000,2,FALSE))","v":""},{"$f":"IF(I967=\"\",\"\",VLOOKUP(I967,MAESTROS!P$2:Q$2000,2,FALSE))","v":""}]
[{"$f":"IF(H968=\"\",\"\",VLOOKUP(H968,MAESTROS!N$2:O$2000,2,FALSE))","v":""},{"$f":"IF(I968=\"\",\"\",VLOOKUP(I968,MAESTROS!P$2:Q$2000,2,FALSE))","v":""}]
[{"$f":"IF(H969=\"\",\"\",VLOOKUP(H969,MAESTROS!N$2:O$2000,2,FALSE))","v":""},{"$f":"IF(I969=\"\",\"\",VLOOKUP(I969,MAESTROS!P$2:Q$2000,2,FALSE))","v":""}]
[{"$f":"IF(H970=\"\",\"\",VLOOKUP(H970,MAESTROS!N$2:O$2000,2,FALSE))","v":""},{"$f":"IF(I970=\"\",\"\",VLOOKUP(I970,MAESTROS!P$2:Q$2000,2,FALSE))","v":""}]
[{"$f":"IF(H971=\"\",\"\",VLOOKUP(H971,MAESTROS!N$2:O$2000,2,FALSE))","v":""},{"$f":"IF(I971=\"\",\"\",VLOOKUP(I971,MAESTROS!P$2:Q$2000,2,FALSE))","v":""}]
[{"$f":"IF(H972=\"\",\"\",VLOOKUP(H972,MAESTROS!N$2:O$2000,2,FALSE))","v":""},{"$f":"IF(I972=\"\",\"\",VLOOKUP(I972,MAESTROS!P$2:Q$2000,2,FALSE))","v":""}]
[{"$f":"IF(H973=\"\",\"\",VLOOKUP(H973,MAESTROS!N$2:O$2000,2,FALSE))","v":""},{"$f":"IF(I973=\"\",\"\",VLOOKUP(I973,MAESTROS!P$2:Q$2000,2,FALSE))","v":""}]
[{"$f":"IF(H974=\"\",\"\",VLOOKUP(H974,MAESTROS!N$2:O$2000,2,FALSE))","v":""},{"$f":"IF(I974=\"\",\"\",VLOOKUP(I974,MAESTROS!P$2:Q$2000,2,FALSE))","v":""}]
[{"$f":"IF(H975=\"\",\"\",VLOOKUP(H975,MAESTROS!N$2:O$2000,2,FALSE))","v":""},{"$f":"IF(I975=\"\",\"\",VLOOKUP(I975,MAESTROS!P$2:Q$2000,2,FALSE))","v":""}]
[{"$f":"IF(H976=\"\",\"\",VLOOKUP(H976,MAESTROS!N$2:O$2000,2,FALSE))","v":""},{"$f":"IF(I976=\"\",\"\",VLOOKUP(I976,MAESTROS!P$2:Q$2000,2,FALSE))","v":""}]
[{"$f":"IF(H977=\"\",\"\",VLOOKUP(H977,MAESTROS!N$2:O$2000,2,FALSE))","v":""},{"$f":"IF(I977=\"\",\"\",VLOOKUP(I977,MAESTROS!P$2:Q$2000,2,FALSE))","v":""}]
[{"$f":"IF(H978=\"\",\"\",VLOOKUP(H978,MAESTROS!N$2:O$2000,2,FALSE))","v":""},{"$f":"IF(I978=\"\",\"\",VLOOKUP(I978,MAESTROS!P$2:Q$2000,2,FALSE))","v":""}]
[{"$f":"IF(H979=\"\",\"\",VLOOKUP(H979,MAESTROS!N$2:O$2000,2,FALSE))","v":""},{"$f":"IF(I979=\"\",\"\",VLOOKUP(I979,MAESTROS!P$2:Q$2000,2,FALSE))","v":""}]
[{"$f":"IF(H980=\"\",\"\",VLOOKUP(H980,MAESTROS!N$2:O$2000,2,FALSE))","v":""},{"$f":"IF(I980=\"\",\"\",VLOOKUP(I980,MAESTROS!P$2:Q$2000,2,FALSE))","v":""}]
[{"$f":"IF(H981=\"\",\"\",VLOOKUP(H981,MAESTROS!N$2:O$2000,2,FALSE))","v":""},{"$f":"IF(I981=\"\",\"\",VLOOKUP(I981,MAESTROS!P$2:Q$2000,2,FALSE))","v":""}]
[{"$f":"IF(H982=\"\",\"\",VLOOKUP(H982,MAESTROS!N$2:O$2000,2,FALSE))","v":""},{"$f":"IF(I982=\"\",\"\",VLOOKUP(I982,MAESTROS!P$2:Q$2000,2,FALSE))","v":""}]
[{"$f":"IF(H983=\"\",\"\",VLOOKUP(H983,MAESTROS!N$2:O$2000,2,FALSE))","v":""},{"$f":"IF(I983=\"\",\"\",VLOOKUP(I983,MAESTROS!P$2:Q$2000,2,FALSE))","v":""}]
[{"$f":"IF(H984=\"\",\"\",VLOOKUP(H984,MAESTROS!N$2:O$2000,2,FALSE))","v":""},{"$f":"IF(I984=\"\",\"\",VLOOKUP(I984,MAESTROS!P$2:Q$2000,2,FALSE))","v":""}]
[{"$f":"IF(H985=\"\",\"\",VLOOKUP(H985,MAESTROS!N$2:O$2000,2,FALSE))","v":""},{"$f":"IF(I985=\"\",\"\",VLOOKUP(I985,MAESTROS!P$2:Q$2000,2,FALSE))","v":""}]
[{"$f":"IF(H986=\"\",\"\",VLOOKUP(H986,MAESTROS!N$2:O$2000,2,FALSE))","v":""},{"$f":"IF(I986=\"\",\"\",VLOOKUP(I986,MAESTROS!P$2:Q$2000,2,FALSE))","v":""}]
[{"$f":"IF(H987=\"\",\"\",VLOOKUP(H987,MAESTROS!N$2:O$2000,2,FALSE))","v":""},{"$f":"IF(I987=\"\",\"\",VLOOKUP(I987,MAESTROS!P$2:Q$2000,2,FALSE))","v":""}]
[{"$f":"IF(H988=\"\",\"\",VLOOKUP(H988,MAESTROS!N$2:O$2000,2,FALSE))","v":""},{"$f":"IF(I988=\"\",\"\",VLOOKUP(I988,MAESTROS!P$2:Q$2000,2,FALSE))","v":""}]
[{"$f":"IF(H989=\"\",\"\",VLOOKUP(H989,MAESTROS!N$2:O$2000,2,FALSE))","v":""},{"$f":"IF(I989=\"\",\"\",VLOOKUP(I989,MAESTROS!P$2:Q$2000,2,FALSE))","v":""}]
[{"$f":"IF(H990=\"\",\"\",VLOOKUP(H990,MAESTROS!N$2:O$2000,2,FALSE))","v":""},{"$f":"IF(I990=\"\",\"\",VLOOKUP(I990,MAESTROS!P$2:Q$2000,2,FALSE))","v":""}]
[{"$f":"IF(H991=\"\",\"\",VLOOKUP(H991,MAESTROS!N$2:O$2000,2,FALSE))","v":""},{"$f":"IF(I991=\"\",\"\",VLOOKUP(I991,MAESTROS!P$2:Q$2000,2,FALSE))","v":""}]
[{"$f":"IF(H992=\"\",\"\",VLOOKUP(H992,MAESTROS!N$2:O$2000,2,FALSE))","v":""},{"$f":"IF(I992=\"\",\"\",VLOOKUP(I992,MAESTROS!P$2:Q$2000,2,FALSE))","v":""}]
[{"$f":"IF(H993=\"\",\"\",VLOOKUP(H993,MAESTROS!N$2:O$2000,2,FALSE))","v":""},{"$f":"IF(I993=\"\",\"\",VLOOKUP(I993,MAESTROS!P$2:Q$2000,2,FALSE))","v":""}]
[{"$f":"IF(H994=\"\",\"\",VLOOKUP(H994,MAESTROS!N$2:O$2000,2,FALSE))","v":""},{"$f":"IF(I994=\"\",\"\",VLOOKUP(I994,MAESTROS!P$2:Q$2000,2,FALSE))","v":""}]
[{"$f":"IF(H995=\"\",\"\",VLOOKUP(H995,MAESTROS!N$2:O$2000,2,FALSE))","v":""},{"$f":"IF(I995=\"\",\"\",VLOOKUP(I995,MAESTROS!P$2:Q$2000,2,FALSE))","v":""}]
[{"$f":"IF(H996=\"\",\"\",VLOOKUP(H996,MAESTROS!N$2:O$2000,2,FALSE))","v":""},{"$f":"IF(I996=\"\",\"\",VLOOKUP(I996,MAESTROS!P$2:Q$2000,2,FALSE))","v":""}]
[{"$f":"IF(H997=\"\",\"\",VLOOKUP(H997,MAESTROS!N$2:O$2000,2,FALSE))","v":""},{"$f":"IF(I997=\"\",\"\",VLOOKUP(I997,MAESTROS!P$2:Q$2000,2,FALSE))","v":""}]
[{"$f":"IF(H998=\"\",\"\",VLOOKUP(H998,MAESTROS!N$2:O$2000,2,FALSE))","v":""},{"$f":"IF(I998=\"\",\"\",VLOOKUP(I998,MAESTROS!P$2:Q$2000,2,FALSE))","v":""}]
[{"$f":"IF(H999=\"\",\"\",VLOOKUP(H999,MAESTROS!N$2:O$2000,2,FALSE))","v":""},{"$f":"IF(I999=\"\",\"\",VLOOKUP(I999,MAESTROS!P$2:Q$2000,2,FALSE))","v":""}]
[{"$f":"IF(H1000=\"\",\"\",VLOOKUP(H1000,MAESTROS!N$2:O$2000,2,FALSE))","v":""},{"$f":"IF(I1000=\"\",\"\",VLOOKUP(I1000,MAESTROS!P$2:Q$2000,2,FALSE))","v":""}]
[{"$f":"IF(H1001=\"\",\"\",VLOOKUP(H1001,MAESTROS!N$2:O$2000,2,FALSE))","v":""},{"$f":"IF(I1001=\"\",\"\",VLOOKUP(I1001,MAESTROS!P$2:Q$2000,2,FALSE))","v":""}]
[{"$f":"IF(H1002=\"\",\"\",VLOOKUP(H1002,MAESTROS!N$2:O$2000,2,FALSE))","v":""},{"$f":"IF(I1002=\"\",\"\",VLOOKUP(I1002,MAESTROS!P$2:Q$2000,2,FALSE))","v":""}]
[{"$f":"IF(H1003=\"\",\"\",VLOOKUP(H1003,MAESTROS!N$2:O$2000,2,FALSE))","v":""},{"$f":"IF(I1003=\"\",\"\",VLOOKUP(I1003,MAESTROS!P$2:Q$2000,2,FALSE))","v":""}]
[{"$f":"IF(H1004=\"\",\"\",VLOOKUP(H1004,MAESTROS!N$2:O$2000,2,FALSE))","v":""},{"$f":"IF(I1004=\"\",\"\",VLOOKUP(I1004,MAESTROS!P$2:Q$2000,2,FALSE))","v":""}]
[{"$f":"IF(H1005=\"\",\"\",VLOOKUP(H1005,MAESTROS!N$2:O$2000,2,FALSE))","v":""},{"$f":"IF(I1005=\"\",\"\",VLOOKUP(I1005,MAESTROS!P$2:Q$2000,2,FALSE))","v":""}]
[{"$f":"IF(H1006=\"\",\"\",VLOOKUP(H1006,MAESTROS!N$2:O$2000,2,FALSE))","v":""},{"$f":"IF(I1006=\"\",\"\",VLOOKUP(I1006,MAESTROS!P$2:Q$2000,2,FALSE))","v":""}]
[{"$f":"IF(H1007=\"\",\"\",VLOOKUP(H1007,MAESTROS!N$2:O$2000,2,FALSE))","v":""},{"$f":"IF(I1007=\"\",\"\",VLOOKUP(I1007,MAESTROS!P$2:Q$2000,2,FALSE))","v":""}]
[{"$f":"IF(H1008=\"\",\"\",VLOOKUP(H1008,MAESTROS!N$2:O$2000,2,FALSE))","v":""},{"$f":"IF(I1008=\"\",\"\",VLOOKUP(I1008,MAESTROS!P$2:Q$2000,2,FALSE))","v":""}]
[{"$f":"IF(H1009=\"\",\"\",VLOOKUP(H1009,MAESTROS!N$2:O$2000,2,FALSE))","v":""},{"$f":"IF(I1009=\"\",\"\",VLOOKUP(I1009,MAESTROS!P$2:Q$2000,2,FALSE))","v":""}]
[{"$f":"IF(H1010=\"\",\"\",VLOOKUP(H1010,MAESTROS!N$2:O$2000,2,FALSE))","v":""},{"$f":"IF(I1010=\"\",\"\",VLOOKUP(I1010,MAESTROS!P$2:Q$2000,2,FALSE))","v":""}]
[{"$f":"IF(H1011=\"\",\"\",VLOOKUP(H1011,MAESTROS!N$2:O$2000,2,FALSE))","v":""},{"$f":"IF(I1011=\"\",\"\",VLOOKUP(I1011,MAESTROS!P$2:Q$2000,2,FALSE))","v":""}]
[{"$f":"IF(H1012=\"\",\"\",VLOOKUP(H1012,MAESTROS!N$2:O$2000,2,FALSE))","v":""},{"$f":"IF(I1012=\"\",\"\",VLOOKUP(I1012,MAESTROS!P$2:Q$2000,2,FALSE))","v":""}]
[{"$f":"IF(H1013=\"\",\"\",VLOOKUP(H1013,MAESTROS!N$2:O$2000,2,FALSE))","v":""},{"$f":"IF(I1013=\"\",\"\",VLOOKUP(I1013,MAESTROS!P$2:Q$2000,2,FALSE))","v":""}]
[{"$f":"IF(H1014=\"\",\"\",VLOOKUP(H1014,MAESTROS!N$2:O$2000,2,FALSE))","v":""},{"$f":"IF(I1014=\"\",\"\",VLOOKUP(I1014,MAESTROS!P$2:Q$2000,2,FALSE))","v":""}]
[{"$f":"IF(H1015=\"\",\"\",VLOOKUP(H1015,MAESTROS!N$2:O$2000,2,FALSE))","v":""},{"$f":"IF(I1015=\"\",\"\",VLOOKUP(I1015,MAESTROS!P$2:Q$2000,2,FALSE))","v":""}]
[{"$f":"IF(H1016=\"\",\"\",VLOOKUP(H1016,MAESTROS!N$2:O$2000,2,FALSE))","v":""},{"$f":"IF(I1016=\"\",\"\",VLOOKUP(I1016,MAESTROS!P$2:Q$2000,2,FALSE))","v":""}]
[{"$f":"IF(H1017=\"\",\"\",VLOOKUP(H1017,MAESTROS!N$2:O$2000,2,FALSE))","v":""},{"$f":"IF(I1017=\"\",\"\",VLOOKUP(I1017,MAESTROS!P$2:Q$2000,2,FALSE))","v":""}]
[{"$f":"IF(H1018=\"\",\"\",VLOOKUP(H1018,MAESTROS!N$2:O$2000,2,FALSE))","v":""},{"$f":"IF(I1018=\"\",\"\",VLOOKUP(I1018,MAESTROS!P$2:Q$2000,2,FALSE))","v":""}]
[{"$f":"IF(H1019=\"\",\"\",VLOOKUP(H1019,MAESTROS!N$2:O$2000,2,FALSE))","v":""},{"$f":"IF(I1019=\"\",\"\",VLOOKUP(I1019,MAESTROS!P$2:Q$2000,2,FALSE))","v":""}]
[{"$f":"IF(H1020=\"\",\"\",VLOOKUP(H1020,MAESTROS!N$2:O$2000,2,FALSE))","v":""},{"$f":"IF(I1020=\"\",\"\",VLOOKUP(I1020,MAESTROS!P$2:Q$2000,2,FALSE))","v":""}]
[{"$f":"IF(H1021=\"\",\"\",VLOOKUP(H1021,MAESTROS!N$2:O$2000,2,FALSE))","v":""},{"$f":"IF(I1021=\"\",\"\",VLOOKUP(I1021,MAESTROS!P$2:Q$2000,2,FALSE))","v":""}]
[{"$f":"IF(H1022=\"\",\"\",VLOOKUP(H1022,MAESTROS!N$2:O$2000,2,FALSE))","v":""},{"$f":"IF(I1022=\"\",\"\",VLOOKUP(I1022,MAESTROS!P$2:Q$2000,2,FALSE))","v":""}]
[{"$f":"IF(H1023=\"\",\"\",VLOOKUP(H1023,MAESTROS!N$2:O$2000,2,FALSE))","v":""},{"$f":"IF(I1023=\"\",\"\",VLOOKUP(I1023,MAESTROS!P$2:Q$2000,2,FALSE))","v":""}]
[{"$f":"IF(H1024=\"\",\"\",VLOOKUP(H1024,MAESTROS!N$2:O$2000,2,FALSE))","v":""},{"$f":"IF(I1024=\"\",\"\",VLOOKUP(I1024,MAESTROS!P$2:Q$2000,2,FALSE))","v":""}]
[{"$f":"IF(H1025=\"\",\"\",VLOOKUP(H1025,MAESTROS!N$2:O$2000,2,FALSE))","v":""},{"$f":"IF(I1025=\"\",\"\",VLOOKUP(I1025,MAESTROS!P$2:Q$2000,2,FALSE))","v":""}]
[{"$f":"IF(H1026=\"\",\"\",VLOOKUP(H1026,MAESTROS!N$2:O$2000,2,FALSE))","v":""},{"$f":"IF(I1026=\"\",\"\",VLOOKUP(I1026,MAESTROS!P$2:Q$2000,2,FALSE))","v":""}]
[{"$f":"IF(H1027=\"\",\"\",VLOOKUP(H1027,MAESTROS!N$2:O$2000,2,FALSE))","v":""},{"$f":"IF(I1027=\"\",\"\",VLOOKUP(I1027,MAESTROS!P$2:Q$2000,2,FALSE))","v":""}]
[{"$f":"IF(H1028=\"\",\"\",VLOOKUP(H1028,MAESTROS!N$2:O$2000,2,FALSE))","v":""},{"$f":"IF(I1028=\"\",\"\",VLOOKUP(I1028,MAESTROS!P$2:Q$2000,2,FALSE))","v":""}]
[{"$f":"IF(H1029=\"\",\"\",VLOOKUP(H1029,MAESTROS!N$2:O$2000,2,FALSE))","v":""},{"$f":"IF(I1029=\"\",\"\",VLOOKUP(I1029,MAESTROS!P$2:Q$2000,2,FALSE))","v":""}]
[{"$f":"IF(H1030=\"\",\"\",VLOOKUP(H1030,MAESTROS!N$2:O$2000,2,FALSE))","v":""},{"$f":"IF(I1030=\"\",\"\",VLOOKUP(I1030,MAESTROS!P$2:Q$2000,2,FALSE))","v":""}]
[{"$f":"IF(H1031=\"\",\"\",VLOOKUP(H1031,MAESTROS!N$2:O$2000,2,FALSE))","v":""},{"$f":"IF(I1031=\"\",\"\",VLOOKUP(I1031,MAESTROS!P$2:Q$2000,2,FALSE))","v":""}]
[{"$f":"IF(H1032=\"\",\"\",VLOOKUP(H1032,MAESTROS!N$2:O$2000,2,FALSE))","v":""},{"$f":"IF(I1032=\"\",\"\",VLOOKUP(I1032,MAESTROS!P$2:Q$2000,2,FALSE))","v":""}]
[{"$f":"IF(H1033=\"\",\"\",VLOOKUP(H1033,MAESTROS!N$2:O$2000,2,FALSE))","v":""},{"$f":"IF(I1033=\"\",\"\",VLOOKUP(I1033,MAESTROS!P$2:Q$2000,2,FALSE))","v":""}]
[{"$f":"IF(H1034=\"\",\"\",VLOOKUP(H1034,MAESTROS!N$2:O$2000,2,FALSE))","v":""},{"$f":"IF(I1034=\"\",\"\",VLOOKUP(I1034,MAESTROS!P$2:Q$2000,2,FALSE))","v":""}]
[{"$f":"IF(H1035=\"\",\"\",VLOOKUP(H1035,MAESTROS!N$2:O$2000,2,FALSE))","v":""},{"$f":"IF(I1035=\"\",\"\",VLOOKUP(I1035,MAESTROS!P$2:Q$2000,2,FALSE))","v":""}]
[{"$f":"IF(H1036=\"\",\"\",VLOOKUP(H1036,MAESTROS!N$2:O$2000,2,FALSE))","v":""},{"$f":"IF(I1036=\"\",\"\",VLOOKUP(I1036,MAESTROS!P$2:Q$2000,2,FALSE))","v":""}]
[{"$f":"IF(H1037=\"\",\"\",VLOOKUP(H1037,MAESTROS!N$2:O$2000,2,FALSE))","v":""},{"$f":"IF(I1037=\"\",\"\",VLOOKUP(I1037,MAESTROS!P$2:Q$2000,2,FALSE))","v":""}]
[{"$f":"IF(H1038=\"\",\"\",VLOOKUP(H1038,MAESTROS!N$2:O$2000,2,FALSE))","v":""},{"$f":"IF(I1038=\"\",\"\",VLOOKUP(I1038,MAESTROS!P$2:Q$2000,2,FALSE))","v":""}]
[{"$f":"IF(H1039=\"\",\"\",VLOOKUP(H1039,MAESTROS!N$2:O$2000,2,FALSE))","v":""},{"$f":"IF(I1039=\"\",\"\",VLOOKUP(I1039,MAESTROS!P$2:Q$2000,2,FALSE))","v":""}]
[{"$f":"IF(H1040=\"\",\"\",VLOOKUP(H1040,MAESTROS!N$2:O$2000,2,FALSE))","v":""},{"$f":"IF(I1040=\"\",\"\",VLOOKUP(I1040,MAESTROS!P$2:Q$2000,2,FALSE))","v":""}]
[{"$f":"IF(H1041=\"\",\"\",VLOOKUP(H1041,MAESTROS!N$2:O$2000,2,FALSE))","v":""},{"$f":"IF(I1041=\"\",\"\",VLOOKUP(I1041,MAESTROS!P$2:Q$2000,2,FALSE))","v":""}]
[{"$f":"IF(H1042=\"\",\"\",VLOOKUP(H1042,MAESTROS!N$2:O$2000,2,FALSE))","v":""},{"$f":"IF(I1042=\"\",\"\",VLOOKUP(I1042,MAESTROS!P$2:Q$2000,2,FALSE))","v":""}]
[{"$f":"IF(H1043=\"\",\"\",VLOOKUP(H1043,MAESTROS!N$2:O$2000,2,FALSE))","v":""},{"$f":"IF(I1043=\"\",\"\",VLOOKUP(I1043,MAESTROS!P$2:Q$2000,2,FALSE))","v":""}]
[{"$f":"IF(H1044=\"\",\"\",VLOOKUP(H1044,MAESTROS!N$2:O$2000,2,FALSE))","v":""},{"$f":"IF(I1044=\"\",\"\",VLOOKUP(I1044,MAESTROS!P$2:Q$2000,2,FALSE))","v":""}]
[{"$f":"IF(H1045=\"\",\"\",VLOOKUP(H1045,MAESTROS!N$2:O$2000,2,FALSE))","v":""},{"$f":"IF(I1045=\"\",\"\",VLOOKUP(I1045,MAESTROS!P$2:Q$2000,2,FALSE))","v":""}]
[{"$f":"IF(H1046=\"\",\"\",VLOOKUP(H1046,MAESTROS!N$2:O$2000,2,FALSE))","v":""},{"$f":"IF(I1046=\"\",\"\",VLOOKUP(I1046,MAESTROS!P$2:Q$2000,2,FALSE))","v":""}]
[{"$f":"IF(H1047=\"\",\"\",VLOOKUP(H1047,MAESTROS!N$2:O$2000,2,FALSE))","v":""},{"$f":"IF(I1047=\"\",\"\",VLOOKUP(I1047,MAESTROS!P$2:Q$2000,2,FALSE))","v":""}]
[{"$f":"IF(H1048=\"\",\"\",VLOOKUP(H1048,MAESTROS!N$2:O$2000,2,FALSE))","v":""},{"$f":"IF(I1048=\"\",\"\",VLOOKUP(I1048,MAESTROS!P$2:Q$2000,2,FALSE))","v":""}]
[{"$f":"IF(H1049=\"\",\"\",VLOOKUP(H1049,MAESTROS!N$2:O$2000,2,FALSE))","v":""},{"$f":"IF(I1049=\"\",\"\",VLOOKUP(I1049,MAESTROS!P$2:Q$2000,2,FALSE))","v":""}]
[{"$f":"IF(H1050=\"\",\"\",VLOOKUP(H1050,MAESTROS!N$2:O$2000,2,FALSE))","v":""},{"$f":"IF(I1050=\"\",\"\",VLOOKUP(I1050,MAESTROS!P$2:Q$2000,2,FALSE))","v":""}]
[{"$f":"IF(H1051=\"\",\"\",VLOOKUP(H1051,MAESTROS!N$2:O$2000,2,FALSE))","v":""},{"$f":"IF(I1051=\"\",\"\",VLOOKUP(I1051,MAESTROS!P$2:Q$2000,2,FALSE))","v":""}]
[{"$f":"IF(H1052=\"\",\"\",VLOOKUP(H1052,MAESTROS!N$2:O$2000,2,FALSE))","v":""},{"$f":"IF(I1052=\"\",\"\",VLOOKUP(I1052,MAESTROS!P$2:Q$2000,2,FALSE))","v":""}]
[{"$f":"IF(H1053=\"\",\"\",VLOOKUP(H1053,MAESTROS!N$2:O$2000,2,FALSE))","v":""},{"$f":"IF(I1053=\"\",\"\",VLOOKUP(I1053,MAESTROS!P$2:Q$2000,2,FALSE))","v":""}]
[{"$f":"IF(H1054=\"\",\"\",VLOOKUP(H1054,MAESTROS!N$2:O$2000,2,FALSE))","v":""},{"$f":"IF(I1054=\"\",\"\",VLOOKUP(I1054,MAESTROS!P$2:Q$2000,2,FALSE))","v":""}]
[{"$f":"IF(H1055=\"\",\"\",VLOOKUP(H1055,MAESTROS!N$2:O$2000,2,FALSE))","v":""},{"$f":"IF(I1055=\"\",\"\",VLOOKUP(I1055,MAESTROS!P$2:Q$2000,2,FALSE))","v":""}]
[{"$f":"IF(H1056=\"\",\"\",VLOOKUP(H1056,MAESTROS!N$2:O$2000,2,FALSE))","v":""},{"$f":"IF(I1056=\"\",\"\",VLOOKUP(I1056,MAESTROS!P$2:Q$2000,2,FALSE))","v":""}]
[{"$f":"IF(H1057=\"\",\"\",VLOOKUP(H1057,MAESTROS!N$2:O$2000,2,FALSE))","v":""},{"$f":"IF(I1057=\"\",\"\",VLOOKUP(I1057,MAESTROS!P$2:Q$2000,2,FALSE))","v":""}]
[{"$f":"IF(H1058=\"\",\"\",VLOOKUP(H1058,MAESTROS!N$2:O$2000,2,FALSE))","v":""},{"$f":"IF(I1058=\"\",\"\",VLOOKUP(I1058,MAESTROS!P$2:Q$2000,2,FALSE))","v":""}]
[{"$f":"IF(H1059=\"\",\"\",VLOOKUP(H1059,MAESTROS!N$2:O$2000,2,FALSE))","v":""},{"$f":"IF(I1059=\"\",\"\",VLOOKUP(I1059,MAESTROS!P$2:Q$2000,2,FALSE))","v":""}]
[{"$f":"IF(H1060=\"\",\"\",VLOOKUP(H1060,MAESTROS!N$2:O$2000,2,FALSE))","v":""},{"$f":"IF(I1060=\"\",\"\",VLOOKUP(I1060,MAESTROS!P$2:Q$2000,2,FALSE))","v":""}]
[{"$f":"IF(H1061=\"\",\"\",VLOOKUP(H1061,MAESTROS!N$2:O$2000,2,FALSE))","v":""},{"$f":"IF(I1061=\"\",\"\",VLOOKUP(I1061,MAESTROS!P$2:Q$2000,2,FALSE))","v":""}]
[{"$f":"IF(H1062=\"\",\"\",VLOOKUP(H1062,MAESTROS!N$2:O$2000,2,FALSE))","v":""},{"$f":"IF(I1062=\"\",\"\",VLOOKUP(I1062,MAESTROS!P$2:Q$2000,2,FALSE))","v":""}]
[{"$f":"IF(H1063=\"\",\"\",VLOOKUP(H1063,MAESTROS!N$2:O$2000,2,FALSE))","v":""},{"$f":"IF(I1063=\"\",\"\",VLOOKUP(I1063,MAESTROS!P$2:Q$2000,2,FALSE))","v":""}]
[{"$f":"IF(H1064=\"\",\"\",VLOOKUP(H1064,MAESTROS!N$2:O$2000,2,FALSE))","v":""},{"$f":"IF(I1064=\"\",\"\",VLOOKUP(I1064,MAESTROS!P$2:Q$2000,2,FALSE))","v":""}]
[{"$f":"IF(H1065=\"\",\"\",VLOOKUP(H1065,MAESTROS!N$2:O$2000,2,FALSE))","v":""},{"$f":"IF(I1065=\"\",\"\",VLOOKUP(I1065,MAESTROS!P$2:Q$2000,2,FALSE))","v":""}]
[{"$f":"IF(H1066=\"\",\"\",VLOOKUP(H1066,MAESTROS!N$2:O$2000,2,FALSE))","v":""},{"$f":"IF(I1066=\"\",\"\",VLOOKUP(I1066,MAESTROS!P$2:Q$2000,2,FALSE))","v":""}]
[{"$f":"IF(H1067=\"\",\"\",VLOOKUP(H1067,MAESTROS!N$2:O$2000,2,FALSE))","v":""},{"$f":"IF(I1067=\"\",\"\",VLOOKUP(I1067,MAESTROS!P$2:Q$2000,2,FALSE))","v":""}]
[{"$f":"IF(H1068=\"\",\"\",VLOOKUP(H1068,MAESTROS!N$2:O$2000,2,FALSE))","v":""},{"$f":"IF(I1068=\"\",\"\",VLOOKUP(I1068,MAESTROS!P$2:Q$2000,2,FALSE))","v":""}]
[{"$f":"IF(H1069=\"\",\"\",VLOOKUP(H1069,MAESTROS!N$2:O$2000,2,FALSE))","v":""},{"$f":"IF(I1069=\"\",\"\",VLOOKUP(I1069,MAESTROS!P$2:Q$2000,2,FALSE))","v":""}]
[{"$f":"IF(H1070=\"\",\"\",VLOOKUP(H1070,MAESTROS!N$2:O$2000,2,FALSE))","v":""},{"$f":"IF(I1070=\"\",\"\",VLOOKUP(I1070,MAESTROS!P$2:Q$2000,2,FALSE))","v":""}]
[{"$f":"IF(H1071=\"\",\"\",VLOOKUP(H1071,MAESTROS!N$2:O$2000,2,FALSE))","v":""},{"$f":"IF(I1071=\"\",\"\",VLOOKUP(I1071,MAESTROS!P$2:Q$2000,2,FALSE))","v":""}]
[{"$f":"IF(H1072=\"\",\"\",VLOOKUP(H1072,MAESTROS!N$2:O$2000,2,FALSE))","v":""},{"$f":"IF(I1072=\"\",\"\",VLOOKUP(I1072,MAESTROS!P$2:Q$2000,2,FALSE))","v":""}]
[{"$f":"IF(H1073=\"\",\"\",VLOOKUP(H1073,MAESTROS!N$2:O$2000,2,FALSE))","v":""},{"$f":"IF(I1073=\"\",\"\",VLOOKUP(I1073,MAESTROS!P$2:Q$2000,2,FALSE))","v":""}]
[{"$f":"IF(H1074=\"\",\"\",VLOOKUP(H1074,MAESTROS!N$2:O$2000,2,FALSE))","v":""},{"$f":"IF(I1074=\"\",\"\",VLOOKUP(I1074,MAESTROS!P$2:Q$2000,2,FALSE))","v":""}]
[{"$f":"IF(H1075=\"\",\"\",VLOOKUP(H1075,MAESTROS!N$2:O$2000,2,FALSE))","v":""},{"$f":"IF(I1075=\"\",\"\",VLOOKUP(I1075,MAESTROS!P$2:Q$2000,2,FALSE))","v":""}]
[{"$f":"IF(H1076=\"\",\"\",VLOOKUP(H1076,MAESTROS!N$2:O$2000,2,FALSE))","v":""},{"$f":"IF(I1076=\"\",\"\",VLOOKUP(I1076,MAESTROS!P$2:Q$2000,2,FALSE))","v":""}]
[{"$f":"IF(H1077=\"\",\"\",VLOOKUP(H1077,MAESTROS!N$2:O$2000,2,FALSE))","v":""},{"$f":"IF(I1077=\"\",\"\",VLOOKUP(I1077,MAESTROS!P$2:Q$2000,2,FALSE))","v":""}]
[{"$f":"IF(H1078=\"\",\"\",VLOOKUP(H1078,MAESTROS!N$2:O$2000,2,FALSE))","v":""},{"$f":"IF(I1078=\"\",\"\",VLOOKUP(I1078,MAESTROS!P$2:Q$2000,2,FALSE))","v":""}]
[{"$f":"IF(H1079=\"\",\"\",VLOOKUP(H1079,MAESTROS!N$2:O$2000,2,FALSE))","v":""},{"$f":"IF(I1079=\"\",\"\",VLOOKUP(I1079,MAESTROS!P$2:Q$2000,2,FALSE))","v":""}]
[{"$f":"IF(H1080=\"\",\"\",VLOOKUP(H1080,MAESTROS!N$2:O$2000,2,FALSE))","v":""},{"$f":"IF(I1080=\"\",\"\",VLOOKUP(I1080,MAESTROS!P$2:Q$2000,2,FALSE))","v":""}]
[{"$f":"IF(H1081=\"\",\"\",VLOOKUP(H1081,MAESTROS!N$2:O$2000,2,FALSE))","v":""},{"$f":"IF(I1081=\"\",\"\",VLOOKUP(I1081,MAESTROS!P$2:Q$2000,2,FALSE))","v":""}]
[{"$f":"IF(H1082=\"\",\"\",VLOOKUP(H1082,MAESTROS!N$2:O$2000,2,FALSE))","v":""},{"$f":"IF(I1082=\"\",\"\",VLOOKUP(I1082,MAESTROS!P$2:Q$2000,2,FALSE))","v":""}]
[{"$f":"IF(H1083=\"\",\"\",VLOOKUP(H1083,MAESTROS!N$2:O$2000,2,FALSE))","v":""},{"$f":"IF(I1083=\"\",\"\",VLOOKUP(I1083,MAESTROS!P$2:Q$2000,2,FALSE))","v":""}]
[{"$f":"IF(H1084=\"\",\"\",VLOOKUP(H1084,MAESTROS!N$2:O$2000,2,FALSE))","v":""},{"$f":"IF(I1084=\"\",\"\",VLOOKUP(I1084,MAESTROS!P$2:Q$2000,2,FALSE))","v":""}]
[{"$f":"IF(H1085=\"\",\"\",VLOOKUP(H1085,MAESTROS!N$2:O$2000,2,FALSE))","v":""},{"$f":"IF(I1085=\"\",\"\",VLOOKUP(I1085,MAESTROS!P$2:Q$2000,2,FALSE))","v":""}]
[{"$f":"IF(H1086=\"\",\"\",VLOOKUP(H1086,MAESTROS!N$2:O$2000,2,FALSE))","v":""},{"$f":"IF(I1086=\"\",\"\",VLOOKUP(I1086,MAESTROS!P$2:Q$2000,2,FALSE))","v":""}]
[{"$f":"IF(H1087=\"\",\"\",VLOOKUP(H1087,MAESTROS!N$2:O$2000,2,FALSE))","v":""},{"$f":"IF(I1087=\"\",\"\",VLOOKUP(I1087,MAESTROS!P$2:Q$2000,2,FALSE))","v":""}]
[{"$f":"IF(H1088=\"\",\"\",VLOOKUP(H1088,MAESTROS!N$2:O$2000,2,FALSE))","v":""},{"$f":"IF(I1088=\"\",\"\",VLOOKUP(I1088,MAESTROS!P$2:Q$2000,2,FALSE))","v":""}]
[{"$f":"IF(H1089=\"\",\"\",VLOOKUP(H1089,MAESTROS!N$2:O$2000,2,FALSE))","v":""},{"$f":"IF(I1089=\"\",\"\",VLOOKUP(I1089,MAESTROS!P$2:Q$2000,2,FALSE))","v":""}]
[{"$f":"IF(H1090=\"\",\"\",VLOOKUP(H1090,MAESTROS!N$2:O$2000,2,FALSE))","v":""},{"$f":"IF(I1090=\"\",\"\",VLOOKUP(I1090,MAESTROS!P$2:Q$2000,2,FALSE))","v":""}]
[{"$f":"IF(H1091=\"\",\"\",VLOOKUP(H1091,MAESTROS!N$2:O$2000,2,FALSE))","v":""},{"$f":"IF(I1091=\"\",\"\",VLOOKUP(I1091,MAESTROS!P$2:Q$2000,2,FALSE))","v":""}]
[{"$f":"IF(H1092=\"\",\"\",VLOOKUP(H1092,MAESTROS!N$2:O$2000,2,FALSE))","v":""},{"$f":"IF(I1092=\"\",\"\",VLOOKUP(I1092,MAESTROS!P$2:Q$2000,2,FALSE))","v":""}]
[{"$f":"IF(H1093=\"\",\"\",VLOOKUP(H1093,MAESTROS!N$2:O$2000,2,FALSE))","v":""},{"$f":"IF(I1093=\"\",\"\",VLOOKUP(I1093,MAESTROS!P$2:Q$2000,2,FALSE))","v":""}]
[{"$f":"IF(H1094=\"\",\"\",VLOOKUP(H1094,MAESTROS!N$2:O$2000,2,FALSE))","v":""},{"$f":"IF(I1094=\"\",\"\",VLOOKUP(I1094,MAESTROS!P$2:Q$2000,2,FALSE))","v":""}]
[{"$f":"IF(H1095=\"\",\"\",VLOOKUP(H1095,MAESTROS!N$2:O$2000,2,FALSE))","v":""},{"$f":"IF(I1095=\"\",\"\",VLOOKUP(I1095,MAESTROS!P$2:Q$2000,2,FALSE))","v":""}]
[{"$f":"IF(H1096=\"\",\"\",VLOOKUP(H1096,MAESTROS!N$2:O$2000,2,FALSE))","v":""},{"$f":"IF(I1096=\"\",\"\",VLOOKUP(I1096,MAESTROS!P$2:Q$2000,2,FALSE))","v":""}]
[{"$f":"IF(H1097=\"\",\"\",VLOOKUP(H1097,MAESTROS!N$2:O$2000,2,FALSE))","v":""},{"$f":"IF(I1097=\"\",\"\",VLOOKUP(I1097,MAESTROS!P$2:Q$2000,2,FALSE))","v":""}]
[{"$f":"IF(H1098=\"\",\"\",VLOOKUP(H1098,MAESTROS!N$2:O$2000,2,FALSE))","v":""},{"$f":"IF(I1098=\"\",\"\",VLOOKUP(I1098,MAESTROS!P$2:Q$2000,2,FALSE))","v":""}]
[{"$f":"IF(H1099=\"\",\"\",VLOOKUP(H1099,MAESTROS!N$2:O$2000,2,FALSE))","v":""},{"$f":"IF(I1099=\"\",\"\",VLOOKUP(I1099,MAESTROS!P$2:Q$2000,2,FALSE))","v":""}]
[{"$f":"IF(H1100=\"\",\"\",VLOOKUP(H1100,MAESTROS!N$2:O$2000,2,FALSE))","v":""},{"$f":"IF(I1100=\"\",\"\",VLOOKUP(I1100,MAESTROS!P$2:Q$2000,2,FALSE))","v":""}]
[{"$f":"IF(H1101=\"\",\"\",VLOOKUP(H1101,MAESTROS!N$2:O$2000,2,FALSE))","v":""},{"$f":"IF(I1101=\"\",\"\",VLOOKUP(I1101,MAESTROS!P$2:Q$2000,2,FALSE))","v":""}]
[{"$f":"IF(H1102=\"\",\"\",VLOOKUP(H1102,MAESTROS!N$2:O$2000,2,FALSE))","v":""},{"$f":"IF(I1102=\"\",\"\",VLOOKUP(I1102,MAESTROS!P$2:Q$2000,2,FALSE))","v":""}]
[{"$f":"IF(H1103=\"\",\"\",VLOOKUP(H1103,MAESTROS!N$2:O$2000,2,FALSE))","v":""},{"$f":"IF(I1103=\"\",\"\",VLOOKUP(I1103,MAESTROS!P$2:Q$2000,2,FALSE))","v":""}]
[{"$f":"IF(H1104=\"\",\"\",VLOOKUP(H1104,MAESTROS!N$2:O$2000,2,FALSE))","v":""},{"$f":"IF(I1104=\"\",\"\",VLOOKUP(I1104,MAESTROS!P$2:Q$2000,2,FALSE))","v":""}]
[{"$f":"IF(H1105=\"\",\"\",VLOOKUP(H1105,MAESTROS!N$2:O$2000,2,FALSE))","v":""},{"$f":"IF(I1105=\"\",\"\",VLOOKUP(I1105,MAESTROS!P$2:Q$2000,2,FALSE))","v":""}]
[{"$f":"IF(H1106=\"\",\"\",VLOOKUP(H1106,MAESTROS!N$2:O$2000,2,FALSE))","v":""},{"$f":"IF(I1106=\"\",\"\",VLOOKUP(I1106,MAESTROS!P$2:Q$2000,2,FALSE))","v":""}]
[{"$f":"IF(H1107=\"\",\"\",VLOOKUP(H1107,MAESTROS!N$2:O$2000,2,FALSE))","v":""},{"$f":"IF(I1107=\"\",\"\",VLOOKUP(I1107,MAESTROS!P$2:Q$2000,2,FALSE))","v":""}]
[{"$f":"IF(H1108=\"\",\"\",VLOOKUP(H1108,MAESTROS!N$2:O$2000,2,FALSE))","v":""},{"$f":"IF(I1108=\"\",\"\",VLOOKUP(I1108,MAESTROS!P$2:Q$2000,2,FALSE))","v":""}]
[{"$f":"IF(H1109=\"\",\"\",VLOOKUP(H1109,MAESTROS!N$2:O$2000,2,FALSE))","v":""},{"$f":"IF(I1109=\"\",\"\",VLOOKUP(I1109,MAESTROS!P$2:Q$2000,2,FALSE))","v":""}]
[{"$f":"IF(H1110=\"\",\"\",VLOOKUP(H1110,MAESTROS!N$2:O$2000,2,FALSE))","v":""},{"$f":"IF(I1110=\"\",\"\",VLOOKUP(I1110,MAESTROS!P$2:Q$2000,2,FALSE))","v":""}]
[{"$f":"IF(H1111=\"\",\"\",VLOOKUP(H1111,MAESTROS!N$2:O$2000,2,FALSE))","v":""},{"$f":"IF(I1111=\"\",\"\",VLOOKUP(I1111,MAESTROS!P$2:Q$2000,2,FALSE))","v":""}]
[{"$f":"IF(H1112=\"\",\"\",VLOOKUP(H1112,MAESTROS!N$2:O$2000,2,FALSE))","v":""},{"$f":"IF(I1112=\"\",\"\",VLOOKUP(I1112,MAESTROS!P$2:Q$2000,2,FALSE))","v":""}]
[{"$f":"IF(H1113=\"\",\"\",VLOOKUP(H1113,MAESTROS!N$2:O$2000,2,FALSE))","v":""},{"$f":"IF(I1113=\"\",\"\",VLOOKUP(I1113,MAESTROS!P$2:Q$2000,2,FALSE))","v":""}]
[{"$f":"IF(H1114=\"\",\"\",VLOOKUP(H1114,MAESTROS!N$2:O$2000,2,FALSE))","v":""},{"$f":"IF(I1114=\"\",\"\",VLOOKUP(I1114,MAESTROS!P$2:Q$2000,2,FALSE))","v":""}]
[{"$f":"IF(H1115=\"\",\"\",VLOOKUP(H1115,MAESTROS!N$2:O$2000,2,FALSE))","v":""},{"$f":"IF(I1115=\"\",\"\",VLOOKUP(I1115,MAESTROS!P$2:Q$2000,2,FALSE))","v":""}]
[{"$f":"IF(H1116=\"\",\"\",VLOOKUP(H1116,MAESTROS!N$2:O$2000,2,FALSE))","v":""},{"$f":"IF(I1116=\"\",\"\",VLOOKUP(I1116,MAESTROS!P$2:Q$2000,2,FALSE))","v":""}]
[{"$f":"IF(H1117=\"\",\"\",VLOOKUP(H1117,MAESTROS!N$2:O$2000,2,FALSE))","v":""},{"$f":"IF(I1117=\"\",\"\",VLOOKUP(I1117,MAESTROS!P$2:Q$2000,2,FALSE))","v":""}]
[{"$f":"IF(H1118=\"\",\"\",VLOOKUP(H1118,MAESTROS!N$2:O$2000,2,FALSE))","v":""},{"$f":"IF(I1118=\"\",\"\",VLOOKUP(I1118,MAESTROS!P$2:Q$2000,2,FALSE))","v":""}]
[{"$f":"IF(H1119=\"\",\"\",VLOOKUP(H1119,MAESTROS!N$2:O$2000,2,FALSE))","v":""},{"$f":"IF(I1119=\"\",\"\",VLOOKUP(I1119,MAESTROS!P$2:Q$2000,2,FALSE))","v":""}]
[{"$f":"IF(H1120=\"\",\"\",VLOOKUP(H1120,MAESTROS!N$2:O$2000,2,FALSE))","v":""},{"$f":"IF(I1120=\"\",\"\",VLOOKUP(I1120,MAESTROS!P$2:Q$2000,2,FALSE))","v":""}]
[{"$f":"IF(H1121=\"\",\"\",VLOOKUP(H1121,MAESTROS!N$2:O$2000,2,FALSE))","v":""},{"$f":"IF(I1121=\"\",\"\",VLOOKUP(I1121,MAESTROS!P$2:Q$2000,2,FALSE))","v":""}]
[{"$f":"IF(H1122=\"\",\"\",VLOOKUP(H1122,MAESTROS!N$2:O$2000,2,FALSE))","v":""},{"$f":"IF(I1122=\"\",\"\",VLOOKUP(I1122,MAESTROS!P$2:Q$2000,2,FALSE))","v":""}]
[{"$f":"IF(H1123=\"\",\"\",VLOOKUP(H1123,MAESTROS!N$2:O$2000,2,FALSE))","v":""},{"$f":"IF(I1123=\"\",\"\",VLOOKUP(I1123,MAESTROS!P$2:Q$2000,2,FALSE))","v":""}]
[{"$f":"IF(H1124=\"\",\"\",VLOOKUP(H1124,MAESTROS!N$2:O$2000,2,FALSE))","v":""},{"$f":"IF(I1124=\"\",\"\",VLOOKUP(I1124,MAESTROS!P$2:Q$2000,2,FALSE))","v":""}]
[{"$f":"IF(H1125=\"\",\"\",VLOOKUP(H1125,MAESTROS!N$2:O$2000,2,FALSE))","v":""},{"$f":"IF(I1125=\"\",\"\",VLOOKUP(I1125,MAESTROS!P$2:Q$2000,2,FALSE))","v":""}]
[{"$f":"IF(H1126=\"\",\"\",VLOOKUP(H1126,MAESTROS!N$2:O$2000,2,FALSE))","v":""},{"$f":"IF(I1126=\"\",\"\",VLOOKUP(I1126,MAESTROS!P$2:Q$2000,2,FALSE))","v":""}]
[{"$f":"IF(H1127=\"\",\"\",VLOOKUP(H1127,MAESTROS!N$2:O$2000,2,FALSE))","v":""},{"$f":"IF(I1127=\"\",\"\",VLOOKUP(I1127,MAESTROS!P$2:Q$2000,2,FALSE))","v":""}]
[{"$f":"IF(H1128=\"\",\"\",VLOOKUP(H1128,MAESTROS!N$2:O$2000,2,FALSE))","v":""},{"$f":"IF(I1128=\"\",\"\",VLOOKUP(I1128,MAESTROS!P$2:Q$2000,2,FALSE))","v":""}]
[{"$f":"IF(H1129=\"\",\"\",VLOOKUP(H1129,MAESTROS!N$2:O$2000,2,FALSE))","v":""},{"$f":"IF(I1129=\"\",\"\",VLOOKUP(I1129,MAESTROS!P$2:Q$2000,2,FALSE))","v":""}]
[{"$f":"IF(H1130=\"\",\"\",VLOOKUP(H1130,MAESTROS!N$2:O$2000,2,FALSE))","v":""},{"$f":"IF(I1130=\"\",\"\",VLOOKUP(I1130,MAESTROS!P$2:Q$2000,2,FALSE))","v":""}]
[{"$f":"IF(H1131=\"\",\"\",VLOOKUP(H1131,MAESTROS!N$2:O$2000,2,FALSE))","v":""},{"$f":"IF(I1131=\"\",\"\",VLOOKUP(I1131,MAESTROS!P$2:Q$2000,2,FALSE))","v":""}]
[{"$f":"IF(H1132=\"\",\"\",VLOOKUP(H1132,MAESTROS!N$2:O$2000,2,FALSE))","v":""},{"$f":"IF(I1132=\"\",\"\",VLOOKUP(I1132,MAESTROS!P$2:Q$2000,2,FALSE))","v":""}]
[{"$f":"IF(H1133=\"\",\"\",VLOOKUP(H1133,MAESTROS!N$2:O$2000,2,FALSE))","v":""},{"$f":"IF(I1133=\"\",\"\",VLOOKUP(I1133,MAESTROS!P$2:Q$2000,2,FALSE))","v":""}]
[{"$f":"IF(H1134=\"\",\"\",VLOOKUP(H1134,MAESTROS!N$2:O$2000,2,FALSE))","v":""},{"$f":"IF(I1134=\"\",\"\",VLOOKUP(I1134,MAESTROS!P$2:Q$2000,2,FALSE))","v":""}]
[{"$f":"IF(H1135=\"\",\"\",VLOOKUP(H1135,MAESTROS!N$2:O$2000,2,FALSE))","v":""},{"$f":"IF(I1135=\"\",\"\",VLOOKUP(I1135,MAESTROS!P$2:Q$2000,2,FALSE))","v":""}]
[{"$f":"IF(H1136=\"\",\"\",VLOOKUP(H1136,MAESTROS!N$2:O$2000,2,FALSE))","v":""},{"$f":"IF(I1136=\"\",\"\",VLOOKUP(I1136,MAESTROS!P$2:Q$2000,2,FALSE))","v":""}]
[{"$f":"IF(H1137=\"\",\"\",VLOOKUP(H1137,MAESTROS!N$2:O$2000,2,FALSE))","v":""},{"$f":"IF(I1137=\"\",\"\",VLOOKUP(I1137,MAESTROS!P$2:Q$2000,2,FALSE))","v":""}]
[{"$f":"IF(H1138=\"\",\"\",VLOOKUP(H1138,MAESTROS!N$2:O$2000,2,FALSE))","v":""},{"$f":"IF(I1138=\"\",\"\",VLOOKUP(I1138,MAESTROS!P$2:Q$2000,2,FALSE))","v":""}]
[{"$f":"IF(H1139=\"\",\"\",VLOOKUP(H1139,MAESTROS!N$2:O$2000,2,FALSE))","v":""},{"$f":"IF(I1139=\"\",\"\",VLOOKUP(I1139,MAESTROS!P$2:Q$2000,2,FALSE))","v":""}]
[{"$f":"IF(H1140=\"\",\"\",VLOOKUP(H1140,MAESTROS!N$2:O$2000,2,FALSE))","v":""},{"$f":"IF(I1140=\"\",\"\",VLOOKUP(I1140,MAESTROS!P$2:Q$2000,2,FALSE))","v":""}]
[{"$f":"IF(H1141=\"\",\"\",VLOOKUP(H1141,MAESTROS!N$2:O$2000,2,FALSE))","v":""},{"$f":"IF(I1141=\"\",\"\",VLOOKUP(I1141,MAESTROS!P$2:Q$2000,2,FALSE))","v":""}]
[{"$f":"IF(H1142=\"\",\"\",VLOOKUP(H1142,MAESTROS!N$2:O$2000,2,FALSE))","v":""},{"$f":"IF(I1142=\"\",\"\",VLOOKUP(I1142,MAESTROS!P$2:Q$2000,2,FALSE))","v":""}]
[{"$f":"IF(H1143=\"\",\"\",VLOOKUP(H1143,MAESTROS!N$2:O$2000,2,FALSE))","v":""},{"$f":"IF(I1143=\"\",\"\",VLOOKUP(I1143,MAESTROS!P$2:Q$2000,2,FALSE))","v":""}]
[{"$f":"IF(H1144=\"\",\"\",VLOOKUP(H1144,MAESTROS!N$2:O$2000,2,FALSE))","v":""},{"$f":"IF(I1144=\"\",\"\",VLOOKUP(I1144,MAESTROS!P$2:Q$2000,2,FALSE))","v":""}]
[{"$f":"IF(H1145=\"\",\"\",VLOOKUP(H1145,MAESTROS!N$2:O$2000,2,FALSE))","v":""},{"$f":"IF(I1145=\"\",\"\",VLOOKUP(I1145,MAESTROS!P$2:Q$2000,2,FALSE))","v":""}]
[{"$f":"IF(H1146=\"\",\"\",VLOOKUP(H1146,MAESTROS!N$2:O$2000,2,FALSE))","v":""},{"$f":"IF(I1146=\"\",\"\",VLOOKUP(I1146,MAESTROS!P$2:Q$2000,2,FALSE))","v":""}]
[{"$f":"IF(H1147=\"\",\"\",VLOOKUP(H1147,MAESTROS!N$2:O$2000,2,FALSE))","v":""},{"$f":"IF(I1147=\"\",\"\",VLOOKUP(I1147,MAESTROS!P$2:Q$2000,2,FALSE))","v":""}]
[{"$f":"IF(H1148=\"\",\"\",VLOOKUP(H1148,MAESTROS!N$2:O$2000,2,FALSE))","v":""},{"$f":"IF(I1148=\"\",\"\",VLOOKUP(I1148,MAESTROS!P$2:Q$2000,2,FALSE))","v":""}]
[{"$f":"IF(H1149=\"\",\"\",VLOOKUP(H1149,MAESTROS!N$2:O$2000,2,FALSE))","v":""},{"$f":"IF(I1149=\"\",\"\",VLOOKUP(I1149,MAESTROS!P$2:Q$2000,2,FALSE))","v":""}]
[{"$f":"IF(H1150=\"\",\"\",VLOOKUP(H1150,MAESTROS!N$2:O$2000,2,FALSE))","v":""},{"$f":"IF(I1150=\"\",\"\",VLOOKUP(I1150,MAESTROS!P$2:Q$2000,2,FALSE))","v":""}]
[{"$f":"IF(H1151=\"\",\"\",VLOOKUP(H1151,MAESTROS!N$2:O$2000,2,FALSE))","v":""},{"$f":"IF(I1151=\"\",\"\",VLOOKUP(I1151,MAESTROS!P$2:Q$2000,2,FALSE))","v":""}]
[{"$f":"IF(H1152=\"\",\"\",VLOOKUP(H1152,MAESTROS!N$2:O$2000,2,FALSE))","v":""},{"$f":"IF(I1152=\"\",\"\",VLOOKUP(I1152,MAESTROS!P$2:Q$2000,2,FALSE))","v":""}]
[{"$f":"IF(H1153=\"\",\"\",VLOOKUP(H1153,MAESTROS!N$2:O$2000,2,FALSE))","v":""},{"$f":"IF(I1153=\"\",\"\",VLOOKUP(I1153,MAESTROS!P$2:Q$2000,2,FALSE))","v":""}]
[{"$f":"IF(H1154=\"\",\"\",VLOOKUP(H1154,MAESTROS!N$2:O$2000,2,FALSE))","v":""},{"$f":"IF(I1154=\"\",\"\",VLOOKUP(I1154,MAESTROS!P$2:Q$2000,2,FALSE))","v":""}]
[{"$f":"IF(H1155=\"\",\"\",VLOOKUP(H1155,MAESTROS!N$2:O$2000,2,FALSE))","v":""},{"$f":"IF(I1155=\"\",\"\",VLOOKUP(I1155,MAESTROS!P$2:Q$2000,2,FALSE))","v":""}]
[{"$f":"IF(H1156=\"\",\"\",VLOOKUP(H1156,MAESTROS!N$2:O$2000,2,FALSE))","v":""},{"$f":"IF(I1156=\"\",\"\",VLOOKUP(I1156,MAESTROS!P$2:Q$2000,2,FALSE))","v":""}]
[{"$f":"IF(H1157=\"\",\"\",VLOOKUP(H1157,MAESTROS!N$2:O$2000,2,FALSE))","v":""},{"$f":"IF(I1157=\"\",\"\",VLOOKUP(I1157,MAESTROS!P$2:Q$2000,2,FALSE))","v":""}]
[{"$f":"IF(H1158=\"\",\"\",VLOOKUP(H1158,MAESTROS!N$2:O$2000,2,FALSE))","v":""},{"$f":"IF(I1158=\"\",\"\",VLOOKUP(I1158,MAESTROS!P$2:Q$2000,2,FALSE))","v":""}]
[{"$f":"IF(H1159=\"\",\"\",VLOOKUP(H1159,MAESTROS!N$2:O$2000,2,FALSE))","v":""},{"$f":"IF(I1159=\"\",\"\",VLOOKUP(I1159,MAESTROS!P$2:Q$2000,2,FALSE))","v":""}]
[{"$f":"IF(H1160=\"\",\"\",VLOOKUP(H1160,MAESTROS!N$2:O$2000,2,FALSE))","v":""},{"$f":"IF(I1160=\"\",\"\",VLOOKUP(I1160,MAESTROS!P$2:Q$2000,2,FALSE))","v":""}]
[{"$f":"IF(H1161=\"\",\"\",VLOOKUP(H1161,MAESTROS!N$2:O$2000,2,FALSE))","v":""},{"$f":"IF(I1161=\"\",\"\",VLOOKUP(I1161,MAESTROS!P$2:Q$2000,2,FALSE))","v":""}]
[{"$f":"IF(H1162=\"\",\"\",VLOOKUP(H1162,MAESTROS!N$2:O$2000,2,FALSE))","v":""},{"$f":"IF(I1162=\"\",\"\",VLOOKUP(I1162,MAESTROS!P$2:Q$2000,2,FALSE))","v":""}]
[{"$f":"IF(H1163=\"\",\"\",VLOOKUP(H1163,MAESTROS!N$2:O$2000,2,FALSE))","v":""},{"$f":"IF(I1163=\"\",\"\",VLOOKUP(I1163,MAESTROS!P$2:Q$2000,2,FALSE))","v":""}]
[{"$f":"IF(H1164=\"\",\"\",VLOOKUP(H1164,MAESTROS!N$2:O$2000,2,FALSE))","v":""},{"$f":"IF(I1164=\"\",\"\",VLOOKUP(I1164,MAESTROS!P$2:Q$2000,2,FALSE))","v":""}]
[{"$f":"IF(H1165=\"\",\"\",VLOOKUP(H1165,MAESTROS!N$2:O$2000,2,FALSE))","v":""},{"$f":"IF(I1165=\"\",\"\",VLOOKUP(I1165,MAESTROS!P$2:Q$2000,2,FALSE))","v":""}]
[{"$f":"IF(H1166=\"\",\"\",VLOOKUP(H1166,MAESTROS!N$2:O$2000,2,FALSE))","v":""},{"$f":"IF(I1166=\"\",\"\",VLOOKUP(I1166,MAESTROS!P$2:Q$2000,2,FALSE))","v":""}]
[{"$f":"IF(H1167=\"\",\"\",VLOOKUP(H1167,MAESTROS!N$2:O$2000,2,FALSE))","v":""},{"$f":"IF(I1167=\"\",\"\",VLOOKUP(I1167,MAESTROS!P$2:Q$2000,2,FALSE))","v":""}]
[{"$f":"IF(H1168=\"\",\"\",VLOOKUP(H1168,MAESTROS!N$2:O$2000,2,FALSE))","v":""},{"$f":"IF(I1168=\"\",\"\",VLOOKUP(I1168,MAESTROS!P$2:Q$2000,2,FALSE))","v":""}]
[{"$f":"IF(H1169=\"\",\"\",VLOOKUP(H1169,MAESTROS!N$2:O$2000,2,FALSE))","v":""},{"$f":"IF(I1169=\"\",\"\",VLOOKUP(I1169,MAESTROS!P$2:Q$2000,2,FALSE))","v":""}]
[{"$f":"IF(H1170=\"\",\"\",VLOOKUP(H1170,MAESTROS!N$2:O$2000,2,FALSE))","v":""},{"$f":"IF(I1170=\"\",\"\",VLOOKUP(I1170,MAESTROS!P$2:Q$2000,2,FALSE))","v":""}]
[{"$f":"IF(H1171=\"\",\"\",VLOOKUP(H1171,MAESTROS!N$2:O$2000,2,FALSE))","v":""},{"$f":"IF(I1171=\"\",\"\",VLOOKUP(I1171,MAESTROS!P$2:Q$2000,2,FALSE))","v":""}]
[{"$f":"IF(H1172=\"\",\"\",VLOOKUP(H1172,MAESTROS!N$2:O$2000,2,FALSE))","v":""},{"$f":"IF(I1172=\"\",\"\",VLOOKUP(I1172,MAESTROS!P$2:Q$2000,2,FALSE))","v":""}]
[{"$f":"IF(H1173=\"\",\"\",VLOOKUP(H1173,MAESTROS!N$2:O$2000,2,FALSE))","v":""},{"$f":"IF(I1173=\"\",\"\",VLOOKUP(I1173,MAESTROS!P$2:Q$2000,2,FALSE))","v":""}]
[{"$f":"IF(H1174=\"\",\"\",VLOOKUP(H1174,MAESTROS!N$2:O$2000,2,FALSE))","v":""},{"$f":"IF(I1174=\"\",\"\",VLOOKUP(I1174,MAESTROS!P$2:Q$2000,2,FALSE))","v":""}]
[{"$f":"IF(H1175=\"\",\"\",VLOOKUP(H1175,MAESTROS!N$2:O$2000,2,FALSE))","v":""},{"$f":"IF(I1175=\"\",\"\",VLOOKUP(I1175,MAESTROS!P$2:Q$2000,2,FALSE))","v":""}]
[{"$f":"IF(H1176=\"\",\"\",VLOOKUP(H1176,MAESTROS!N$2:O$2000,2,FALSE))","v":""},{"$f":"IF(I1176=\"\",\"\",VLOOKUP(I1176,MAESTROS!P$2:Q$2000,2,FALSE))","v":""}]
[{"$f":"IF(H1177=\"\",\"\",VLOOKUP(H1177,MAESTROS!N$2:O$2000,2,FALSE))","v":""},{"$f":"IF(I1177=\"\",\"\",VLOOKUP(I1177,MAESTROS!P$2:Q$2000,2,FALSE))","v":""}]
[{"$f":"IF(H1178=\"\",\"\",VLOOKUP(H1178,MAESTROS!N$2:O$2000,2,FALSE))","v":""},{"$f":"IF(I1178=\"\",\"\",VLOOKUP(I1178,MAESTROS!P$2:Q$2000,2,FALSE))","v":""}]
[{"$f":"IF(H1179=\"\",\"\",VLOOKUP(H1179,MAESTROS!N$2:O$2000,2,FALSE))","v":""},{"$f":"IF(I1179=\"\",\"\",VLOOKUP(I1179,MAESTROS!P$2:Q$2000,2,FALSE))","v":""}]
[{"$f":"IF(H1180=\"\",\"\",VLOOKUP(H1180,MAESTROS!N$2:O$2000,2,FALSE))","v":""},{"$f":"IF(I1180=\"\",\"\",VLOOKUP(I1180,MAESTROS!P$2:Q$2000,2,FALSE))","v":""}]
[{"$f":"IF(H1181=\"\",\"\",VLOOKUP(H1181,MAESTROS!N$2:O$2000,2,FALSE))","v":""},{"$f":"IF(I1181=\"\",\"\",VLOOKUP(I1181,MAESTROS!P$2:Q$2000,2,FALSE))","v":""}]
[{"$f":"IF(H1182=\"\",\"\",VLOOKUP(H1182,MAESTROS!N$2:O$2000,2,FALSE))","v":""},{"$f":"IF(I1182=\"\",\"\",VLOOKUP(I1182,MAESTROS!P$2:Q$2000,2,FALSE))","v":""}]
[{"$f":"IF(H1183=\"\",\"\",VLOOKUP(H1183,MAESTROS!N$2:O$2000,2,FALSE))","v":""},{"$f":"IF(I1183=\"\",\"\",VLOOKUP(I1183,MAESTROS!P$2:Q$2000,2,FALSE))","v":""}]
[{"$f":"IF(H1184=\"\",\"\",VLOOKUP(H1184,MAESTROS!N$2:O$2000,2,FALSE))","v":""},{"$f":"IF(I1184=\"\",\"\",VLOOKUP(I1184,MAESTROS!P$2:Q$2000,2,FALSE))","v":""}]
[{"$f":"IF(H1185=\"\",\"\",VLOOKUP(H1185,MAESTROS!N$2:O$2000,2,FALSE))","v":""},{"$f":"IF(I1185=\"\",\"\",VLOOKUP(I1185,MAESTROS!P$2:Q$2000,2,FALSE))","v":""}]
[{"$f":"IF(H1186=\"\",\"\",VLOOKUP(H1186,MAESTROS!N$2:O$2000,2,FALSE))","v":""},{"$f":"IF(I1186=\"\",\"\",VLOOKUP(I1186,MAESTROS!P$2:Q$2000,2,FALSE))","v":""}]
[{"$f":"IF(H1187=\"\",\"\",VLOOKUP(H1187,MAESTROS!N$2:O$2000,2,FALSE))","v":""},{"$f":"IF(I1187=\"\",\"\",VLOOKUP(I1187,MAESTROS!P$2:Q$2000,2,FALSE))","v":""}]
[{"$f":"IF(H1188=\"\",\"\",VLOOKUP(H1188,MAESTROS!N$2:O$2000,2,FALSE))","v":""},{"$f":"IF(I1188=\"\",\"\",VLOOKUP(I1188,MAESTROS!P$2:Q$2000,2,FALSE))","v":""}]
[{"$f":"IF(H1189=\"\",\"\",VLOOKUP(H1189,MAESTROS!N$2:O$2000,2,FALSE))","v":""},{"$f":"IF(I1189=\"\",\"\",VLOOKUP(I1189,MAESTROS!P$2:Q$2000,2,FALSE))","v":""}]
[{"$f":"IF(H1190=\"\",\"\",VLOOKUP(H1190,MAESTROS!N$2:O$2000,2,FALSE))","v":""},{"$f":"IF(I1190=\"\",\"\",VLOOKUP(I1190,MAESTROS!P$2:Q$2000,2,FALSE))","v":""}]
[{"$f":"IF(H1191=\"\",\"\",VLOOKUP(H1191,MAESTROS!N$2:O$2000,2,FALSE))","v":""},{"$f":"IF(I1191=\"\",\"\",VLOOKUP(I1191,MAESTROS!P$2:Q$2000,2,FALSE))","v":""}]
[{"$f":"IF(H1192=\"\",\"\",VLOOKUP(H1192,MAESTROS!N$2:O$2000,2,FALSE))","v":""},{"$f":"IF(I1192=\"\",\"\",VLOOKUP(I1192,MAESTROS!P$2:Q$2000,2,FALSE))","v":""}]
[{"$f":"IF(H1193=\"\",\"\",VLOOKUP(H1193,MAESTROS!N$2:O$2000,2,FALSE))","v":""},{"$f":"IF(I1193=\"\",\"\",VLOOKUP(I1193,MAESTROS!P$2:Q$2000,2,FALSE))","v":""}]
[{"$f":"IF(H1194=\"\",\"\",VLOOKUP(H1194,MAESTROS!N$2:O$2000,2,FALSE))","v":""},{"$f":"IF(I1194=\"\",\"\",VLOOKUP(I1194,MAESTROS!P$2:Q$2000,2,FALSE))","v":""}]
[{"$f":"IF(H1195=\"\",\"\",VLOOKUP(H1195,MAESTROS!N$2:O$2000,2,FALSE))","v":""},{"$f":"IF(I1195=\"\",\"\",VLOOKUP(I1195,MAESTROS!P$2:Q$2000,2,FALSE))","v":""}]
[{"$f":"IF(H1196=\"\",\"\",VLOOKUP(H1196,MAESTROS!N$2:O$2000,2,FALSE))","v":""},{"$f":"IF(I1196=\"\",\"\",VLOOKUP(I1196,MAESTROS!P$2:Q$2000,2,FALSE))","v":""}]
[{"$f":"IF(H1197=\"\",\"\",VLOOKUP(H1197,MAESTROS!N$2:O$2000,2,FALSE))","v":""},{"$f":"IF(I1197=\"\",\"\",VLOOKUP(I1197,MAESTROS!P$2:Q$2000,2,FALSE))","v":""}]
[{"$f":"IF(H1198=\"\",\"\",VLOOKUP(H1198,MAESTROS!N$2:O$2000,2,FALSE))","v":""},{"$f":"IF(I1198=\"\",\"\",VLOOKUP(I1198,MAESTROS!P$2:Q$2000,2,FALSE))","v":""}]
[{"$f":"IF(H1199=\"\",\"\",VLOOKUP(H1199,MAESTROS!N$2:O$2000,2,FALSE))","v":""},{"$f":"IF(I1199=\"\",\"\",VLOOKUP(I1199,MAESTROS!P$2:Q$2000,2,FALSE))","v":""}]
[{"$f":"IF(H1200=\"\",\"\",VLOOKUP(H1200,MAESTROS!N$2:O$2000,2,FALSE))","v":""},{"$f":"IF(I1200=\"\",\"\",VLOOKUP(I1200,MAESTROS!P$2:Q$2000,2,FALSE))","v":""}]
[{"$f":"IF(H1201=\"\",\"\",VLOOKUP(H1201,MAESTROS!N$2:O$2000,2,FALSE))","v":""},{"$f":"IF(I1201=\"\",\"\",VLOOKUP(I1201,MAESTROS!P$2:Q$2000,2,FALSE))","v":""}]
[{"$f":"IF(H1202=\"\",\"\",VLOOKUP(H1202,MAESTROS!N$2:O$2000,2,FALSE))","v":""},{"$f":"IF(I1202=\"\",\"\",VLOOKUP(I1202,MAESTROS!P$2:Q$2000,2,FALSE))","v":""}]
[{"$f":"IF(H1203=\"\",\"\",VLOOKUP(H1203,MAESTROS!N$2:O$2000,2,FALSE))","v":""},{"$f":"IF(I1203=\"\",\"\",VLOOKUP(I1203,MAESTROS!P$2:Q$2000,2,FALSE))","v":""}]
[{"$f":"IF(H1204=\"\",\"\",VLOOKUP(H1204,MAESTROS!N$2:O$2000,2,FALSE))","v":""},{"$f":"IF(I1204=\"\",\"\",VLOOKUP(I1204,MAESTROS!P$2:Q$2000,2,FALSE))","v":""}]
[{"$f":"IF(H1205=\"\",\"\",VLOOKUP(H1205,MAESTROS!N$2:O$2000,2,FALSE))","v":""},{"$f":"IF(I1205=\"\",\"\",VLOOKUP(I1205,MAESTROS!P$2:Q$2000,2,FALSE))","v":""}]
[{"$f":"IF(H1206=\"\",\"\",VLOOKUP(H1206,MAESTROS!N$2:O$2000,2,FALSE))","v":""},{"$f":"IF(I1206=\"\",\"\",VLOOKUP(I1206,MAESTROS!P$2:Q$2000,2,FALSE))","v":""}]
[{"$f":"IF(H1207=\"\",\"\",VLOOKUP(H1207,MAESTROS!N$2:O$2000,2,FALSE))","v":""},{"$f":"IF(I1207=\"\",\"\",VLOOKUP(I1207,MAESTROS!P$2:Q$2000,2,FALSE))","v":""}]
[{"$f":"IF(H1208=\"\",\"\",VLOOKUP(H1208,MAESTROS!N$2:O$2000,2,FALSE))","v":""},{"$f":"IF(I1208=\"\",\"\",VLOOKUP(I1208,MAESTROS!P$2:Q$2000,2,FALSE))","v":""}]
[{"$f":"IF(H1209=\"\",\"\",VLOOKUP(H1209,MAESTROS!N$2:O$2000,2,FALSE))","v":""},{"$f":"IF(I1209=\"\",\"\",VLOOKUP(I1209,MAESTROS!P$2:Q$2000,2,FALSE))","v":""}]
[{"$f":"IF(H1210=\"\",\"\",VLOOKUP(H1210,MAESTROS!N$2:O$2000,2,FALSE))","v":""},{"$f":"IF(I1210=\"\",\"\",VLOOKUP(I1210,MAESTROS!P$2:Q$2000,2,FALSE))","v":""}]
[{"$f":"IF(H1211=\"\",\"\",VLOOKUP(H1211,MAESTROS!N$2:O$2000,2,FALSE))","v":""},{"$f":"IF(I1211=\"\",\"\",VLOOKUP(I1211,MAESTROS!P$2:Q$2000,2,FALSE))","v":""}]
[{"$f":"IF(H1212=\"\",\"\",VLOOKUP(H1212,MAESTROS!N$2:O$2000,2,FALSE))","v":""},{"$f":"IF(I1212=\"\",\"\",VLOOKUP(I1212,MAESTROS!P$2:Q$2000,2,FALSE))","v":""}]
[{"$f":"IF(H1213=\"\",\"\",VLOOKUP(H1213,MAESTROS!N$2:O$2000,2,FALSE))","v":""},{"$f":"IF(I1213=\"\",\"\",VLOOKUP(I1213,MAESTROS!P$2:Q$2000,2,FALSE))","v":""}]
[{"$f":"IF(H1214=\"\",\"\",VLOOKUP(H1214,MAESTROS!N$2:O$2000,2,FALSE))","v":""},{"$f":"IF(I1214=\"\",\"\",VLOOKUP(I1214,MAESTROS!P$2:Q$2000,2,FALSE))","v":""}]
[{"$f":"IF(H1215=\"\",\"\",VLOOKUP(H1215,MAESTROS!N$2:O$2000,2,FALSE))","v":""},{"$f":"IF(I1215=\"\",\"\",VLOOKUP(I1215,MAESTROS!P$2:Q$2000,2,FALSE))","v":""}]
[{"$f":"IF(H1216=\"\",\"\",VLOOKUP(H1216,MAESTROS!N$2:O$2000,2,FALSE))","v":""},{"$f":"IF(I1216=\"\",\"\",VLOOKUP(I1216,MAESTROS!P$2:Q$2000,2,FALSE))","v":""}]
[{"$f":"IF(H1217=\"\",\"\",VLOOKUP(H1217,MAESTROS!N$2:O$2000,2,FALSE))","v":""},{"$f":"IF(I1217=\"\",\"\",VLOOKUP(I1217,MAESTROS!P$2:Q$2000,2,FALSE))","v":""}]
[{"$f":"IF(H1218=\"\",\"\",VLOOKUP(H1218,MAESTROS!N$2:O$2000,2,FALSE))","v":""},{"$f":"IF(I1218=\"\",\"\",VLOOKUP(I1218,MAESTROS!P$2:Q$2000,2,FALSE))","v":""}]
[{"$f":"IF(H1219=\"\",\"\",VLOOKUP(H1219,MAESTROS!N$2:O$2000,2,FALSE))","v":""},{"$f":"IF(I1219=\"\",\"\",VLOOKUP(I1219,MAESTROS!P$2:Q$2000,2,FALSE))","v":""}]
[{"$f":"IF(H1220=\"\",\"\",VLOOKUP(H1220,MAESTROS!N$2:O$2000,2,FALSE))","v":""},{"$f":"IF(I1220=\"\",\"\",VLOOKUP(I1220,MAESTROS!P$2:Q$2000,2,FALSE))","v":""}]
[{"$f":"IF(H1221=\"\",\"\",VLOOKUP(H1221,MAESTROS!N$2:O$2000,2,FALSE))","v":""},{"$f":"IF(I1221=\"\",\"\",VLOOKUP(I1221,MAESTROS!P$2:Q$2000,2,FALSE))","v":""}]
[{"$f":"IF(H1222=\"\",\"\",VLOOKUP(H1222,MAESTROS!N$2:O$2000,2,FALSE))","v":""},{"$f":"IF(I1222=\"\",\"\",VLOOKUP(I1222,MAESTROS!P$2:Q$2000,2,FALSE))","v":""}]
[{"$f":"IF(H1223=\"\",\"\",VLOOKUP(H1223,MAESTROS!N$2:O$2000,2,FALSE))","v":""},{"$f":"IF(I1223=\"\",\"\",VLOOKUP(I1223,MAESTROS!P$2:Q$2000,2,FALSE))","v":""}]
[{"$f":"IF(H1224=\"\",\"\",VLOOKUP(H1224,MAESTROS!N$2:O$2000,2,FALSE))","v":""},{"$f":"IF(I1224=\"\",\"\",VLOOKUP(I1224,MAESTROS!P$2:Q$2000,2,FALSE))","v":""}]
[{"$f":"IF(H1225=\"\",\"\",VLOOKUP(H1225,MAESTROS!N$2:O$2000,2,FALSE))","v":""},{"$f":"IF(I1225=\"\",\"\",VLOOKUP(I1225,MAESTROS!P$2:Q$2000,2,FALSE))","v":""}]
[{"$f":"IF(H1226=\"\",\"\",VLOOKUP(H1226,MAESTROS!N$2:O$2000,2,FALSE))","v":""},{"$f":"IF(I1226=\"\",\"\",VLOOKUP(I1226,MAESTROS!P$2:Q$2000,2,FALSE))","v":""}]
[{"$f":"IF(H1227=\"\",\"\",VLOOKUP(H1227,MAESTROS!N$2:O$2000,2,FALSE))","v":""},{"$f":"IF(I1227=\"\",\"\",VLOOKUP(I1227,MAESTROS!P$2:Q$2000,2,FALSE))","v":""}]
[{"$f":"IF(H1228=\"\",\"\",VLOOKUP(H1228,MAESTROS!N$2:O$2000,2,FALSE))","v":""},{"$f":"IF(I1228=\"\",\"\",VLOOKUP(I1228,MAESTROS!P$2:Q$2000,2,FALSE))","v":""}]
[{"$f":"IF(H1229=\"\",\"\",VLOOKUP(H1229,MAESTROS!N$2:O$2000,2,FALSE))","v":""},{"$f":"IF(I1229=\"\",\"\",VLOOKUP(I1229,MAESTROS!P$2:Q$2000,2,FALSE))","v":""}]
[{"$f":"IF(H1230=\"\",\"\",VLOOKUP(H1230,MAESTROS!N$2:O$2000,2,FALSE))","v":""},{"$f":"IF(I1230=\"\",\"\",VLOOKUP(I1230,MAESTROS!P$2:Q$2000,2,FALSE))","v":""}]
[{"$f":"IF(H1231=\"\",\"\",VLOOKUP(H1231,MAESTROS!N$2:O$2000,2,FALSE))","v":""},{"$f":"IF(I1231=\"\",\"\",VLOOKUP(I1231,MAESTROS!P$2:Q$2000,2,FALSE))","v":""}]
[{"$f":"IF(H1232=\"\",\"\",VLOOKUP(H1232,MAESTROS!N$2:O$2000,2,FALSE))","v":""},{"$f":"IF(I1232=\"\",\"\",VLOOKUP(I1232,MAESTROS!P$2:Q$2000,2,FALSE))","v":""}]
[{"$f":"IF(H1233=\"\",\"\",VLOOKUP(H1233,MAESTROS!N$2:O$2000,2,FALSE))","v":""},{"$f":"IF(I1233=\"\",\"\",VLOOKUP(I1233,MAESTROS!P$2:Q$2000,2,FALSE))","v":""}]
[{"$f":"IF(H1234=\"\",\"\",VLOOKUP(H1234,MAESTROS!N$2:O$2000,2,FALSE))","v":""},{"$f":"IF(I1234=\"\",\"\",VLOOKUP(I1234,MAESTROS!P$2:Q$2000,2,FALSE))","v":""}]
[{"$f":"IF(H1235=\"\",\"\",VLOOKUP(H1235,MAESTROS!N$2:O$2000,2,FALSE))","v":""},{"$f":"IF(I1235=\"\",\"\",VLOOKUP(I1235,MAESTROS!P$2:Q$2000,2,FALSE))","v":""}]
[{"$f":"IF(H1236=\"\",\"\",VLOOKUP(H1236,MAESTROS!N$2:O$2000,2,FALSE))","v":""},{"$f":"IF(I1236=\"\",\"\",VLOOKUP(I1236,MAESTROS!P$2:Q$2000,2,FALSE))","v":""}]
[{"$f":"IF(H1237=\"\",\"\",VLOOKUP(H1237,MAESTROS!N$2:O$2000,2,FALSE))","v":""},{"$f":"IF(I1237=\"\",\"\",VLOOKUP(I1237,MAESTROS!P$2:Q$2000,2,FALSE))","v":""}]
[{"$f":"IF(H1238=\"\",\"\",VLOOKUP(H1238,MAESTROS!N$2:O$2000,2,FALSE))","v":""},{"$f":"IF(I1238=\"\",\"\",VLOOKUP(I1238,MAESTROS!P$2:Q$2000,2,FALSE))","v":""}]
[{"$f":"IF(H1239=\"\",\"\",VLOOKUP(H1239,MAESTROS!N$2:O$2000,2,FALSE))","v":""},{"$f":"IF(I1239=\"\",\"\",VLOOKUP(I1239,MAESTROS!P$2:Q$2000,2,FALSE))","v":""}]
[{"$f":"IF(H1240=\"\",\"\",VLOOKUP(H1240,MAESTROS!N$2:O$2000,2,FALSE))","v":""},{"$f":"IF(I1240=\"\",\"\",VLOOKUP(I1240,MAESTROS!P$2:Q$2000,2,FALSE))","v":""}]
[{"$f":"IF(H1241=\"\",\"\",VLOOKUP(H1241,MAESTROS!N$2:O$2000,2,FALSE))","v":""},{"$f":"IF(I1241=\"\",\"\",VLOOKUP(I1241,MAESTROS!P$2:Q$2000,2,FALSE))","v":""}]
[{"$f":"IF(H1242=\"\",\"\",VLOOKUP(H1242,MAESTROS!N$2:O$2000,2,FALSE))","v":""},{"$f":"IF(I1242=\"\",\"\",VLOOKUP(I1242,MAESTROS!P$2:Q$2000,2,FALSE))","v":""}]
[{"$f":"IF(H1243=\"\",\"\",VLOOKUP(H1243,MAESTROS!N$2:O$2000,2,FALSE))","v":""},{"$f":"IF(I1243=\"\",\"\",VLOOKUP(I1243,MAESTROS!P$2:Q$2000,2,FALSE))","v":""}]
[{"$f":"IF(H1244=\"\",\"\",VLOOKUP(H1244,MAESTROS!N$2:O$2000,2,FALSE))","v":""},{"$f":"IF(I1244=\"\",\"\",VLOOKUP(I1244,MAESTROS!P$2:Q$2000,2,FALSE))","v":""}]
[{"$f":"IF(H1245=\"\",\"\",VLOOKUP(H1245,MAESTROS!N$2:O$2000,2,FALSE))","v":""},{"$f":"IF(I1245=\"\",\"\",VLOOKUP(I1245,MAESTROS!P$2:Q$2000,2,FALSE))","v":""}]
[{"$f":"IF(H1246=\"\",\"\",VLOOKUP(H1246,MAESTROS!N$2:O$2000,2,FALSE))","v":""},{"$f":"IF(I1246=\"\",\"\",VLOOKUP(I1246,MAESTROS!P$2:Q$2000,2,FALSE))","v":""}]
[{"$f":"IF(H1247=\"\",\"\",VLOOKUP(H1247,MAESTROS!N$2:O$2000,2,FALSE))","v":""},{"$f":"IF(I1247=\"\",\"\",VLOOKUP(I1247,MAESTROS!P$2:Q$2000,2,FALSE))","v":""}]
[{"$f":"IF(H1248=\"\",\"\",VLOOKUP(H1248,MAESTROS!N$2:O$2000,2,FALSE))","v":""},{"$f":"IF(I1248=\"\",\"\",VLOOKUP(I1248,MAESTROS!P$2:Q$2000,2,FALSE))","v":""}]
[{"$f":"IF(H1249=\"\",\"\",VLOOKUP(H1249,MAESTROS!N$2:O$2000,2,FALSE))","v":""},{"$f":"IF(I1249=\"\",\"\",VLOOKUP(I1249,MAESTROS!P$2:Q$2000,2,FALSE))","v":""}]
[{"$f":"IF(H1250=\"\",\"\",VLOOKUP(H1250,MAESTROS!N$2:O$2000,2,FALSE))","v":""},{"$f":"IF(I1250=\"\",\"\",VLOOKUP(I1250,MAESTROS!P$2:Q$2000,2,FALSE))","v":""}]
[{"$f":"IF(H1251=\"\",\"\",VLOOKUP(H1251,MAESTROS!N$2:O$2000,2,FALSE))","v":""},{"$f":"IF(I1251=\"\",\"\",VLOOKUP(I1251,MAESTROS!P$2:Q$2000,2,FALSE))","v":""}]
[{"$f":"IF(H1252=\"\",\"\",VLOOKUP(H1252,MAESTROS!N$2:O$2000,2,FALSE))","v":""},{"$f":"IF(I1252=\"\",\"\",VLOOKUP(I1252,MAESTROS!P$2:Q$2000,2,FALSE))","v":""}]
[{"$f":"IF(H1253=\"\",\"\",VLOOKUP(H1253,MAESTROS!N$2:O$2000,2,FALSE))","v":""},{"$f":"IF(I1253=\"\",\"\",VLOOKUP(I1253,MAESTROS!P$2:Q$2000,2,FALSE))","v":""}]
[{"$f":"IF(H1254=\"\",\"\",VLOOKUP(H1254,MAESTROS!N$2:O$2000,2,FALSE))","v":""},{"$f":"IF(I1254=\"\",\"\",VLOOKUP(I1254,MAESTROS!P$2:Q$2000,2,FALSE))","v":""}]
[{"$f":"IF(H1255=\"\",\"\",VLOOKUP(H1255,MAESTROS!N$2:O$2000,2,FALSE))","v":""},{"$f":"IF(I1255=\"\",\"\",VLOOKUP(I1255,MAESTROS!P$2:Q$2000,2,FALSE))","v":""}]
[{"$f":"IF(H1256=\"\",\"\",VLOOKUP(H1256,MAESTROS!N$2:O$2000,2,FALSE))","v":""},{"$f":"IF(I1256=\"\",\"\",VLOOKUP(I1256,MAESTROS!P$2:Q$2000,2,FALSE))","v":""}]
[{"$f":"IF(H1257=\"\",\"\",VLOOKUP(H1257,MAESTROS!N$2:O$2000,2,FALSE))","v":""},{"$f":"IF(I1257=\"\",\"\",VLOOKUP(I1257,MAESTROS!P$2:Q$2000,2,FALSE))","v":""}]
[{"$f":"IF(H1258=\"\",\"\",VLOOKUP(H1258,MAESTROS!N$2:O$2000,2,FALSE))","v":""},{"$f":"IF(I1258=\"\",\"\",VLOOKUP(I1258,MAESTROS!P$2:Q$2000,2,FALSE))","v":""}]
[{"$f":"IF(H1259=\"\",\"\",VLOOKUP(H1259,MAESTROS!N$2:O$2000,2,FALSE))","v":""},{"$f":"IF(I1259=\"\",\"\",VLOOKUP(I1259,MAESTROS!P$2:Q$2000,2,FALSE))","v":""}]
[{"$f":"IF(H1260=\"\",\"\",VLOOKUP(H1260,MAESTROS!N$2:O$2000,2,FALSE))","v":""},{"$f":"IF(I1260=\"\",\"\",VLOOKUP(I1260,MAESTROS!P$2:Q$2000,2,FALSE))","v":""}]
[{"$f":"IF(H1261=\"\",\"\",VLOOKUP(H1261,MAESTROS!N$2:O$2000,2,FALSE))","v":""},{"$f":"IF(I1261=\"\",\"\",VLOOKUP(I1261,MAESTROS!P$2:Q$2000,2,FALSE))","v":""}]
[{"$f":"IF(H1262=\"\",\"\",VLOOKUP(H1262,MAESTROS!N$2:O$2000,2,FALSE))","v":""},{"$f":"IF(I1262=\"\",\"\",VLOOKUP(I1262,MAESTROS!P$2:Q$2000,2,FALSE))","v":""}]
[{"$f":"IF(H1263=\"\",\"\",VLOOKUP(H1263,MAESTROS!N$2:O$2000,2,FALSE))","v":""},{"$f":"IF(I1263=\"\",\"\",VLOOKUP(I1263,MAESTROS!P$2:Q$2000,2,FALSE))","v":""}]
[{"$f":"IF(H1264=\"\",\"\",VLOOKUP(H1264,MAESTROS!N$2:O$2000,2,FALSE))","v":""},{"$f":"IF(I1264=\"\",\"\",VLOOKUP(I1264,MAESTROS!P$2:Q$2000,2,FALSE))","v":""}]
[{"$f":"IF(H1265=\"\",\"\",VLOOKUP(H1265,MAESTROS!N$2:O$2000,2,FALSE))","v":""},{"$f":"IF(I1265=\"\",\"\",VLOOKUP(I1265,MAESTROS!P$2:Q$2000,2,FALSE))","v":""}]
[{"$f":"IF(H1266=\"\",\"\",VLOOKUP(H1266,MAESTROS!N$2:O$2000,2,FALSE))","v":""},{"$f":"IF(I1266=\"\",\"\",VLOOKUP(I1266,MAESTROS!P$2:Q$2000,2,FALSE))","v":""}]
[{"$f":"IF(H1267=\"\",\"\",VLOOKUP(H1267,MAESTROS!N$2:O$2000,2,FALSE))","v":""},{"$f":"IF(I1267=\"\",\"\",VLOOKUP(I1267,MAESTROS!P$2:Q$2000,2,FALSE))","v":""}]
[{"$f":"IF(H1268=\"\",\"\",VLOOKUP(H1268,MAESTROS!N$2:O$2000,2,FALSE))","v":""},{"$f":"IF(I1268=\"\",\"\",VLOOKUP(I1268,MAESTROS!P$2:Q$2000,2,FALSE))","v":""}]
[{"$f":"IF(H1269=\"\",\"\",VLOOKUP(H1269,MAESTROS!N$2:O$2000,2,FALSE))","v":""},{"$f":"IF(I1269=\"\",\"\",VLOOKUP(I1269,MAESTROS!P$2:Q$2000,2,FALSE))","v":""}]
[{"$f":"IF(H1270=\"\",\"\",VLOOKUP(H1270,MAESTROS!N$2:O$2000,2,FALSE))","v":""},{"$f":"IF(I1270=\"\",\"\",VLOOKUP(I1270,MAESTROS!P$2:Q$2000,2,FALSE))","v":""}]
[{"$f":"IF(H1271=\"\",\"\",VLOOKUP(H1271,MAESTROS!N$2:O$2000,2,FALSE))","v":""},{"$f":"IF(I1271=\"\",\"\",VLOOKUP(I1271,MAESTROS!P$2:Q$2000,2,FALSE))","v":""}]
[{"$f":"IF(H1272=\"\",\"\",VLOOKUP(H1272,MAESTROS!N$2:O$2000,2,FALSE))","v":""},{"$f":"IF(I1272=\"\",\"\",VLOOKUP(I1272,MAESTROS!P$2:Q$2000,2,FALSE))","v":""}]
[{"$f":"IF(H1273=\"\",\"\",VLOOKUP(H1273,MAESTROS!N$2:O$2000,2,FALSE))","v":""},{"$f":"IF(I1273=\"\",\"\",VLOOKUP(I1273,MAESTROS!P$2:Q$2000,2,FALSE))","v":""}]
[{"$f":"IF(H1274=\"\",\"\",VLOOKUP(H1274,MAESTROS!N$2:O$2000,2,FALSE))","v":""},{"$f":"IF(I1274=\"\",\"\",VLOOKUP(I1274,MAESTROS!P$2:Q$2000,2,FALSE))","v":""}]
[{"$f":"IF(H1275=\"\",\"\",VLOOKUP(H1275,MAESTROS!N$2:O$2000,2,FALSE))","v":""},{"$f":"IF(I1275=\"\",\"\",VLOOKUP(I1275,MAESTROS!P$2:Q$2000,2,FALSE))","v":""}]
[{"$f":"IF(H1276=\"\",\"\",VLOOKUP(H1276,MAESTROS!N$2:O$2000,2,FALSE))","v":""},{"$f":"IF(I1276=\"\",\"\",VLOOKUP(I1276,MAESTROS!P$2:Q$2000,2,FALSE))","v":""}]
[{"$f":"IF(H1277=\"\",\"\",VLOOKUP(H1277,MAESTROS!N$2:O$2000,2,FALSE))","v":""},{"$f":"IF(I1277=\"\",\"\",VLOOKUP(I1277,MAESTROS!P$2:Q$2000,2,FALSE))","v":""}]
[{"$f":"IF(H1278=\"\",\"\",VLOOKUP(H1278,MAESTROS!N$2:O$2000,2,FALSE))","v":""},{"$f":"IF(I1278=\"\",\"\",VLOOKUP(I1278,MAESTROS!P$2:Q$2000,2,FALSE))","v":""}]
[{"$f":"IF(H1279=\"\",\"\",VLOOKUP(H1279,MAESTROS!N$2:O$2000,2,FALSE))","v":""},{"$f":"IF(I1279=\"\",\"\",VLOOKUP(I1279,MAESTROS!P$2:Q$2000,2,FALSE))","v":""}]
[{"$f":"IF(H1280=\"\",\"\",VLOOKUP(H1280,MAESTROS!N$2:O$2000,2,FALSE))","v":""},{"$f":"IF(I1280=\"\",\"\",VLOOKUP(I1280,MAESTROS!P$2:Q$2000,2,FALSE))","v":""}]
[{"$f":"IF(H1281=\"\",\"\",VLOOKUP(H1281,MAESTROS!N$2:O$2000,2,FALSE))","v":""},{"$f":"IF(I1281=\"\",\"\",VLOOKUP(I1281,MAESTROS!P$2:Q$2000,2,FALSE))","v":""}]
[{"$f":"IF(H1282=\"\",\"\",VLOOKUP(H1282,MAESTROS!N$2:O$2000,2,FALSE))","v":""},{"$f":"IF(I1282=\"\",\"\",VLOOKUP(I1282,MAESTROS!P$2:Q$2000,2,FALSE))","v":""}]
[{"$f":"IF(H1283=\"\",\"\",VLOOKUP(H1283,MAESTROS!N$2:O$2000,2,FALSE))","v":""},{"$f":"IF(I1283=\"\",\"\",VLOOKUP(I1283,MAESTROS!P$2:Q$2000,2,FALSE))","v":""}]
[{"$f":"IF(H1284=\"\",\"\",VLOOKUP(H1284,MAESTROS!N$2:O$2000,2,FALSE))","v":""},{"$f":"IF(I1284=\"\",\"\",VLOOKUP(I1284,MAESTROS!P$2:Q$2000,2,FALSE))","v":""}]
[{"$f":"IF(H1285=\"\",\"\",VLOOKUP(H1285,MAESTROS!N$2:O$2000,2,FALSE))","v":""},{"$f":"IF(I1285=\"\",\"\",VLOOKUP(I1285,MAESTROS!P$2:Q$2000,2,FALSE))","v":""}]
[{"$f":"IF(H1286=\"\",\"\",VLOOKUP(H1286,MAESTROS!N$2:O$2000,2,FALSE))","v":""},{"$f":"IF(I1286=\"\",\"\",VLOOKUP(I1286,MAESTROS!P$2:Q$2000,2,FALSE))","v":""}]
[{"$f":"IF(H1287=\"\",\"\",VLOOKUP(H1287,MAESTROS!N$2:O$2000,2,FALSE))","v":""},{"$f":"IF(I1287=\"\",\"\",VLOOKUP(I1287,MAESTROS!P$2:Q$2000,2,FALSE))","v":""}]
[{"$f":"IF(H1288=\"\",\"\",VLOOKUP(H1288,MAESTROS!N$2:O$2000,2,FALSE))","v":""},{"$f":"IF(I1288=\"\",\"\",VLOOKUP(I1288,MAESTROS!P$2:Q$2000,2,FALSE))","v":""}]
[{"$f":"IF(H1289=\"\",\"\",VLOOKUP(H1289,MAESTROS!N$2:O$2000,2,FALSE))","v":""},{"$f":"IF(I1289=\"\",\"\",VLOOKUP(I1289,MAESTROS!P$2:Q$2000,2,FALSE))","v":""}]
[{"$f":"IF(H1290=\"\",\"\",VLOOKUP(H1290,MAESTROS!N$2:O$2000,2,FALSE))","v":""},{"$f":"IF(I1290=\"\",\"\",VLOOKUP(I1290,MAESTROS!P$2:Q$2000,2,FALSE))","v":""}]
[{"$f":"IF(H1291=\"\",\"\",VLOOKUP(H1291,MAESTROS!N$2:O$2000,2,FALSE))","v":""},{"$f":"IF(I1291=\"\",\"\",VLOOKUP(I1291,MAESTROS!P$2:Q$2000,2,FALSE))","v":""}]
[{"$f":"IF(H1292=\"\",\"\",VLOOKUP(H1292,MAESTROS!N$2:O$2000,2,FALSE))","v":""},{"$f":"IF(I1292=\"\",\"\",VLOOKUP(I1292,MAESTROS!P$2:Q$2000,2,FALSE))","v":""}]
[{"$f":"IF(H1293=\"\",\"\",VLOOKUP(H1293,MAESTROS!N$2:O$2000,2,FALSE))","v":""},{"$f":"IF(I1293=\"\",\"\",VLOOKUP(I1293,MAESTROS!P$2:Q$2000,2,FALSE))","v":""}]
[{"$f":"IF(H1294=\"\",\"\",VLOOKUP(H1294,MAESTROS!N$2:O$2000,2,FALSE))","v":""},{"$f":"IF(I1294=\"\",\"\",VLOOKUP(I1294,MAESTROS!P$2:Q$2000,2,FALSE))","v":""}]
[{"$f":"IF(H1295=\"\",\"\",VLOOKUP(H1295,MAESTROS!N$2:O$2000,2,FALSE))","v":""},{"$f":"IF(I1295=\"\",\"\",VLOOKUP(I1295,MAESTROS!P$2:Q$2000,2,FALSE))","v":""}]
[{"$f":"IF(H1296=\"\",\"\",VLOOKUP(H1296,MAESTROS!N$2:O$2000,2,FALSE))","v":""},{"$f":"IF(I1296=\"\",\"\",VLOOKUP(I1296,MAESTROS!P$2:Q$2000,2,FALSE))","v":""}]
[{"$f":"IF(H1297=\"\",\"\",VLOOKUP(H1297,MAESTROS!N$2:O$2000,2,FALSE))","v":""},{"$f":"IF(I1297=\"\",\"\",VLOOKUP(I1297,MAESTROS!P$2:Q$2000,2,FALSE))","v":""}]
[{"$f":"IF(H1298=\"\",\"\",VLOOKUP(H1298,MAESTROS!N$2:O$2000,2,FALSE))","v":""},{"$f":"IF(I1298=\"\",\"\",VLOOKUP(I1298,MAESTROS!P$2:Q$2000,2,FALSE))","v":""}]
[{"$f":"IF(H1299=\"\",\"\",VLOOKUP(H1299,MAESTROS!N$2:O$2000,2,FALSE))","v":""},{"$f":"IF(I1299=\"\",\"\",VLOOKUP(I1299,MAESTROS!P$2:Q$2000,2,FALSE))","v":""}]
[{"$f":"IF(H1300=\"\",\"\",VLOOKUP(H1300,MAESTROS!N$2:O$2000,2,FALSE))","v":""},{"$f":"IF(I1300=\"\",\"\",VLOOKUP(I1300,MAESTROS!P$2:Q$2000,2,FALSE))","v":""}]
[{"$f":"IF(H1301=\"\",\"\",VLOOKUP(H1301,MAESTROS!N$2:O$2000,2,FALSE))","v":""},{"$f":"IF(I1301=\"\",\"\",VLOOKUP(I1301,MAESTROS!P$2:Q$2000,2,FALSE))","v":""}]
[{"$f":"IF(H1302=\"\",\"\",VLOOKUP(H1302,MAESTROS!N$2:O$2000,2,FALSE))","v":""},{"$f":"IF(I1302=\"\",\"\",VLOOKUP(I1302,MAESTROS!P$2:Q$2000,2,FALSE))","v":""}]
[{"$f":"IF(H1303=\"\",\"\",VLOOKUP(H1303,MAESTROS!N$2:O$2000,2,FALSE))","v":""},{"$f":"IF(I1303=\"\",\"\",VLOOKUP(I1303,MAESTROS!P$2:Q$2000,2,FALSE))","v":""}]
[{"$f":"IF(H1304=\"\",\"\",VLOOKUP(H1304,MAESTROS!N$2:O$2000,2,FALSE))","v":""},{"$f":"IF(I1304=\"\",\"\",VLOOKUP(I1304,MAESTROS!P$2:Q$2000,2,FALSE))","v":""}]
[{"$f":"IF(H1305=\"\",\"\",VLOOKUP(H1305,MAESTROS!N$2:O$2000,2,FALSE))","v":""},{"$f":"IF(I1305=\"\",\"\",VLOOKUP(I1305,MAESTROS!P$2:Q$2000,2,FALSE))","v":""}]
[{"$f":"IF(H1306=\"\",\"\",VLOOKUP(H1306,MAESTROS!N$2:O$2000,2,FALSE))","v":""},{"$f":"IF(I1306=\"\",\"\",VLOOKUP(I1306,MAESTROS!P$2:Q$2000,2,FALSE))","v":""}]
[{"$f":"IF(H1307=\"\",\"\",VLOOKUP(H1307,MAESTROS!N$2:O$2000,2,FALSE))","v":""},{"$f":"IF(I1307=\"\",\"\",VLOOKUP(I1307,MAESTROS!P$2:Q$2000,2,FALSE))","v":""}]
[{"$f":"IF(H1308=\"\",\"\",VLOOKUP(H1308,MAESTROS!N$2:O$2000,2,FALSE))","v":""},{"$f":"IF(I1308=\"\",\"\",VLOOKUP(I1308,MAESTROS!P$2:Q$2000,2,FALSE))","v":""}]
[{"$f":"IF(H1309=\"\",\"\",VLOOKUP(H1309,MAESTROS!N$2:O$2000,2,FALSE))","v":""},{"$f":"IF(I1309=\"\",\"\",VLOOKUP(I1309,MAESTROS!P$2:Q$2000,2,FALSE))","v":""}]
[{"$f":"IF(H1310=\"\",\"\",VLOOKUP(H1310,MAESTROS!N$2:O$2000,2,FALSE))","v":""},{"$f":"IF(I1310=\"\",\"\",VLOOKUP(I1310,MAESTROS!P$2:Q$2000,2,FALSE))","v":""}]
[{"$f":"IF(H1311=\"\",\"\",VLOOKUP(H1311,MAESTROS!N$2:O$2000,2,FALSE))","v":""},{"$f":"IF(I1311=\"\",\"\",VLOOKUP(I1311,MAESTROS!P$2:Q$2000,2,FALSE))","v":""}]
[{"$f":"IF(H1312=\"\",\"\",VLOOKUP(H1312,MAESTROS!N$2:O$2000,2,FALSE))","v":""},{"$f":"IF(I1312=\"\",\"\",VLOOKUP(I1312,MAESTROS!P$2:Q$2000,2,FALSE))","v":""}]
[{"$f":"IF(H1313=\"\",\"\",VLOOKUP(H1313,MAESTROS!N$2:O$2000,2,FALSE))","v":""},{"$f":"IF(I1313=\"\",\"\",VLOOKUP(I1313,MAESTROS!P$2:Q$2000,2,FALSE))","v":""}]
[{"$f":"IF(H1314=\"\",\"\",VLOOKUP(H1314,MAESTROS!N$2:O$2000,2,FALSE))","v":""},{"$f":"IF(I1314=\"\",\"\",VLOOKUP(I1314,MAESTROS!P$2:Q$2000,2,FALSE))","v":""}]
[{"$f":"IF(H1315=\"\",\"\",VLOOKUP(H1315,MAESTROS!N$2:O$2000,2,FALSE))","v":""},{"$f":"IF(I1315=\"\",\"\",VLOOKUP(I1315,MAESTROS!P$2:Q$2000,2,FALSE))","v":""}]
[{"$f":"IF(H1316=\"\",\"\",VLOOKUP(H1316,MAESTROS!N$2:O$2000,2,FALSE))","v":""},{"$f":"IF(I1316=\"\",\"\",VLOOKUP(I1316,MAESTROS!P$2:Q$2000,2,FALSE))","v":""}]
[{"$f":"IF(H1317=\"\",\"\",VLOOKUP(H1317,MAESTROS!N$2:O$2000,2,FALSE))","v":""},{"$f":"IF(I1317=\"\",\"\",VLOOKUP(I1317,MAESTROS!P$2:Q$2000,2,FALSE))","v":""}]
[{"$f":"IF(H1318=\"\",\"\",VLOOKUP(H1318,MAESTROS!N$2:O$2000,2,FALSE))","v":""},{"$f":"IF(I1318=\"\",\"\",VLOOKUP(I1318,MAESTROS!P$2:Q$2000,2,FALSE))","v":""}]
[{"$f":"IF(H1319=\"\",\"\",VLOOKUP(H1319,MAESTROS!N$2:O$2000,2,FALSE))","v":""},{"$f":"IF(I1319=\"\",\"\",VLOOKUP(I1319,MAESTROS!P$2:Q$2000,2,FALSE))","v":""}]
[{"$f":"IF(H1320=\"\",\"\",VLOOKUP(H1320,MAESTROS!N$2:O$2000,2,FALSE))","v":""},{"$f":"IF(I1320=\"\",\"\",VLOOKUP(I1320,MAESTROS!P$2:Q$2000,2,FALSE))","v":""}]
[{"$f":"IF(H1321=\"\",\"\",VLOOKUP(H1321,MAESTROS!N$2:O$2000,2,FALSE))","v":""},{"$f":"IF(I1321=\"\",\"\",VLOOKUP(I1321,MAESTROS!P$2:Q$2000,2,FALSE))","v":""}]
[{"$f":"IF(H1322=\"\",\"\",VLOOKUP(H1322,MAESTROS!N$2:O$2000,2,FALSE))","v":""},{"$f":"IF(I1322=\"\",\"\",VLOOKUP(I1322,MAESTROS!P$2:Q$2000,2,FALSE))","v":""}]
[{"$f":"IF(H1323=\"\",\"\",VLOOKUP(H1323,MAESTROS!N$2:O$2000,2,FALSE))","v":""},{"$f":"IF(I1323=\"\",\"\",VLOOKUP(I1323,MAESTROS!P$2:Q$2000,2,FALSE))","v":""}]
[{"$f":"IF(H1324=\"\",\"\",VLOOKUP(H1324,MAESTROS!N$2:O$2000,2,FALSE))","v":""},{"$f":"IF(I1324=\"\",\"\",VLOOKUP(I1324,MAESTROS!P$2:Q$2000,2,FALSE))","v":""}]
[{"$f":"IF(H1325=\"\",\"\",VLOOKUP(H1325,MAESTROS!N$2:O$2000,2,FALSE))","v":""},{"$f":"IF(I1325=\"\",\"\",VLOOKUP(I1325,MAESTROS!P$2:Q$2000,2,FALSE))","v":""}]
[{"$f":"IF(H1326=\"\",\"\",VLOOKUP(H1326,MAESTROS!N$2:O$2000,2,FALSE))","v":""},{"$f":"IF(I1326=\"\",\"\",VLOOKUP(I1326,MAESTROS!P$2:Q$2000,2,FALSE))","v":""}]
[{"$f":"IF(H1327=\"\",\"\",VLOOKUP(H1327,MAESTROS!N$2:O$2000,2,FALSE))","v":""},{"$f":"IF(I1327=\"\",\"\",VLOOKUP(I1327,MAESTROS!P$2:Q$2000,2,FALSE))","v":""}]
[{"$f":"IF(H1328=\"\",\"\",VLOOKUP(H1328,MAESTROS!N$2:O$2000,2,FALSE))","v":""},{"$f":"IF(I1328=\"\",\"\",VLOOKUP(I1328,MAESTROS!P$2:Q$2000,2,FALSE))","v":""}]
[{"$f":"IF(H1329=\"\",\"\",VLOOKUP(H1329,MAESTROS!N$2:O$2000,2,FALSE))","v":""},{"$f":"IF(I1329=\"\",\"\",VLOOKUP(I1329,MAESTROS!P$2:Q$2000,2,FALSE))","v":""}]
[{"$f":"IF(H1330=\"\",\"\",VLOOKUP(H1330,MAESTROS!N$2:O$2000,2,FALSE))","v":""},{"$f":"IF(I1330=\"\",\"\",VLOOKUP(I1330,MAESTROS!P$2:Q$2000,2,FALSE))","v":""}]
[{"$f":"IF(H1331=\"\",\"\",VLOOKUP(H1331,MAESTROS!N$2:O$2000,2,FALSE))","v":""},{"$f":"IF(I1331=\"\",\"\",VLOOKUP(I1331,MAESTROS!P$2:Q$2000,2,FALSE))","v":""}]
[{"$f":"IF(H1332=\"\",\"\",VLOOKUP(H1332,MAESTROS!N$2:O$2000,2,FALSE))","v":""},{"$f":"IF(I1332=\"\",\"\",VLOOKUP(I1332,MAESTROS!P$2:Q$2000,2,FALSE))","v":""}]
[{"$f":"IF(H1333=\"\",\"\",VLOOKUP(H1333,MAESTROS!N$2:O$2000,2,FALSE))","v":""},{"$f":"IF(I1333=\"\",\"\",VLOOKUP(I1333,MAESTROS!P$2:Q$2000,2,FALSE))","v":""}]
[{"$f":"IF(H1334=\"\",\"\",VLOOKUP(H1334,MAESTROS!N$2:O$2000,2,FALSE))","v":""},{"$f":"IF(I1334=\"\",\"\",VLOOKUP(I1334,MAESTROS!P$2:Q$2000,2,FALSE))","v":""}]
[{"$f":"IF(H1335=\"\",\"\",VLOOKUP(H1335,MAESTROS!N$2:O$2000,2,FALSE))","v":""},{"$f":"IF(I1335=\"\",\"\",VLOOKUP(I1335,MAESTROS!P$2:Q$2000,2,FALSE))","v":""}]
[{"$f":"IF(H1336=\"\",\"\",VLOOKUP(H1336,MAESTROS!N$2:O$2000,2,FALSE))","v":""},{"$f":"IF(I1336=\"\",\"\",VLOOKUP(I1336,MAESTROS!P$2:Q$2000,2,FALSE))","v":""}]
[{"$f":"IF(H1337=\"\",\"\",VLOOKUP(H1337,MAESTROS!N$2:O$2000,2,FALSE))","v":""},{"$f":"IF(I1337=\"\",\"\",VLOOKUP(I1337,MAESTROS!P$2:Q$2000,2,FALSE))","v":""}]
[{"$f":"IF(H1338=\"\",\"\",VLOOKUP(H1338,MAESTROS!N$2:O$2000,2,FALSE))","v":""},{"$f":"IF(I1338=\"\",\"\",VLOOKUP(I1338,MAESTROS!P$2:Q$2000,2,FALSE))","v":""}]
[{"$f":"IF(H1339=\"\",\"\",VLOOKUP(H1339,MAESTROS!N$2:O$2000,2,FALSE))","v":""},{"$f":"IF(I1339=\"\",\"\",VLOOKUP(I1339,MAESTROS!P$2:Q$2000,2,FALSE))","v":""}]
[{"$f":"IF(H1340=\"\",\"\",VLOOKUP(H1340,MAESTROS!N$2:O$2000,2,FALSE))","v":""},{"$f":"IF(I1340=\"\",\"\",VLOOKUP(I1340,MAESTROS!P$2:Q$2000,2,FALSE))","v":""}]
[{"$f":"IF(H1341=\"\",\"\",VLOOKUP(H1341,MAESTROS!N$2:O$2000,2,FALSE))","v":""},{"$f":"IF(I1341=\"\",\"\",VLOOKUP(I1341,MAESTROS!P$2:Q$2000,2,FALSE))","v":""}]
[{"$f":"IF(H1342=\"\",\"\",VLOOKUP(H1342,MAESTROS!N$2:O$2000,2,FALSE))","v":""},{"$f":"IF(I1342=\"\",\"\",VLOOKUP(I1342,MAESTROS!P$2:Q$2000,2,FALSE))","v":""}]
[{"$f":"IF(H1343=\"\",\"\",VLOOKUP(H1343,MAESTROS!N$2:O$2000,2,FALSE))","v":""},{"$f":"IF(I1343=\"\",\"\",VLOOKUP(I1343,MAESTROS!P$2:Q$2000,2,FALSE))","v":""}]
[{"$f":"IF(H1344=\"\",\"\",VLOOKUP(H1344,MAESTROS!N$2:O$2000,2,FALSE))","v":""},{"$f":"IF(I1344=\"\",\"\",VLOOKUP(I1344,MAESTROS!P$2:Q$2000,2,FALSE))","v":""}]
[{"$f":"IF(H1345=\"\",\"\",VLOOKUP(H1345,MAESTROS!N$2:O$2000,2,FALSE))","v":""},{"$f":"IF(I1345=\"\",\"\",VLOOKUP(I1345,MAESTROS!P$2:Q$2000,2,FALSE))","v":""}]
[{"$f":"IF(H1346=\"\",\"\",VLOOKUP(H1346,MAESTROS!N$2:O$2000,2,FALSE))","v":""},{"$f":"IF(I1346=\"\",\"\",VLOOKUP(I1346,MAESTROS!P$2:Q$2000,2,FALSE))","v":""}]
[{"$f":"IF(H1347=\"\",\"\",VLOOKUP(H1347,MAESTROS!N$2:O$2000,2,FALSE))","v":""},{"$f":"IF(I1347=\"\",\"\",VLOOKUP(I1347,MAESTROS!P$2:Q$2000,2,FALSE))","v":""}]
[{"$f":"IF(H1348=\"\",\"\",VLOOKUP(H1348,MAESTROS!N$2:O$2000,2,FALSE))","v":""},{"$f":"IF(I1348=\"\",\"\",VLOOKUP(I1348,MAESTROS!P$2:Q$2000,2,FALSE))","v":""}]
[{"$f":"IF(H1349=\"\",\"\",VLOOKUP(H1349,MAESTROS!N$2:O$2000,2,FALSE))","v":""},{"$f":"IF(I1349=\"\",\"\",VLOOKUP(I1349,MAESTROS!P$2:Q$2000,2,FALSE))","v":""}]
[{"$f":"IF(H1350=\"\",\"\",VLOOKUP(H1350,MAESTROS!N$2:O$2000,2,FALSE))","v":""},{"$f":"IF(I1350=\"\",\"\",VLOOKUP(I1350,MAESTROS!P$2:Q$2000,2,FALSE))","v":""}]
[{"$f":"IF(H1351=\"\",\"\",VLOOKUP(H1351,MAESTROS!N$2:O$2000,2,FALSE))","v":""},{"$f":"IF(I1351=\"\",\"\",VLOOKUP(I1351,MAESTROS!P$2:Q$2000,2,FALSE))","v":""}]
[{"$f":"IF(H1352=\"\",\"\",VLOOKUP(H1352,MAESTROS!N$2:O$2000,2,FALSE))","v":""},{"$f":"IF(I1352=\"\",\"\",VLOOKUP(I1352,MAESTROS!P$2:Q$2000,2,FALSE))","v":""}]
[{"$f":"IF(H1353=\"\",\"\",VLOOKUP(H1353,MAESTROS!N$2:O$2000,2,FALSE))","v":""},{"$f":"IF(I1353=\"\",\"\",VLOOKUP(I1353,MAESTROS!P$2:Q$2000,2,FALSE))","v":""}]
[{"$f":"IF(H1354=\"\",\"\",VLOOKUP(H1354,MAESTROS!N$2:O$2000,2,FALSE))","v":""},{"$f":"IF(I1354=\"\",\"\",VLOOKUP(I1354,MAESTROS!P$2:Q$2000,2,FALSE))","v":""}]
[{"$f":"IF(H1355=\"\",\"\",VLOOKUP(H1355,MAESTROS!N$2:O$2000,2,FALSE))","v":""},{"$f":"IF(I1355=\"\",\"\",VLOOKUP(I1355,MAESTROS!P$2:Q$2000,2,FALSE))","v":""}]
[{"$f":"IF(H1356=\"\",\"\",VLOOKUP(H1356,MAESTROS!N$2:O$2000,2,FALSE))","v":""},{"$f":"IF(I1356=\"\",\"\",VLOOKUP(I1356,MAESTROS!P$2:Q$2000,2,FALSE))","v":""}]
[{"$f":"IF(H1357=\"\",\"\",VLOOKUP(H1357,MAESTROS!N$2:O$2000,2,FALSE))","v":""},{"$f":"IF(I1357=\"\",\"\",VLOOKUP(I1357,MAESTROS!P$2:Q$2000,2,FALSE))","v":""}]
[{"$f":"IF(H1358=\"\",\"\",VLOOKUP(H1358,MAESTROS!N$2:O$2000,2,FALSE))","v":""},{"$f":"IF(I1358=\"\",\"\",VLOOKUP(I1358,MAESTROS!P$2:Q$2000,2,FALSE))","v":""}]
[{"$f":"IF(H1359=\"\",\"\",VLOOKUP(H1359,MAESTROS!N$2:O$2000,2,FALSE))","v":""},{"$f":"IF(I1359=\"\",\"\",VLOOKUP(I1359,MAESTROS!P$2:Q$2000,2,FALSE))","v":""}]
[{"$f":"IF(H1360=\"\",\"\",VLOOKUP(H1360,MAESTROS!N$2:O$2000,2,FALSE))","v":""},{"$f":"IF(I1360=\"\",\"\",VLOOKUP(I1360,MAESTROS!P$2:Q$2000,2,FALSE))","v":""}]
[{"$f":"IF(H1361=\"\",\"\",VLOOKUP(H1361,MAESTROS!N$2:O$2000,2,FALSE))","v":""},{"$f":"IF(I1361=\"\",\"\",VLOOKUP(I1361,MAESTROS!P$2:Q$2000,2,FALSE))","v":""}]
[{"$f":"IF(H1362=\"\",\"\",VLOOKUP(H1362,MAESTROS!N$2:O$2000,2,FALSE))","v":""},{"$f":"IF(I1362=\"\",\"\",VLOOKUP(I1362,MAESTROS!P$2:Q$2000,2,FALSE))","v":""}]
[{"$f":"IF(H1363=\"\",\"\",VLOOKUP(H1363,MAESTROS!N$2:O$2000,2,FALSE))","v":""},{"$f":"IF(I1363=\"\",\"\",VLOOKUP(I1363,MAESTROS!P$2:Q$2000,2,FALSE))","v":""}]
[{"$f":"IF(H1364=\"\",\"\",VLOOKUP(H1364,MAESTROS!N$2:O$2000,2,FALSE))","v":""},{"$f":"IF(I1364=\"\",\"\",VLOOKUP(I1364,MAESTROS!P$2:Q$2000,2,FALSE))","v":""}]
[{"$f":"IF(H1365=\"\",\"\",VLOOKUP(H1365,MAESTROS!N$2:O$2000,2,FALSE))","v":""},{"$f":"IF(I1365=\"\",\"\",VLOOKUP(I1365,MAESTROS!P$2:Q$2000,2,FALSE))","v":""}]
[{"$f":"IF(H1366=\"\",\"\",VLOOKUP(H1366,MAESTROS!N$2:O$2000,2,FALSE))","v":""},{"$f":"IF(I1366=\"\",\"\",VLOOKUP(I1366,MAESTROS!P$2:Q$2000,2,FALSE))","v":""}]
[{"$f":"IF(H1367=\"\",\"\",VLOOKUP(H1367,MAESTROS!N$2:O$2000,2,FALSE))","v":""},{"$f":"IF(I1367=\"\",\"\",VLOOKUP(I1367,MAESTROS!P$2:Q$2000,2,FALSE))","v":""}]
[{"$f":"IF(H1368=\"\",\"\",VLOOKUP(H1368,MAESTROS!N$2:O$2000,2,FALSE))","v":""},{"$f":"IF(I1368=\"\",\"\",VLOOKUP(I1368,MAESTROS!P$2:Q$2000,2,FALSE))","v":""}]
[{"$f":"IF(H1369=\"\",\"\",VLOOKUP(H1369,MAESTROS!N$2:O$2000,2,FALSE))","v":""},{"$f":"IF(I1369=\"\",\"\",VLOOKUP(I1369,MAESTROS!P$2:Q$2000,2,FALSE))","v":""}]
[{"$f":"IF(H1370=\"\",\"\",VLOOKUP(H1370,MAESTROS!N$2:O$2000,2,FALSE))","v":""},{"$f":"IF(I1370=\"\",\"\",VLOOKUP(I1370,MAESTROS!P$2:Q$2000,2,FALSE))","v":""}]
[{"$f":"IF(H1371=\"\",\"\",VLOOKUP(H1371,MAESTROS!N$2:O$2000,2,FALSE))","v":""},{"$f":"IF(I1371=\"\",\"\",VLOOKUP(I1371,MAESTROS!P$2:Q$2000,2,FALSE))","v":""}]
[{"$f":"IF(H1372=\"\",\"\",VLOOKUP(H1372,MAESTROS!N$2:O$2000,2,FALSE))","v":""},{"$f":"IF(I1372=\"\",\"\",VLOOKUP(I1372,MAESTROS!P$2:Q$2000,2,FALSE))","v":""}]
[{"$f":"IF(H1373=\"\",\"\",VLOOKUP(H1373,MAESTROS!N$2:O$2000,2,FALSE))","v":""},{"$f":"IF(I1373=\"\",\"\",VLOOKUP(I1373,MAESTROS!P$2:Q$2000,2,FALSE))","v":""}]
[{"$f":"IF(H1374=\"\",\"\",VLOOKUP(H1374,MAESTROS!N$2:O$2000,2,FALSE))","v":""},{"$f":"IF(I1374=\"\",\"\",VLOOKUP(I1374,MAESTROS!P$2:Q$2000,2,FALSE))","v":""}]
[{"$f":"IF(H1375=\"\",\"\",VLOOKUP(H1375,MAESTROS!N$2:O$2000,2,FALSE))","v":""},{"$f":"IF(I1375=\"\",\"\",VLOOKUP(I1375,MAESTROS!P$2:Q$2000,2,FALSE))","v":""}]
[{"$f":"IF(H1376=\"\",\"\",VLOOKUP(H1376,MAESTROS!N$2:O$2000,2,FALSE))","v":""},{"$f":"IF(I1376=\"\",\"\",VLOOKUP(I1376,MAESTROS!P$2:Q$2000,2,FALSE))","v":""}]
[{"$f":"IF(H1377=\"\",\"\",VLOOKUP(H1377,MAESTROS!N$2:O$2000,2,FALSE))","v":""},{"$f":"IF(I1377=\"\",\"\",VLOOKUP(I1377,MAESTROS!P$2:Q$2000,2,FALSE))","v":""}]
[{"$f":"IF(H1378=\"\",\"\",VLOOKUP(H1378,MAESTROS!N$2:O$2000,2,FALSE))","v":""},{"$f":"IF(I1378=\"\",\"\",VLOOKUP(I1378,MAESTROS!P$2:Q$2000,2,FALSE))","v":""}]
[{"$f":"IF(H1379=\"\",\"\",VLOOKUP(H1379,MAESTROS!N$2:O$2000,2,FALSE))","v":""},{"$f":"IF(I1379=\"\",\"\",VLOOKUP(I1379,MAESTROS!P$2:Q$2000,2,FALSE))","v":""}]
[{"$f":"IF(H1380=\"\",\"\",VLOOKUP(H1380,MAESTROS!N$2:O$2000,2,FALSE))","v":""},{"$f":"IF(I1380=\"\",\"\",VLOOKUP(I1380,MAESTROS!P$2:Q$2000,2,FALSE))","v":""}]
[{"$f":"IF(H1381=\"\",\"\",VLOOKUP(H1381,MAESTROS!N$2:O$2000,2,FALSE))","v":""},{"$f":"IF(I1381=\"\",\"\",VLOOKUP(I1381,MAESTROS!P$2:Q$2000,2,FALSE))","v":""}]
[{"$f":"IF(H1382=\"\",\"\",VLOOKUP(H1382,MAESTROS!N$2:O$2000,2,FALSE))","v":""},{"$f":"IF(I1382=\"\",\"\",VLOOKUP(I1382,MAESTROS!P$2:Q$2000,2,FALSE))","v":""}]
[{"$f":"IF(H1383=\"\",\"\",VLOOKUP(H1383,MAESTROS!N$2:O$2000,2,FALSE))","v":""},{"$f":"IF(I1383=\"\",\"\",VLOOKUP(I1383,MAESTROS!P$2:Q$2000,2,FALSE))","v":""}]
[{"$f":"IF(H1384=\"\",\"\",VLOOKUP(H1384,MAESTROS!N$2:O$2000,2,FALSE))","v":""},{"$f":"IF(I1384=\"\",\"\",VLOOKUP(I1384,MAESTROS!P$2:Q$2000,2,FALSE))","v":""}]
[{"$f":"IF(H1385=\"\",\"\",VLOOKUP(H1385,MAESTROS!N$2:O$2000,2,FALSE))","v":""},{"$f":"IF(I1385=\"\",\"\",VLOOKUP(I1385,MAESTROS!P$2:Q$2000,2,FALSE))","v":""}]
[{"$f":"IF(H1386=\"\",\"\",VLOOKUP(H1386,MAESTROS!N$2:O$2000,2,FALSE))","v":""},{"$f":"IF(I1386=\"\",\"\",VLOOKUP(I1386,MAESTROS!P$2:Q$2000,2,FALSE))","v":""}]
[{"$f":"IF(H1387=\"\",\"\",VLOOKUP(H1387,MAESTROS!N$2:O$2000,2,FALSE))","v":""},{"$f":"IF(I1387=\"\",\"\",VLOOKUP(I1387,MAESTROS!P$2:Q$2000,2,FALSE))","v":""}]
[{"$f":"IF(H1388=\"\",\"\",VLOOKUP(H1388,MAESTROS!N$2:O$2000,2,FALSE))","v":""},{"$f":"IF(I1388=\"\",\"\",VLOOKUP(I1388,MAESTROS!P$2:Q$2000,2,FALSE))","v":""}]
[{"$f":"IF(H1389=\"\",\"\",VLOOKUP(H1389,MAESTROS!N$2:O$2000,2,FALSE))","v":""},{"$f":"IF(I1389=\"\",\"\",VLOOKUP(I1389,MAESTROS!P$2:Q$2000,2,FALSE))","v":""}]
[{"$f":"IF(H1390=\"\",\"\",VLOOKUP(H1390,MAESTROS!N$2:O$2000,2,FALSE))","v":""},{"$f":"IF(I1390=\"\",\"\",VLOOKUP(I1390,MAESTROS!P$2:Q$2000,2,FALSE))","v":""}]
[{"$f":"IF(H1391=\"\",\"\",VLOOKUP(H1391,MAESTROS!N$2:O$2000,2,FALSE))","v":""},{"$f":"IF(I1391=\"\",\"\",VLOOKUP(I1391,MAESTROS!P$2:Q$2000,2,FALSE))","v":""}]
[{"$f":"IF(H1392=\"\",\"\",VLOOKUP(H1392,MAESTROS!N$2:O$2000,2,FALSE))","v":""},{"$f":"IF(I1392=\"\",\"\",VLOOKUP(I1392,MAESTROS!P$2:Q$2000,2,FALSE))","v":""}]
[{"$f":"IF(H1393=\"\",\"\",VLOOKUP(H1393,MAESTROS!N$2:O$2000,2,FALSE))","v":""},{"$f":"IF(I1393=\"\",\"\",VLOOKUP(I1393,MAESTROS!P$2:Q$2000,2,FALSE))","v":""}]
[{"$f":"IF(H1394=\"\",\"\",VLOOKUP(H1394,MAESTROS!N$2:O$2000,2,FALSE))","v":""},{"$f":"IF(I1394=\"\",\"\",VLOOKUP(I1394,MAESTROS!P$2:Q$2000,2,FALSE))","v":""}]
[{"$f":"IF(H1395=\"\",\"\",VLOOKUP(H1395,MAESTROS!N$2:O$2000,2,FALSE))","v":""},{"$f":"IF(I1395=\"\",\"\",VLOOKUP(I1395,MAESTROS!P$2:Q$2000,2,FALSE))","v":""}]
[{"$f":"IF(H1396=\"\",\"\",VLOOKUP(H1396,MAESTROS!N$2:O$2000,2,FALSE))","v":""},{"$f":"IF(I1396=\"\",\"\",VLOOKUP(I1396,MAESTROS!P$2:Q$2000,2,FALSE))","v":""}]
[{"$f":"IF(H1397=\"\",\"\",VLOOKUP(H1397,MAESTROS!N$2:O$2000,2,FALSE))","v":""},{"$f":"IF(I1397=\"\",\"\",VLOOKUP(I1397,MAESTROS!P$2:Q$2000,2,FALSE))","v":""}]
[{"$f":"IF(H1398=\"\",\"\",VLOOKUP(H1398,MAESTROS!N$2:O$2000,2,FALSE))","v":""},{"$f":"IF(I1398=\"\",\"\",VLOOKUP(I1398,MAESTROS!P$2:Q$2000,2,FALSE))","v":""}]
[{"$f":"IF(H1399=\"\",\"\",VLOOKUP(H1399,MAESTROS!N$2:O$2000,2,FALSE))","v":""},{"$f":"IF(I1399=\"\",\"\",VLOOKUP(I1399,MAESTROS!P$2:Q$2000,2,FALSE))","v":""}]
[{"$f":"IF(H1400=\"\",\"\",VLOOKUP(H1400,MAESTROS!N$2:O$2000,2,FALSE))","v":""},{"$f":"IF(I1400=\"\",\"\",VLOOKUP(I1400,MAESTROS!P$2:Q$2000,2,FALSE))","v":""}]
[{"$f":"IF(H1401=\"\",\"\",VLOOKUP(H1401,MAESTROS!N$2:O$2000,2,FALSE))","v":""},{"$f":"IF(I1401=\"\",\"\",VLOOKUP(I1401,MAESTROS!P$2:Q$2000,2,FALSE))","v":""}]
[{"$f":"IF(H1402=\"\",\"\",VLOOKUP(H1402,MAESTROS!N$2:O$2000,2,FALSE))","v":""},{"$f":"IF(I1402=\"\",\"\",VLOOKUP(I1402,MAESTROS!P$2:Q$2000,2,FALSE))","v":""}]
[{"$f":"IF(H1403=\"\",\"\",VLOOKUP(H1403,MAESTROS!N$2:O$2000,2,FALSE))","v":""},{"$f":"IF(I1403=\"\",\"\",VLOOKUP(I1403,MAESTROS!P$2:Q$2000,2,FALSE))","v":""}]
[{"$f":"IF(H1404=\"\",\"\",VLOOKUP(H1404,MAESTROS!N$2:O$2000,2,FALSE))","v":""},{"$f":"IF(I1404=\"\",\"\",VLOOKUP(I1404,MAESTROS!P$2:Q$2000,2,FALSE))","v":""}]
[{"$f":"IF(H1405=\"\",\"\",VLOOKUP(H1405,MAESTROS!N$2:O$2000,2,FALSE))","v":""},{"$f":"IF(I1405=\"\",\"\",VLOOKUP(I1405,MAESTROS!P$2:Q$2000,2,FALSE))","v":""}]
[{"$f":"IF(H1406=\"\",\"\",VLOOKUP(H1406,MAESTROS!N$2:O$2000,2,FALSE))","v":""},{"$f":"IF(I1406=\"\",\"\",VLOOKUP(I1406,MAESTROS!P$2:Q$2000,2,FALSE))","v":""}]
[{"$f":"IF(H1407=\"\",\"\",VLOOKUP(H1407,MAESTROS!N$2:O$2000,2,FALSE))","v":""},{"$f":"IF(I1407=\"\",\"\",VLOOKUP(I1407,MAESTROS!P$2:Q$2000,2,FALSE))","v":""}]
[{"$f":"IF(H1408=\"\",\"\",VLOOKUP(H1408,MAESTROS!N$2:O$2000,2,FALSE))","v":""},{"$f":"IF(I1408=\"\",\"\",VLOOKUP(I1408,MAESTROS!P$2:Q$2000,2,FALSE))","v":""}]
[{"$f":"IF(H1409=\"\",\"\",VLOOKUP(H1409,MAESTROS!N$2:O$2000,2,FALSE))","v":""},{"$f":"IF(I1409=\"\",\"\",VLOOKUP(I1409,MAESTROS!P$2:Q$2000,2,FALSE))","v":""}]
[{"$f":"IF(H1410=\"\",\"\",VLOOKUP(H1410,MAESTROS!N$2:O$2000,2,FALSE))","v":""},{"$f":"IF(I1410=\"\",\"\",VLOOKUP(I1410,MAESTROS!P$2:Q$2000,2,FALSE))","v":""}]
[{"$f":"IF(H1411=\"\",\"\",VLOOKUP(H1411,MAESTROS!N$2:O$2000,2,FALSE))","v":""},{"$f":"IF(I1411=\"\",\"\",VLOOKUP(I1411,MAESTROS!P$2:Q$2000,2,FALSE))","v":""}]
[{"$f":"IF(H1412=\"\",\"\",VLOOKUP(H1412,MAESTROS!N$2:O$2000,2,FALSE))","v":""},{"$f":"IF(I1412=\"\",\"\",VLOOKUP(I1412,MAESTROS!P$2:Q$2000,2,FALSE))","v":""}]
[{"$f":"IF(H1413=\"\",\"\",VLOOKUP(H1413,MAESTROS!N$2:O$2000,2,FALSE))","v":""},{"$f":"IF(I1413=\"\",\"\",VLOOKUP(I1413,MAESTROS!P$2:Q$2000,2,FALSE))","v":""}]
[{"$f":"IF(H1414=\"\",\"\",VLOOKUP(H1414,MAESTROS!N$2:O$2000,2,FALSE))","v":""},{"$f":"IF(I1414=\"\",\"\",VLOOKUP(I1414,MAESTROS!P$2:Q$2000,2,FALSE))","v":""}]
[{"$f":"IF(H1415=\"\",\"\",VLOOKUP(H1415,MAESTROS!N$2:O$2000,2,FALSE))","v":""},{"$f":"IF(I1415=\"\",\"\",VLOOKUP(I1415,MAESTROS!P$2:Q$2000,2,FALSE))","v":""}]
[{"$f":"IF(H1416=\"\",\"\",VLOOKUP(H1416,MAESTROS!N$2:O$2000,2,FALSE))","v":""},{"$f":"IF(I1416=\"\",\"\",VLOOKUP(I1416,MAESTROS!P$2:Q$2000,2,FALSE))","v":""}]
[{"$f":"IF(H1417=\"\",\"\",VLOOKUP(H1417,MAESTROS!N$2:O$2000,2,FALSE))","v":""},{"$f":"IF(I1417=\"\",\"\",VLOOKUP(I1417,MAESTROS!P$2:Q$2000,2,FALSE))","v":""}]
[{"$f":"IF(H1418=\"\",\"\",VLOOKUP(H1418,MAESTROS!N$2:O$2000,2,FALSE))","v":""},{"$f":"IF(I1418=\"\",\"\",VLOOKUP(I1418,MAESTROS!P$2:Q$2000,2,FALSE))","v":""}]
[{"$f":"IF(H1419=\"\",\"\",VLOOKUP(H1419,MAESTROS!N$2:O$2000,2,FALSE))","v":""},{"$f":"IF(I1419=\"\",\"\",VLOOKUP(I1419,MAESTROS!P$2:Q$2000,2,FALSE))","v":""}]
[{"$f":"IF(H1420=\"\",\"\",VLOOKUP(H1420,MAESTROS!N$2:O$2000,2,FALSE))","v":""},{"$f":"IF(I1420=\"\",\"\",VLOOKUP(I1420,MAESTROS!P$2:Q$2000,2,FALSE))","v":""}]
[{"$f":"IF(H1421=\"\",\"\",VLOOKUP(H1421,MAESTROS!N$2:O$2000,2,FALSE))","v":""},{"$f":"IF(I1421=\"\",\"\",VLOOKUP(I1421,MAESTROS!P$2:Q$2000,2,FALSE))","v":""}]
[{"$f":"IF(H1422=\"\",\"\",VLOOKUP(H1422,MAESTROS!N$2:O$2000,2,FALSE))","v":""},{"$f":"IF(I1422=\"\",\"\",VLOOKUP(I1422,MAESTROS!P$2:Q$2000,2,FALSE))","v":""}]
[{"$f":"IF(H1423=\"\",\"\",VLOOKUP(H1423,MAESTROS!N$2:O$2000,2,FALSE))","v":""},{"$f":"IF(I1423=\"\",\"\",VLOOKUP(I1423,MAESTROS!P$2:Q$2000,2,FALSE))","v":""}]
[{"$f":"IF(H1424=\"\",\"\",VLOOKUP(H1424,MAESTROS!N$2:O$2000,2,FALSE))","v":""},{"$f":"IF(I1424=\"\",\"\",VLOOKUP(I1424,MAESTROS!P$2:Q$2000,2,FALSE))","v":""}]
[{"$f":"IF(H1425=\"\",\"\",VLOOKUP(H1425,MAESTROS!N$2:O$2000,2,FALSE))","v":""},{"$f":"IF(I1425=\"\",\"\",VLOOKUP(I1425,MAESTROS!P$2:Q$2000,2,FALSE))","v":""}]
[{"$f":"IF(H1426=\"\",\"\",VLOOKUP(H1426,MAESTROS!N$2:O$2000,2,FALSE))","v":""},{"$f":"IF(I1426=\"\",\"\",VLOOKUP(I1426,MAESTROS!P$2:Q$2000,2,FALSE))","v":""}]
[{"$f":"IF(H1427=\"\",\"\",VLOOKUP(H1427,MAESTROS!N$2:O$2000,2,FALSE))","v":""},{"$f":"IF(I1427=\"\",\"\",VLOOKUP(I1427,MAESTROS!P$2:Q$2000,2,FALSE))","v":""}]
[{"$f":"IF(H1428=\"\",\"\",VLOOKUP(H1428,MAESTROS!N$2:O$2000,2,FALSE))","v":""},{"$f":"IF(I1428=\"\",\"\",VLOOKUP(I1428,MAESTROS!P$2:Q$2000,2,FALSE))","v":""}]
[{"$f":"IF(H1429=\"\",\"\",VLOOKUP(H1429,MAESTROS!N$2:O$2000,2,FALSE))","v":""},{"$f":"IF(I1429=\"\",\"\",VLOOKUP(I1429,MAESTROS!P$2:Q$2000,2,FALSE))","v":""}]
[{"$f":"IF(H1430=\"\",\"\",VLOOKUP(H1430,MAESTROS!N$2:O$2000,2,FALSE))","v":""},{"$f":"IF(I1430=\"\",\"\",VLOOKUP(I1430,MAESTROS!P$2:Q$2000,2,FALSE))","v":""}]
[{"$f":"IF(H1431=\"\",\"\",VLOOKUP(H1431,MAESTROS!N$2:O$2000,2,FALSE))","v":""},{"$f":"IF(I1431=\"\",\"\",VLOOKUP(I1431,MAESTROS!P$2:Q$2000,2,FALSE))","v":""}]
[{"$f":"IF(H1432=\"\",\"\",VLOOKUP(H1432,MAESTROS!N$2:O$2000,2,FALSE))","v":""},{"$f":"IF(I1432=\"\",\"\",VLOOKUP(I1432,MAESTROS!P$2:Q$2000,2,FALSE))","v":""}]
[{"$f":"IF(H1433=\"\",\"\",VLOOKUP(H1433,MAESTROS!N$2:O$2000,2,FALSE))","v":""},{"$f":"IF(I1433=\"\",\"\",VLOOKUP(I1433,MAESTROS!P$2:Q$2000,2,FALSE))","v":""}]
[{"$f":"IF(H1434=\"\",\"\",VLOOKUP(H1434,MAESTROS!N$2:O$2000,2,FALSE))","v":""},{"$f":"IF(I1434=\"\",\"\",VLOOKUP(I1434,MAESTROS!P$2:Q$2000,2,FALSE))","v":""}]
[{"$f":"IF(H1435=\"\",\"\",VLOOKUP(H1435,MAESTROS!N$2:O$2000,2,FALSE))","v":""},{"$f":"IF(I1435=\"\",\"\",VLOOKUP(I1435,MAESTROS!P$2:Q$2000,2,FALSE))","v":""}]
[{"$f":"IF(H1436=\"\",\"\",VLOOKUP(H1436,MAESTROS!N$2:O$2000,2,FALSE))","v":""},{"$f":"IF(I1436=\"\",\"\",VLOOKUP(I1436,MAESTROS!P$2:Q$2000,2,FALSE))","v":""}]
[{"$f":"IF(H1437=\"\",\"\",VLOOKUP(H1437,MAESTROS!N$2:O$2000,2,FALSE))","v":""},{"$f":"IF(I1437=\"\",\"\",VLOOKUP(I1437,MAESTROS!P$2:Q$2000,2,FALSE))","v":""}]
[{"$f":"IF(H1438=\"\",\"\",VLOOKUP(H1438,MAESTROS!N$2:O$2000,2,FALSE))","v":""},{"$f":"IF(I1438=\"\",\"\",VLOOKUP(I1438,MAESTROS!P$2:Q$2000,2,FALSE))","v":""}]
[{"$f":"IF(H1439=\"\",\"\",VLOOKUP(H1439,MAESTROS!N$2:O$2000,2,FALSE))","v":""},{"$f":"IF(I1439=\"\",\"\",VLOOKUP(I1439,MAESTROS!P$2:Q$2000,2,FALSE))","v":""}]
[{"$f":"IF(H1440=\"\",\"\",VLOOKUP(H1440,MAESTROS!N$2:O$2000,2,FALSE))","v":""},{"$f":"IF(I1440=\"\",\"\",VLOOKUP(I1440,MAESTROS!P$2:Q$2000,2,FALSE))","v":""}]
[{"$f":"IF(H1441=\"\",\"\",VLOOKUP(H1441,MAESTROS!N$2:O$2000,2,FALSE))","v":""},{"$f":"IF(I1441=\"\",\"\",VLOOKUP(I1441,MAESTROS!P$2:Q$2000,2,FALSE))","v":""}]
[{"$f":"IF(H1442=\"\",\"\",VLOOKUP(H1442,MAESTROS!N$2:O$2000,2,FALSE))","v":""},{"$f":"IF(I1442=\"\",\"\",VLOOKUP(I1442,MAESTROS!P$2:Q$2000,2,FALSE))","v":""}]
[{"$f":"IF(H1443=\"\",\"\",VLOOKUP(H1443,MAESTROS!N$2:O$2000,2,FALSE))","v":""},{"$f":"IF(I1443=\"\",\"\",VLOOKUP(I1443,MAESTROS!P$2:Q$2000,2,FALSE))","v":""}]
[{"$f":"IF(H1444=\"\",\"\",VLOOKUP(H1444,MAESTROS!N$2:O$2000,2,FALSE))","v":""},{"$f":"IF(I1444=\"\",\"\",VLOOKUP(I1444,MAESTROS!P$2:Q$2000,2,FALSE))","v":""}]
[{"$f":"IF(H1445=\"\",\"\",VLOOKUP(H1445,MAESTROS!N$2:O$2000,2,FALSE))","v":""},{"$f":"IF(I1445=\"\",\"\",VLOOKUP(I1445,MAESTROS!P$2:Q$2000,2,FALSE))","v":""}]
[{"$f":"IF(H1446=\"\",\"\",VLOOKUP(H1446,MAESTROS!N$2:O$2000,2,FALSE))","v":""},{"$f":"IF(I1446=\"\",\"\",VLOOKUP(I1446,MAESTROS!P$2:Q$2000,2,FALSE))","v":""}]
[{"$f":"IF(H1447=\"\",\"\",VLOOKUP(H1447,MAESTROS!N$2:O$2000,2,FALSE))","v":""},{"$f":"IF(I1447=\"\",\"\",VLOOKUP(I1447,MAESTROS!P$2:Q$2000,2,FALSE))","v":""}]
[{"$f":"IF(H1448=\"\",\"\",VLOOKUP(H1448,MAESTROS!N$2:O$2000,2,FALSE))","v":""},{"$f":"IF(I1448=\"\",\"\",VLOOKUP(I1448,MAESTROS!P$2:Q$2000,2,FALSE))","v":""}]
[{"$f":"IF(H1449=\"\",\"\",VLOOKUP(H1449,MAESTROS!N$2:O$2000,2,FALSE))","v":""},{"$f":"IF(I1449=\"\",\"\",VLOOKUP(I1449,MAESTROS!P$2:Q$2000,2,FALSE))","v":""}]
[{"$f":"IF(H1450=\"\",\"\",VLOOKUP(H1450,MAESTROS!N$2:O$2000,2,FALSE))","v":""},{"$f":"IF(I1450=\"\",\"\",VLOOKUP(I1450,MAESTROS!P$2:Q$2000,2,FALSE))","v":""}]
[{"$f":"IF(H1451=\"\",\"\",VLOOKUP(H1451,MAESTROS!N$2:O$2000,2,FALSE))","v":""},{"$f":"IF(I1451=\"\",\"\",VLOOKUP(I1451,MAESTROS!P$2:Q$2000,2,FALSE))","v":""}]
[{"$f":"IF(H1452=\"\",\"\",VLOOKUP(H1452,MAESTROS!N$2:O$2000,2,FALSE))","v":""},{"$f":"IF(I1452=\"\",\"\",VLOOKUP(I1452,MAESTROS!P$2:Q$2000,2,FALSE))","v":""}]
[{"$f":"IF(H1453=\"\",\"\",VLOOKUP(H1453,MAESTROS!N$2:O$2000,2,FALSE))","v":""},{"$f":"IF(I1453=\"\",\"\",VLOOKUP(I1453,MAESTROS!P$2:Q$2000,2,FALSE))","v":""}]
[{"$f":"IF(H1454=\"\",\"\",VLOOKUP(H1454,MAESTROS!N$2:O$2000,2,FALSE))","v":""},{"$f":"IF(I1454=\"\",\"\",VLOOKUP(I1454,MAESTROS!P$2:Q$2000,2,FALSE))","v":""}]
[{"$f":"IF(H1455=\"\",\"\",VLOOKUP(H1455,MAESTROS!N$2:O$2000,2,FALSE))","v":""},{"$f":"IF(I1455=\"\",\"\",VLOOKUP(I1455,MAESTROS!P$2:Q$2000,2,FALSE))","v":""}]
[{"$f":"IF(H1456=\"\",\"\",VLOOKUP(H1456,MAESTROS!N$2:O$2000,2,FALSE))","v":""},{"$f":"IF(I1456=\"\",\"\",VLOOKUP(I1456,MAESTROS!P$2:Q$2000,2,FALSE))","v":""}]
[{"$f":"IF(H1457=\"\",\"\",VLOOKUP(H1457,MAESTROS!N$2:O$2000,2,FALSE))","v":""},{"$f":"IF(I1457=\"\",\"\",VLOOKUP(I1457,MAESTROS!P$2:Q$2000,2,FALSE))","v":""}]
[{"$f":"IF(H1458=\"\",\"\",VLOOKUP(H1458,MAESTROS!N$2:O$2000,2,FALSE))","v":""},{"$f":"IF(I1458=\"\",\"\",VLOOKUP(I1458,MAESTROS!P$2:Q$2000,2,FALSE))","v":""}]
[{"$f":"IF(H1459=\"\",\"\",VLOOKUP(H1459,MAESTROS!N$2:O$2000,2,FALSE))","v":""},{"$f":"IF(I1459=\"\",\"\",VLOOKUP(I1459,MAESTROS!P$2:Q$2000,2,FALSE))","v":""}]
[{"$f":"IF(H1460=\"\",\"\",VLOOKUP(H1460,MAESTROS!N$2:O$2000,2,FALSE))","v":""},{"$f":"IF(I1460=\"\",\"\",VLOOKUP(I1460,MAESTROS!P$2:Q$2000,2,FALSE))","v":""}]
[{"$f":"IF(H1461=\"\",\"\",VLOOKUP(H1461,MAESTROS!N$2:O$2000,2,FALSE))","v":""},{"$f":"IF(I1461=\"\",\"\",VLOOKUP(I1461,MAESTROS!P$2:Q$2000,2,FALSE))","v":""}]
[{"$f":"IF(H1462=\"\",\"\",VLOOKUP(H1462,MAESTROS!N$2:O$2000,2,FALSE))","v":""},{"$f":"IF(I1462=\"\",\"\",VLOOKUP(I1462,MAESTROS!P$2:Q$2000,2,FALSE))","v":""}]
[{"$f":"IF(H1463=\"\",\"\",VLOOKUP(H1463,MAESTROS!N$2:O$2000,2,FALSE))","v":""},{"$f":"IF(I1463=\"\",\"\",VLOOKUP(I1463,MAESTROS!P$2:Q$2000,2,FALSE))","v":""}]
[{"$f":"IF(H1464=\"\",\"\",VLOOKUP(H1464,MAESTROS!N$2:O$2000,2,FALSE))","v":""},{"$f":"IF(I1464=\"\",\"\",VLOOKUP(I1464,MAESTROS!P$2:Q$2000,2,FALSE))","v":""}]
[{"$f":"IF(H1465=\"\",\"\",VLOOKUP(H1465,MAESTROS!N$2:O$2000,2,FALSE))","v":""},{"$f":"IF(I1465=\"\",\"\",VLOOKUP(I1465,MAESTROS!P$2:Q$2000,2,FALSE))","v":""}]
[{"$f":"IF(H1466=\"\",\"\",VLOOKUP(H1466,MAESTROS!N$2:O$2000,2,FALSE))","v":""},{"$f":"IF(I1466=\"\",\"\",VLOOKUP(I1466,MAESTROS!P$2:Q$2000,2,FALSE))","v":""}]
[{"$f":"IF(H1467=\"\",\"\",VLOOKUP(H1467,MAESTROS!N$2:O$2000,2,FALSE))","v":""},{"$f":"IF(I1467=\"\",\"\",VLOOKUP(I1467,MAESTROS!P$2:Q$2000,2,FALSE))","v":""}]
[{"$f":"IF(H1468=\"\",\"\",VLOOKUP(H1468,MAESTROS!N$2:O$2000,2,FALSE))","v":""},{"$f":"IF(I1468=\"\",\"\",VLOOKUP(I1468,MAESTROS!P$2:Q$2000,2,FALSE))","v":""}]
[{"$f":"IF(H1469=\"\",\"\",VLOOKUP(H1469,MAESTROS!N$2:O$2000,2,FALSE))","v":""},{"$f":"IF(I1469=\"\",\"\",VLOOKUP(I1469,MAESTROS!P$2:Q$2000,2,FALSE))","v":""}]
[{"$f":"IF(H1470=\"\",\"\",VLOOKUP(H1470,MAESTROS!N$2:O$2000,2,FALSE))","v":""},{"$f":"IF(I1470=\"\",\"\",VLOOKUP(I1470,MAESTROS!P$2:Q$2000,2,FALSE))","v":""}]
[{"$f":"IF(H1471=\"\",\"\",VLOOKUP(H1471,MAESTROS!N$2:O$2000,2,FALSE))","v":""},{"$f":"IF(I1471=\"\",\"\",VLOOKUP(I1471,MAESTROS!P$2:Q$2000,2,FALSE))","v":""}]
[{"$f":"IF(H1472=\"\",\"\",VLOOKUP(H1472,MAESTROS!N$2:O$2000,2,FALSE))","v":""},{"$f":"IF(I1472=\"\",\"\",VLOOKUP(I1472,MAESTROS!P$2:Q$2000,2,FALSE))","v":""}]
[{"$f":"IF(H1473=\"\",\"\",VLOOKUP(H1473,MAESTROS!N$2:O$2000,2,FALSE))","v":""},{"$f":"IF(I1473=\"\",\"\",VLOOKUP(I1473,MAESTROS!P$2:Q$2000,2,FALSE))","v":""}]
[{"$f":"IF(H1474=\"\",\"\",VLOOKUP(H1474,MAESTROS!N$2:O$2000,2,FALSE))","v":""},{"$f":"IF(I1474=\"\",\"\",VLOOKUP(I1474,MAESTROS!P$2:Q$2000,2,FALSE))","v":""}]
[{"$f":"IF(H1475=\"\",\"\",VLOOKUP(H1475,MAESTROS!N$2:O$2000,2,FALSE))","v":""},{"$f":"IF(I1475=\"\",\"\",VLOOKUP(I1475,MAESTROS!P$2:Q$2000,2,FALSE))","v":""}]
[{"$f":"IF(H1476=\"\",\"\",VLOOKUP(H1476,MAESTROS!N$2:O$2000,2,FALSE))","v":""},{"$f":"IF(I1476=\"\",\"\",VLOOKUP(I1476,MAESTROS!P$2:Q$2000,2,FALSE))","v":""}]
[{"$f":"IF(H1477=\"\",\"\",VLOOKUP(H1477,MAESTROS!N$2:O$2000,2,FALSE))","v":""},{"$f":"IF(I1477=\"\",\"\",VLOOKUP(I1477,MAESTROS!P$2:Q$2000,2,FALSE))","v":""}]
[{"$f":"IF(H1478=\"\",\"\",VLOOKUP(H1478,MAESTROS!N$2:O$2000,2,FALSE))","v":""},{"$f":"IF(I1478=\"\",\"\",VLOOKUP(I1478,MAESTROS!P$2:Q$2000,2,FALSE))","v":""}]
[{"$f":"IF(H1479=\"\",\"\",VLOOKUP(H1479,MAESTROS!N$2:O$2000,2,FALSE))","v":""},{"$f":"IF(I1479=\"\",\"\",VLOOKUP(I1479,MAESTROS!P$2:Q$2000,2,FALSE))","v":""}]
[{"$f":"IF(H1480=\"\",\"\",VLOOKUP(H1480,MAESTROS!N$2:O$2000,2,FALSE))","v":""},{"$f":"IF(I1480=\"\",\"\",VLOOKUP(I1480,MAESTROS!P$2:Q$2000,2,FALSE))","v":""}]
[{"$f":"IF(H1481=\"\",\"\",VLOOKUP(H1481,MAESTROS!N$2:O$2000,2,FALSE))","v":""},{"$f":"IF(I1481=\"\",\"\",VLOOKUP(I1481,MAESTROS!P$2:Q$2000,2,FALSE))","v":""}]
[{"$f":"IF(H1482=\"\",\"\",VLOOKUP(H1482,MAESTROS!N$2:O$2000,2,FALSE))","v":""},{"$f":"IF(I1482=\"\",\"\",VLOOKUP(I1482,MAESTROS!P$2:Q$2000,2,FALSE))","v":""}]
[{"$f":"IF(H1483=\"\",\"\",VLOOKUP(H1483,MAESTROS!N$2:O$2000,2,FALSE))","v":""},{"$f":"IF(I1483=\"\",\"\",VLOOKUP(I1483,MAESTROS!P$2:Q$2000,2,FALSE))","v":""}]
[{"$f":"IF(H1484=\"\",\"\",VLOOKUP(H1484,MAESTROS!N$2:O$2000,2,FALSE))","v":""},{"$f":"IF(I1484=\"\",\"\",VLOOKUP(I1484,MAESTROS!P$2:Q$2000,2,FALSE))","v":""}]
[{"$f":"IF(H1485=\"\",\"\",VLOOKUP(H1485,MAESTROS!N$2:O$2000,2,FALSE))","v":""},{"$f":"IF(I1485=\"\",\"\",VLOOKUP(I1485,MAESTROS!P$2:Q$2000,2,FALSE))","v":""}]
[{"$f":"IF(H1486=\"\",\"\",VLOOKUP(H1486,MAESTROS!N$2:O$2000,2,FALSE))","v":""},{"$f":"IF(I1486=\"\",\"\",VLOOKUP(I1486,MAESTROS!P$2:Q$2000,2,FALSE))","v":""}]
[{"$f":"IF(H1487=\"\",\"\",VLOOKUP(H1487,MAESTROS!N$2:O$2000,2,FALSE))","v":""},{"$f":"IF(I1487=\"\",\"\",VLOOKUP(I1487,MAESTROS!P$2:Q$2000,2,FALSE))","v":""}]
[{"$f":"IF(H1488=\"\",\"\",VLOOKUP(H1488,MAESTROS!N$2:O$2000,2,FALSE))","v":""},{"$f":"IF(I1488=\"\",\"\",VLOOKUP(I1488,MAESTROS!P$2:Q$2000,2,FALSE))","v":""}]
[{"$f":"IF(H1489=\"\",\"\",VLOOKUP(H1489,MAESTROS!N$2:O$2000,2,FALSE))","v":""},{"$f":"IF(I1489=\"\",\"\",VLOOKUP(I1489,MAESTROS!P$2:Q$2000,2,FALSE))","v":""}]
[{"$f":"IF(H1490=\"\",\"\",VLOOKUP(H1490,MAESTROS!N$2:O$2000,2,FALSE))","v":""},{"$f":"IF(I1490=\"\",\"\",VLOOKUP(I1490,MAESTROS!P$2:Q$2000,2,FALSE))","v":""}]
[{"$f":"IF(H1491=\"\",\"\",VLOOKUP(H1491,MAESTROS!N$2:O$2000,2,FALSE))","v":""},{"$f":"IF(I1491=\"\",\"\",VLOOKUP(I1491,MAESTROS!P$2:Q$2000,2,FALSE))","v":""}]
[{"$f":"IF(H1492=\"\",\"\",VLOOKUP(H1492,MAESTROS!N$2:O$2000,2,FALSE))","v":""},{"$f":"IF(I1492=\"\",\"\",VLOOKUP(I1492,MAESTROS!P$2:Q$2000,2,FALSE))","v":""}]
[{"$f":"IF(H1493=\"\",\"\",VLOOKUP(H1493,MAESTROS!N$2:O$2000,2,FALSE))","v":""},{"$f":"IF(I1493=\"\",\"\",VLOOKUP(I1493,MAESTROS!P$2:Q$2000,2,FALSE))","v":""}]
[{"$f":"IF(H1494=\"\",\"\",VLOOKUP(H1494,MAESTROS!N$2:O$2000,2,FALSE))","v":""},{"$f":"IF(I1494=\"\",\"\",VLOOKUP(I1494,MAESTROS!P$2:Q$2000,2,FALSE))","v":""}]
[{"$f":"IF(H1495=\"\",\"\",VLOOKUP(H1495,MAESTROS!N$2:O$2000,2,FALSE))","v":""},{"$f":"IF(I1495=\"\",\"\",VLOOKUP(I1495,MAESTROS!P$2:Q$2000,2,FALSE))","v":""}]
[{"$f":"IF(H1496=\"\",\"\",VLOOKUP(H1496,MAESTROS!N$2:O$2000,2,FALSE))","v":""},{"$f":"IF(I1496=\"\",\"\",VLOOKUP(I1496,MAESTROS!P$2:Q$2000,2,FALSE))","v":""}]
[{"$f":"IF(H1497=\"\",\"\",VLOOKUP(H1497,MAESTROS!N$2:O$2000,2,FALSE))","v":""},{"$f":"IF(I1497=\"\",\"\",VLOOKUP(I1497,MAESTROS!P$2:Q$2000,2,FALSE))","v":""}]
[{"$f":"IF(H1498=\"\",\"\",VLOOKUP(H1498,MAESTROS!N$2:O$2000,2,FALSE))","v":""},{"$f":"IF(I1498=\"\",\"\",VLOOKUP(I1498,MAESTROS!P$2:Q$2000,2,FALSE))","v":""}]
[{"$f":"IF(H1499=\"\",\"\",VLOOKUP(H1499,MAESTROS!N$2:O$2000,2,FALSE))","v":""},{"$f":"IF(I1499=\"\",\"\",VLOOKUP(I1499,MAESTROS!P$2:Q$2000,2,FALSE))","v":""}]
[{"$f":"IF(H1500=\"\",\"\",VLOOKUP(H1500,MAESTROS!N$2:O$2000,2,FALSE))","v":""},{"$f":"IF(I1500=\"\",\"\",VLOOKUP(I1500,MAESTROS!P$2:Q$2000,2,FALSE))","v":""}]
[{"$f":"IF(H1501=\"\",\"\",VLOOKUP(H1501,MAESTROS!N$2:O$2000,2,FALSE))","v":""},{"$f":"IF(I1501=\"\",\"\",VLOOKUP(I1501,MAESTROS!P$2:Q$2000,2,FALSE))","v":""}]
[{"$f":"IF(H1502=\"\",\"\",VLOOKUP(H1502,MAESTROS!N$2:O$2000,2,FALSE))","v":""},{"$f":"IF(I1502=\"\",\"\",VLOOKUP(I1502,MAESTROS!P$2:Q$2000,2,FALSE))","v":""}]
[{"$f":"IF(H1503=\"\",\"\",VLOOKUP(H1503,MAESTROS!N$2:O$2000,2,FALSE))","v":""},{"$f":"IF(I1503=\"\",\"\",VLOOKUP(I1503,MAESTROS!P$2:Q$2000,2,FALSE))","v":""}]
[{"$f":"IF(H1504=\"\",\"\",VLOOKUP(H1504,MAESTROS!N$2:O$2000,2,FALSE))","v":""},{"$f":"IF(I1504=\"\",\"\",VLOOKUP(I1504,MAESTROS!P$2:Q$2000,2,FALSE))","v":""}]
[{"$f":"IF(H1505=\"\",\"\",VLOOKUP(H1505,MAESTROS!N$2:O$2000,2,FALSE))","v":""},{"$f":"IF(I1505=\"\",\"\",VLOOKUP(I1505,MAESTROS!P$2:Q$2000,2,FALSE))","v":""}]
[{"$f":"IF(H1506=\"\",\"\",VLOOKUP(H1506,MAESTROS!N$2:O$2000,2,FALSE))","v":""},{"$f":"IF(I1506=\"\",\"\",VLOOKUP(I1506,MAESTROS!P$2:Q$2000,2,FALSE))","v":""}]
[{"$f":"IF(H1507=\"\",\"\",VLOOKUP(H1507,MAESTROS!N$2:O$2000,2,FALSE))","v":""},{"$f":"IF(I1507=\"\",\"\",VLOOKUP(I1507,MAESTROS!P$2:Q$2000,2,FALSE))","v":""}]
[{"$f":"IF(H1508=\"\",\"\",VLOOKUP(H1508,MAESTROS!N$2:O$2000,2,FALSE))","v":""},{"$f":"IF(I1508=\"\",\"\",VLOOKUP(I1508,MAESTROS!P$2:Q$2000,2,FALSE))","v":""}]
[{"$f":"IF(H1509=\"\",\"\",VLOOKUP(H1509,MAESTROS!N$2:O$2000,2,FALSE))","v":""},{"$f":"IF(I1509=\"\",\"\",VLOOKUP(I1509,MAESTROS!P$2:Q$2000,2,FALSE))","v":""}]
[{"$f":"IF(H1510=\"\",\"\",VLOOKUP(H1510,MAESTROS!N$2:O$2000,2,FALSE))","v":""},{"$f":"IF(I1510=\"\",\"\",VLOOKUP(I1510,MAESTROS!P$2:Q$2000,2,FALSE))","v":""}]
[{"$f":"IF(H1511=\"\",\"\",VLOOKUP(H1511,MAESTROS!N$2:O$2000,2,FALSE))","v":""},{"$f":"IF(I1511=\"\",\"\",VLOOKUP(I1511,MAESTROS!P$2:Q$2000,2,FALSE))","v":""}]
[{"$f":"IF(H1512=\"\",\"\",VLOOKUP(H1512,MAESTROS!N$2:O$2000,2,FALSE))","v":""},{"$f":"IF(I1512=\"\",\"\",VLOOKUP(I1512,MAESTROS!P$2:Q$2000,2,FALSE))","v":""}]
[{"$f":"IF(H1513=\"\",\"\",VLOOKUP(H1513,MAESTROS!N$2:O$2000,2,FALSE))","v":""},{"$f":"IF(I1513=\"\",\"\",VLOOKUP(I1513,MAESTROS!P$2:Q$2000,2,FALSE))","v":""}]
[{"$f":"IF(H1514=\"\",\"\",VLOOKUP(H1514,MAESTROS!N$2:O$2000,2,FALSE))","v":""},{"$f":"IF(I1514=\"\",\"\",VLOOKUP(I1514,MAESTROS!P$2:Q$2000,2,FALSE))","v":""}]
[{"$f":"IF(H1515=\"\",\"\",VLOOKUP(H1515,MAESTROS!N$2:O$2000,2,FALSE))","v":""},{"$f":"IF(I1515=\"\",\"\",VLOOKUP(I1515,MAESTROS!P$2:Q$2000,2,FALSE))","v":""}]
[{"$f":"IF(H1516=\"\",\"\",VLOOKUP(H1516,MAESTROS!N$2:O$2000,2,FALSE))","v":""},{"$f":"IF(I1516=\"\",\"\",VLOOKUP(I1516,MAESTROS!P$2:Q$2000,2,FALSE))","v":""}]
[{"$f":"IF(H1517=\"\",\"\",VLOOKUP(H1517,MAESTROS!N$2:O$2000,2,FALSE))","v":""},{"$f":"IF(I1517=\"\",\"\",VLOOKUP(I1517,MAESTROS!P$2:Q$2000,2,FALSE))","v":""}]
[{"$f":"IF(H1518=\"\",\"\",VLOOKUP(H1518,MAESTROS!N$2:O$2000,2,FALSE))","v":""},{"$f":"IF(I1518=\"\",\"\",VLOOKUP(I1518,MAESTROS!P$2:Q$2000,2,FALSE))","v":""}]
[{"$f":"IF(H1519=\"\",\"\",VLOOKUP(H1519,MAESTROS!N$2:O$2000,2,FALSE))","v":""},{"$f":"IF(I1519=\"\",\"\",VLOOKUP(I1519,MAESTROS!P$2:Q$2000,2,FALSE))","v":""}]
[{"$f":"IF(H1520=\"\",\"\",VLOOKUP(H1520,MAESTROS!N$2:O$2000,2,FALSE))","v":""},{"$f":"IF(I1520=\"\",\"\",VLOOKUP(I1520,MAESTROS!P$2:Q$2000,2,FALSE))","v":""}]
[{"$f":"IF(H1521=\"\",\"\",VLOOKUP(H1521,MAESTROS!N$2:O$2000,2,FALSE))","v":""},{"$f":"IF(I1521=\"\",\"\",VLOOKUP(I1521,MAESTROS!P$2:Q$2000,2,FALSE))","v":""}]
[{"$f":"IF(H1522=\"\",\"\",VLOOKUP(H1522,MAESTROS!N$2:O$2000,2,FALSE))","v":""},{"$f":"IF(I1522=\"\",\"\",VLOOKUP(I1522,MAESTROS!P$2:Q$2000,2,FALSE))","v":""}]
[{"$f":"IF(H1523=\"\",\"\",VLOOKUP(H1523,MAESTROS!N$2:O$2000,2,FALSE))","v":""},{"$f":"IF(I1523=\"\",\"\",VLOOKUP(I1523,MAESTROS!P$2:Q$2000,2,FALSE))","v":""}]
[{"$f":"IF(H1524=\"\",\"\",VLOOKUP(H1524,MAESTROS!N$2:O$2000,2,FALSE))","v":""},{"$f":"IF(I1524=\"\",\"\",VLOOKUP(I1524,MAESTROS!P$2:Q$2000,2,FALSE))","v":""}]
[{"$f":"IF(H1525=\"\",\"\",VLOOKUP(H1525,MAESTROS!N$2:O$2000,2,FALSE))","v":""},{"$f":"IF(I1525=\"\",\"\",VLOOKUP(I1525,MAESTROS!P$2:Q$2000,2,FALSE))","v":""}]
[{"$f":"IF(H1526=\"\",\"\",VLOOKUP(H1526,MAESTROS!N$2:O$2000,2,FALSE))","v":""},{"$f":"IF(I1526=\"\",\"\",VLOOKUP(I1526,MAESTROS!P$2:Q$2000,2,FALSE))","v":""}]
[{"$f":"IF(H1527=\"\",\"\",VLOOKUP(H1527,MAESTROS!N$2:O$2000,2,FALSE))","v":""},{"$f":"IF(I1527=\"\",\"\",VLOOKUP(I1527,MAESTROS!P$2:Q$2000,2,FALSE))","v":""}]
[{"$f":"IF(H1528=\"\",\"\",VLOOKUP(H1528,MAESTROS!N$2:O$2000,2,FALSE))","v":""},{"$f":"IF(I1528=\"\",\"\",VLOOKUP(I1528,MAESTROS!P$2:Q$2000,2,FALSE))","v":""}]
[{"$f":"IF(H1529=\"\",\"\",VLOOKUP(H1529,MAESTROS!N$2:O$2000,2,FALSE))","v":""},{"$f":"IF(I1529=\"\",\"\",VLOOKUP(I1529,MAESTROS!P$2:Q$2000,2,FALSE))","v":""}]
[{"$f":"IF(H1530=\"\",\"\",VLOOKUP(H1530,MAESTROS!N$2:O$2000,2,FALSE))","v":""},{"$f":"IF(I1530=\"\",\"\",VLOOKUP(I1530,MAESTROS!P$2:Q$2000,2,FALSE))","v":""}]
[{"$f":"IF(H1531=\"\",\"\",VLOOKUP(H1531,MAESTROS!N$2:O$2000,2,FALSE))","v":""},{"$f":"IF(I1531=\"\",\"\",VLOOKUP(I1531,MAESTROS!P$2:Q$2000,2,FALSE))","v":""}]
[{"$f":"IF(H1532=\"\",\"\",VLOOKUP(H1532,MAESTROS!N$2:O$2000,2,FALSE))","v":""},{"$f":"IF(I1532=\"\",\"\",VLOOKUP(I1532,MAESTROS!P$2:Q$2000,2,FALSE))","v":""}]
[{"$f":"IF(H1533=\"\",\"\",VLOOKUP(H1533,MAESTROS!N$2:O$2000,2,FALSE))","v":""},{"$f":"IF(I1533=\"\",\"\",VLOOKUP(I1533,MAESTROS!P$2:Q$2000,2,FALSE))","v":""}]
[{"$f":"IF(H1534=\"\",\"\",VLOOKUP(H1534,MAESTROS!N$2:O$2000,2,FALSE))","v":""},{"$f":"IF(I1534=\"\",\"\",VLOOKUP(I1534,MAESTROS!P$2:Q$2000,2,FALSE))","v":""}]
[{"$f":"IF(H1535=\"\",\"\",VLOOKUP(H1535,MAESTROS!N$2:O$2000,2,FALSE))","v":""},{"$f":"IF(I1535=\"\",\"\",VLOOKUP(I1535,MAESTROS!P$2:Q$2000,2,FALSE))","v":""}]
[{"$f":"IF(H1536=\"\",\"\",VLOOKUP(H1536,MAESTROS!N$2:O$2000,2,FALSE))","v":""},{"$f":"IF(I1536=\"\",\"\",VLOOKUP(I1536,MAESTROS!P$2:Q$2000,2,FALSE))","v":""}]
[{"$f":"IF(H1537=\"\",\"\",VLOOKUP(H1537,MAESTROS!N$2:O$2000,2,FALSE))","v":""},{"$f":"IF(I1537=\"\",\"\",VLOOKUP(I1537,MAESTROS!P$2:Q$2000,2,FALSE))","v":""}]
[{"$f":"IF(H1538=\"\",\"\",VLOOKUP(H1538,MAESTROS!N$2:O$2000,2,FALSE))","v":""},{"$f":"IF(I1538=\"\",\"\",VLOOKUP(I1538,MAESTROS!P$2:Q$2000,2,FALSE))","v":""}]
[{"$f":"IF(H1539=\"\",\"\",VLOOKUP(H1539,MAESTROS!N$2:O$2000,2,FALSE))","v":""},{"$f":"IF(I1539=\"\",\"\",VLOOKUP(I1539,MAESTROS!P$2:Q$2000,2,FALSE))","v":""}]
[{"$f":"IF(H1540=\"\",\"\",VLOOKUP(H1540,MAESTROS!N$2:O$2000,2,FALSE))","v":""},{"$f":"IF(I1540=\"\",\"\",VLOOKUP(I1540,MAESTROS!P$2:Q$2000,2,FALSE))","v":""}]
[{"$f":"IF(H1541=\"\",\"\",VLOOKUP(H1541,MAESTROS!N$2:O$2000,2,FALSE))","v":""},{"$f":"IF(I1541=\"\",\"\",VLOOKUP(I1541,MAESTROS!P$2:Q$2000,2,FALSE))","v":""}]
[{"$f":"IF(H1542=\"\",\"\",VLOOKUP(H1542,MAESTROS!N$2:O$2000,2,FALSE))","v":""},{"$f":"IF(I1542=\"\",\"\",VLOOKUP(I1542,MAESTROS!P$2:Q$2000,2,FALSE))","v":""}]
[{"$f":"IF(H1543=\"\",\"\",VLOOKUP(H1543,MAESTROS!N$2:O$2000,2,FALSE))","v":""},{"$f":"IF(I1543=\"\",\"\",VLOOKUP(I1543,MAESTROS!P$2:Q$2000,2,FALSE))","v":""}]
[{"$f":"IF(H1544=\"\",\"\",VLOOKUP(H1544,MAESTROS!N$2:O$2000,2,FALSE))","v":""},{"$f":"IF(I1544=\"\",\"\",VLOOKUP(I1544,MAESTROS!P$2:Q$2000,2,FALSE))","v":""}]
[{"$f":"IF(H1545=\"\",\"\",VLOOKUP(H1545,MAESTROS!N$2:O$2000,2,FALSE))","v":""},{"$f":"IF(I1545=\"\",\"\",VLOOKUP(I1545,MAESTROS!P$2:Q$2000,2,FALSE))","v":""}]
[{"$f":"IF(H1546=\"\",\"\",VLOOKUP(H1546,MAESTROS!N$2:O$2000,2,FALSE))","v":""},{"$f":"IF(I1546=\"\",\"\",VLOOKUP(I1546,MAESTROS!P$2:Q$2000,2,FALSE))","v":""}]
[{"$f":"IF(H1547=\"\",\"\",VLOOKUP(H1547,MAESTROS!N$2:O$2000,2,FALSE))","v":""},{"$f":"IF(I1547=\"\",\"\",VLOOKUP(I1547,MAESTROS!P$2:Q$2000,2,FALSE))","v":""}]
[{"$f":"IF(H1548=\"\",\"\",VLOOKUP(H1548,MAESTROS!N$2:O$2000,2,FALSE))","v":""},{"$f":"IF(I1548=\"\",\"\",VLOOKUP(I1548,MAESTROS!P$2:Q$2000,2,FALSE))","v":""}]
[{"$f":"IF(H1549=\"\",\"\",VLOOKUP(H1549,MAESTROS!N$2:O$2000,2,FALSE))","v":""},{"$f":"IF(I1549=\"\",\"\",VLOOKUP(I1549,MAESTROS!P$2:Q$2000,2,FALSE))","v":""}]
[{"$f":"IF(H1550=\"\",\"\",VLOOKUP(H1550,MAESTROS!N$2:O$2000,2,FALSE))","v":""},{"$f":"IF(I1550=\"\",\"\",VLOOKUP(I1550,MAESTROS!P$2:Q$2000,2,FALSE))","v":""}]
[{"$f":"IF(H1551=\"\",\"\",VLOOKUP(H1551,MAESTROS!N$2:O$2000,2,FALSE))","v":""},{"$f":"IF(I1551=\"\",\"\",VLOOKUP(I1551,MAESTROS!P$2:Q$2000,2,FALSE))","v":""}]
[{"$f":"IF(H1552=\"\",\"\",VLOOKUP(H1552,MAESTROS!N$2:O$2000,2,FALSE))","v":""},{"$f":"IF(I1552=\"\",\"\",VLOOKUP(I1552,MAESTROS!P$2:Q$2000,2,FALSE))","v":""}]
[{"$f":"IF(H1553=\"\",\"\",VLOOKUP(H1553,MAESTROS!N$2:O$2000,2,FALSE))","v":""},{"$f":"IF(I1553=\"\",\"\",VLOOKUP(I1553,MAESTROS!P$2:Q$2000,2,FALSE))","v":""}]
[{"$f":"IF(H1554=\"\",\"\",VLOOKUP(H1554,MAESTROS!N$2:O$2000,2,FALSE))","v":""},{"$f":"IF(I1554=\"\",\"\",VLOOKUP(I1554,MAESTROS!P$2:Q$2000,2,FALSE))","v":""}]
[{"$f":"IF(H1555=\"\",\"\",VLOOKUP(H1555,MAESTROS!N$2:O$2000,2,FALSE))","v":""},{"$f":"IF(I1555=\"\",\"\",VLOOKUP(I1555,MAESTROS!P$2:Q$2000,2,FALSE))","v":""}]
[{"$f":"IF(H1556=\"\",\"\",VLOOKUP(H1556,MAESTROS!N$2:O$2000,2,FALSE))","v":""},{"$f":"IF(I1556=\"\",\"\",VLOOKUP(I1556,MAESTROS!P$2:Q$2000,2,FALSE))","v":""}]
[{"$f":"IF(H1557=\"\",\"\",VLOOKUP(H1557,MAESTROS!N$2:O$2000,2,FALSE))","v":""},{"$f":"IF(I1557=\"\",\"\",VLOOKUP(I1557,MAESTROS!P$2:Q$2000,2,FALSE))","v":""}]
[{"$f":"IF(H1558=\"\",\"\",VLOOKUP(H1558,MAESTROS!N$2:O$2000,2,FALSE))","v":""},{"$f":"IF(I1558=\"\",\"\",VLOOKUP(I1558,MAESTROS!P$2:Q$2000,2,FALSE))","v":""}]
[{"$f":"IF(H1559=\"\",\"\",VLOOKUP(H1559,MAESTROS!N$2:O$2000,2,FALSE))","v":""},{"$f":"IF(I1559=\"\",\"\",VLOOKUP(I1559,MAESTROS!P$2:Q$2000,2,FALSE))","v":""}]
[{"$f":"IF(H1560=\"\",\"\",VLOOKUP(H1560,MAESTROS!N$2:O$2000,2,FALSE))","v":""},{"$f":"IF(I1560=\"\",\"\",VLOOKUP(I1560,MAESTROS!P$2:Q$2000,2,FALSE))","v":""}]
[{"$f":"IF(H1561=\"\",\"\",VLOOKUP(H1561,MAESTROS!N$2:O$2000,2,FALSE))","v":""},{"$f":"IF(I1561=\"\",\"\",VLOOKUP(I1561,MAESTROS!P$2:Q$2000,2,FALSE))","v":""}]
[{"$f":"IF(H1562=\"\",\"\",VLOOKUP(H1562,MAESTROS!N$2:O$2000,2,FALSE))","v":""},{"$f":"IF(I1562=\"\",\"\",VLOOKUP(I1562,MAESTROS!P$2:Q$2000,2,FALSE))","v":""}]
[{"$f":"IF(H1563=\"\",\"\",VLOOKUP(H1563,MAESTROS!N$2:O$2000,2,FALSE))","v":""},{"$f":"IF(I1563=\"\",\"\",VLOOKUP(I1563,MAESTROS!P$2:Q$2000,2,FALSE))","v":""}]
[{"$f":"IF(H1564=\"\",\"\",VLOOKUP(H1564,MAESTROS!N$2:O$2000,2,FALSE))","v":""},{"$f":"IF(I1564=\"\",\"\",VLOOKUP(I1564,MAESTROS!P$2:Q$2000,2,FALSE))","v":""}]
[{"$f":"IF(H1565=\"\",\"\",VLOOKUP(H1565,MAESTROS!N$2:O$2000,2,FALSE))","v":""},{"$f":"IF(I1565=\"\",\"\",VLOOKUP(I1565,MAESTROS!P$2:Q$2000,2,FALSE))","v":""}]
[{"$f":"IF(H1566=\"\",\"\",VLOOKUP(H1566,MAESTROS!N$2:O$2000,2,FALSE))","v":""},{"$f":"IF(I1566=\"\",\"\",VLOOKUP(I1566,MAESTROS!P$2:Q$2000,2,FALSE))","v":""}]
[{"$f":"IF(H1567=\"\",\"\",VLOOKUP(H1567,MAESTROS!N$2:O$2000,2,FALSE))","v":""},{"$f":"IF(I1567=\"\",\"\",VLOOKUP(I1567,MAESTROS!P$2:Q$2000,2,FALSE))","v":""}]
[{"$f":"IF(H1568=\"\",\"\",VLOOKUP(H1568,MAESTROS!N$2:O$2000,2,FALSE))","v":""},{"$f":"IF(I1568=\"\",\"\",VLOOKUP(I1568,MAESTROS!P$2:Q$2000,2,FALSE))","v":""}]
[{"$f":"IF(H1569=\"\",\"\",VLOOKUP(H1569,MAESTROS!N$2:O$2000,2,FALSE))","v":""},{"$f":"IF(I1569=\"\",\"\",VLOOKUP(I1569,MAESTROS!P$2:Q$2000,2,FALSE))","v":""}]
[{"$f":"IF(H1570=\"\",\"\",VLOOKUP(H1570,MAESTROS!N$2:O$2000,2,FALSE))","v":""},{"$f":"IF(I1570=\"\",\"\",VLOOKUP(I1570,MAESTROS!P$2:Q$2000,2,FALSE))","v":""}]
[{"$f":"IF(H1571=\"\",\"\",VLOOKUP(H1571,MAESTROS!N$2:O$2000,2,FALSE))","v":""},{"$f":"IF(I1571=\"\",\"\",VLOOKUP(I1571,MAESTROS!P$2:Q$2000,2,FALSE))","v":""}]
[{"$f":"IF(H1572=\"\",\"\",VLOOKUP(H1572,MAESTROS!N$2:O$2000,2,FALSE))","v":""},{"$f":"IF(I1572=\"\",\"\",VLOOKUP(I1572,MAESTROS!P$2:Q$2000,2,FALSE))","v":""}]
[{"$f":"IF(H1573=\"\",\"\",VLOOKUP(H1573,MAESTROS!N$2:O$2000,2,FALSE))","v":""},{"$f":"IF(I1573=\"\",\"\",VLOOKUP(I1573,MAESTROS!P$2:Q$2000,2,FALSE))","v":""}]
[{"$f":"IF(H1574=\"\",\"\",VLOOKUP(H1574,MAESTROS!N$2:O$2000,2,FALSE))","v":""},{"$f":"IF(I1574=\"\",\"\",VLOOKUP(I1574,MAESTROS!P$2:Q$2000,2,FALSE))","v":""}]
[{"$f":"IF(H1575=\"\",\"\",VLOOKUP(H1575,MAESTROS!N$2:O$2000,2,FALSE))","v":""},{"$f":"IF(I1575=\"\",\"\",VLOOKUP(I1575,MAESTROS!P$2:Q$2000,2,FALSE))","v":""}]
[{"$f":"IF(H1576=\"\",\"\",VLOOKUP(H1576,MAESTROS!N$2:O$2000,2,FALSE))","v":""},{"$f":"IF(I1576=\"\",\"\",VLOOKUP(I1576,MAESTROS!P$2:Q$2000,2,FALSE))","v":""}]
[{"$f":"IF(H1577=\"\",\"\",VLOOKUP(H1577,MAESTROS!N$2:O$2000,2,FALSE))","v":""},{"$f":"IF(I1577=\"\",\"\",VLOOKUP(I1577,MAESTROS!P$2:Q$2000,2,FALSE))","v":""}]
[{"$f":"IF(H1578=\"\",\"\",VLOOKUP(H1578,MAESTROS!N$2:O$2000,2,FALSE))","v":""},{"$f":"IF(I1578=\"\",\"\",VLOOKUP(I1578,MAESTROS!P$2:Q$2000,2,FALSE))","v":""}]
[{"$f":"IF(H1579=\"\",\"\",VLOOKUP(H1579,MAESTROS!N$2:O$2000,2,FALSE))","v":""},{"$f":"IF(I1579=\"\",\"\",VLOOKUP(I1579,MAESTROS!P$2:Q$2000,2,FALSE))","v":""}]
[{"$f":"IF(H1580=\"\",\"\",VLOOKUP(H1580,MAESTROS!N$2:O$2000,2,FALSE))","v":""},{"$f":"IF(I1580=\"\",\"\",VLOOKUP(I1580,MAESTROS!P$2:Q$2000,2,FALSE))","v":""}]
[{"$f":"IF(H1581=\"\",\"\",VLOOKUP(H1581,MAESTROS!N$2:O$2000,2,FALSE))","v":""},{"$f":"IF(I1581=\"\",\"\",VLOOKUP(I1581,MAESTROS!P$2:Q$2000,2,FALSE))","v":""}]
[{"$f":"IF(H1582=\"\",\"\",VLOOKUP(H1582,MAESTROS!N$2:O$2000,2,FALSE))","v":""},{"$f":"IF(I1582=\"\",\"\",VLOOKUP(I1582,MAESTROS!P$2:Q$2000,2,FALSE))","v":""}]
[{"$f":"IF(H1583=\"\",\"\",VLOOKUP(H1583,MAESTROS!N$2:O$2000,2,FALSE))","v":""},{"$f":"IF(I1583=\"\",\"\",VLOOKUP(I1583,MAESTROS!P$2:Q$2000,2,FALSE))","v":""}]
[{"$f":"IF(H1584=\"\",\"\",VLOOKUP(H1584,MAESTROS!N$2:O$2000,2,FALSE))","v":""},{"$f":"IF(I1584=\"\",\"\",VLOOKUP(I1584,MAESTROS!P$2:Q$2000,2,FALSE))","v":""}]
[{"$f":"IF(H1585=\"\",\"\",VLOOKUP(H1585,MAESTROS!N$2:O$2000,2,FALSE))","v":""},{"$f":"IF(I1585=\"\",\"\",VLOOKUP(I1585,MAESTROS!P$2:Q$2000,2,FALSE))","v":""}]
[{"$f":"IF(H1586=\"\",\"\",VLOOKUP(H1586,MAESTROS!N$2:O$2000,2,FALSE))","v":""},{"$f":"IF(I1586=\"\",\"\",VLOOKUP(I1586,MAESTROS!P$2:Q$2000,2,FALSE))","v":""}]
[{"$f":"IF(H1587=\"\",\"\",VLOOKUP(H1587,MAESTROS!N$2:O$2000,2,FALSE))","v":""},{"$f":"IF(I1587=\"\",\"\",VLOOKUP(I1587,MAESTROS!P$2:Q$2000,2,FALSE))","v":""}]
[{"$f":"IF(H1588=\"\",\"\",VLOOKUP(H1588,MAESTROS!N$2:O$2000,2,FALSE))","v":""},{"$f":"IF(I1588=\"\",\"\",VLOOKUP(I1588,MAESTROS!P$2:Q$2000,2,FALSE))","v":""}]
[{"$f":"IF(H1589=\"\",\"\",VLOOKUP(H1589,MAESTROS!N$2:O$2000,2,FALSE))","v":""},{"$f":"IF(I1589=\"\",\"\",VLOOKUP(I1589,MAESTROS!P$2:Q$2000,2,FALSE))","v":""}]
[{"$f":"IF(H1590=\"\",\"\",VLOOKUP(H1590,MAESTROS!N$2:O$2000,2,FALSE))","v":""},{"$f":"IF(I1590=\"\",\"\",VLOOKUP(I1590,MAESTROS!P$2:Q$2000,2,FALSE))","v":""}]
[{"$f":"IF(H1591=\"\",\"\",VLOOKUP(H1591,MAESTROS!N$2:O$2000,2,FALSE))","v":""},{"$f":"IF(I1591=\"\",\"\",VLOOKUP(I1591,MAESTROS!P$2:Q$2000,2,FALSE))","v":""}]
[{"$f":"IF(H1592=\"\",\"\",VLOOKUP(H1592,MAESTROS!N$2:O$2000,2,FALSE))","v":""},{"$f":"IF(I1592=\"\",\"\",VLOOKUP(I1592,MAESTROS!P$2:Q$2000,2,FALSE))","v":""}]
[{"$f":"IF(H1593=\"\",\"\",VLOOKUP(H1593,MAESTROS!N$2:O$2000,2,FALSE))","v":""},{"$f":"IF(I1593=\"\",\"\",VLOOKUP(I1593,MAESTROS!P$2:Q$2000,2,FALSE))","v":""}]
[{"$f":"IF(H1594=\"\",\"\",VLOOKUP(H1594,MAESTROS!N$2:O$2000,2,FALSE))","v":""},{"$f":"IF(I1594=\"\",\"\",VLOOKUP(I1594,MAESTROS!P$2:Q$2000,2,FALSE))","v":""}]
[{"$f":"IF(H1595=\"\",\"\",VLOOKUP(H1595,MAESTROS!N$2:O$2000,2,FALSE))","v":""},{"$f":"IF(I1595=\"\",\"\",VLOOKUP(I1595,MAESTROS!P$2:Q$2000,2,FALSE))","v":""}]
[{"$f":"IF(H1596=\"\",\"\",VLOOKUP(H1596,MAESTROS!N$2:O$2000,2,FALSE))","v":""},{"$f":"IF(I1596=\"\",\"\",VLOOKUP(I1596,MAESTROS!P$2:Q$2000,2,FALSE))","v":""}]
[{"$f":"IF(H1597=\"\",\"\",VLOOKUP(H1597,MAESTROS!N$2:O$2000,2,FALSE))","v":""},{"$f":"IF(I1597=\"\",\"\",VLOOKUP(I1597,MAESTROS!P$2:Q$2000,2,FALSE))","v":""}]
[{"$f":"IF(H1598=\"\",\"\",VLOOKUP(H1598,MAESTROS!N$2:O$2000,2,FALSE))","v":""},{"$f":"IF(I1598=\"\",\"\",VLOOKUP(I1598,MAESTROS!P$2:Q$2000,2,FALSE))","v":""}]
[{"$f":"IF(H1599=\"\",\"\",VLOOKUP(H1599,MAESTROS!N$2:O$2000,2,FALSE))","v":""},{"$f":"IF(I1599=\"\",\"\",VLOOKUP(I1599,MAESTROS!P$2:Q$2000,2,FALSE))","v":""}]
[{"$f":"IF(H1600=\"\",\"\",VLOOKUP(H1600,MAESTROS!N$2:O$2000,2,FALSE))","v":""},{"$f":"IF(I1600=\"\",\"\",VLOOKUP(I1600,MAESTROS!P$2:Q$2000,2,FALSE))","v":""}]
[{"$f":"IF(H1601=\"\",\"\",VLOOKUP(H1601,MAESTROS!N$2:O$2000,2,FALSE))","v":""},{"$f":"IF(I1601=\"\",\"\",VLOOKUP(I1601,MAESTROS!P$2:Q$2000,2,FALSE))","v":""}]
[{"$f":"IF(H1602=\"\",\"\",VLOOKUP(H1602,MAESTROS!N$2:O$2000,2,FALSE))","v":""},{"$f":"IF(I1602=\"\",\"\",VLOOKUP(I1602,MAESTROS!P$2:Q$2000,2,FALSE))","v":""}]
[{"$f":"IF(H1603=\"\",\"\",VLOOKUP(H1603,MAESTROS!N$2:O$2000,2,FALSE))","v":""},{"$f":"IF(I1603=\"\",\"\",VLOOKUP(I1603,MAESTROS!P$2:Q$2000,2,FALSE))","v":""}]
[{"$f":"IF(H1604=\"\",\"\",VLOOKUP(H1604,MAESTROS!N$2:O$2000,2,FALSE))","v":""},{"$f":"IF(I1604=\"\",\"\",VLOOKUP(I1604,MAESTROS!P$2:Q$2000,2,FALSE))","v":""}]
[{"$f":"IF(H1605=\"\",\"\",VLOOKUP(H1605,MAESTROS!N$2:O$2000,2,FALSE))","v":""},{"$f":"IF(I1605=\"\",\"\",VLOOKUP(I1605,MAESTROS!P$2:Q$2000,2,FALSE))","v":""}]
[{"$f":"IF(H1606=\"\",\"\",VLOOKUP(H1606,MAESTROS!N$2:O$2000,2,FALSE))","v":""},{"$f":"IF(I1606=\"\",\"\",VLOOKUP(I1606,MAESTROS!P$2:Q$2000,2,FALSE))","v":""}]
[{"$f":"IF(H1607=\"\",\"\",VLOOKUP(H1607,MAESTROS!N$2:O$2000,2,FALSE))","v":""},{"$f":"IF(I1607=\"\",\"\",VLOOKUP(I1607,MAESTROS!P$2:Q$2000,2,FALSE))","v":""}]
[{"$f":"IF(H1608=\"\",\"\",VLOOKUP(H1608,MAESTROS!N$2:O$2000,2,FALSE))","v":""},{"$f":"IF(I1608=\"\",\"\",VLOOKUP(I1608,MAESTROS!P$2:Q$2000,2,FALSE))","v":""}]
[{"$f":"IF(H1609=\"\",\"\",VLOOKUP(H1609,MAESTROS!N$2:O$2000,2,FALSE))","v":""},{"$f":"IF(I1609=\"\",\"\",VLOOKUP(I1609,MAESTROS!P$2:Q$2000,2,FALSE))","v":""}]
[{"$f":"IF(H1610=\"\",\"\",VLOOKUP(H1610,MAESTROS!N$2:O$2000,2,FALSE))","v":""},{"$f":"IF(I1610=\"\",\"\",VLOOKUP(I1610,MAESTROS!P$2:Q$2000,2,FALSE))","v":""}]
[{"$f":"IF(H1611=\"\",\"\",VLOOKUP(H1611,MAESTROS!N$2:O$2000,2,FALSE))","v":""},{"$f":"IF(I1611=\"\",\"\",VLOOKUP(I1611,MAESTROS!P$2:Q$2000,2,FALSE))","v":""}]
[{"$f":"IF(H1612=\"\",\"\",VLOOKUP(H1612,MAESTROS!N$2:O$2000,2,FALSE))","v":""},{"$f":"IF(I1612=\"\",\"\",VLOOKUP(I1612,MAESTROS!P$2:Q$2000,2,FALSE))","v":""}]
[{"$f":"IF(H1613=\"\",\"\",VLOOKUP(H1613,MAESTROS!N$2:O$2000,2,FALSE))","v":""},{"$f":"IF(I1613=\"\",\"\",VLOOKUP(I1613,MAESTROS!P$2:Q$2000,2,FALSE))","v":""}]
[{"$f":"IF(H1614=\"\",\"\",VLOOKUP(H1614,MAESTROS!N$2:O$2000,2,FALSE))","v":""},{"$f":"IF(I1614=\"\",\"\",VLOOKUP(I1614,MAESTROS!P$2:Q$2000,2,FALSE))","v":""}]
[{"$f":"IF(H1615=\"\",\"\",VLOOKUP(H1615,MAESTROS!N$2:O$2000,2,FALSE))","v":""},{"$f":"IF(I1615=\"\",\"\",VLOOKUP(I1615,MAESTROS!P$2:Q$2000,2,FALSE))","v":""}]
[{"$f":"IF(H1616=\"\",\"\",VLOOKUP(H1616,MAESTROS!N$2:O$2000,2,FALSE))","v":""},{"$f":"IF(I1616=\"\",\"\",VLOOKUP(I1616,MAESTROS!P$2:Q$2000,2,FALSE))","v":""}]
[{"$f":"IF(H1617=\"\",\"\",VLOOKUP(H1617,MAESTROS!N$2:O$2000,2,FALSE))","v":""},{"$f":"IF(I1617=\"\",\"\",VLOOKUP(I1617,MAESTROS!P$2:Q$2000,2,FALSE))","v":""}]
[{"$f":"IF(H1618=\"\",\"\",VLOOKUP(H1618,MAESTROS!N$2:O$2000,2,FALSE))","v":""},{"$f":"IF(I1618=\"\",\"\",VLOOKUP(I1618,MAESTROS!P$2:Q$2000,2,FALSE))","v":""}]
[{"$f":"IF(H1619=\"\",\"\",VLOOKUP(H1619,MAESTROS!N$2:O$2000,2,FALSE))","v":""},{"$f":"IF(I1619=\"\",\"\",VLOOKUP(I1619,MAESTROS!P$2:Q$2000,2,FALSE))","v":""}]
[{"$f":"IF(H1620=\"\",\"\",VLOOKUP(H1620,MAESTROS!N$2:O$2000,2,FALSE))","v":""},{"$f":"IF(I1620=\"\",\"\",VLOOKUP(I1620,MAESTROS!P$2:Q$2000,2,FALSE))","v":""}]
[{"$f":"IF(H1621=\"\",\"\",VLOOKUP(H1621,MAESTROS!N$2:O$2000,2,FALSE))","v":""},{"$f":"IF(I1621=\"\",\"\",VLOOKUP(I1621,MAESTROS!P$2:Q$2000,2,FALSE))","v":""}]
[{"$f":"IF(H1622=\"\",\"\",VLOOKUP(H1622,MAESTROS!N$2:O$2000,2,FALSE))","v":""},{"$f":"IF(I1622=\"\",\"\",VLOOKUP(I1622,MAESTROS!P$2:Q$2000,2,FALSE))","v":""}]
[{"$f":"IF(H1623=\"\",\"\",VLOOKUP(H1623,MAESTROS!N$2:O$2000,2,FALSE))","v":""},{"$f":"IF(I1623=\"\",\"\",VLOOKUP(I1623,MAESTROS!P$2:Q$2000,2,FALSE))","v":""}]
[{"$f":"IF(H1624=\"\",\"\",VLOOKUP(H1624,MAESTROS!N$2:O$2000,2,FALSE))","v":""},{"$f":"IF(I1624=\"\",\"\",VLOOKUP(I1624,MAESTROS!P$2:Q$2000,2,FALSE))","v":""}]
[{"$f":"IF(H1625=\"\",\"\",VLOOKUP(H1625,MAESTROS!N$2:O$2000,2,FALSE))","v":""},{"$f":"IF(I1625=\"\",\"\",VLOOKUP(I1625,MAESTROS!P$2:Q$2000,2,FALSE))","v":""}]
[{"$f":"IF(H1626=\"\",\"\",VLOOKUP(H1626,MAESTROS!N$2:O$2000,2,FALSE))","v":""},{"$f":"IF(I1626=\"\",\"\",VLOOKUP(I1626,MAESTROS!P$2:Q$2000,2,FALSE))","v":""}]
[{"$f":"IF(H1627=\"\",\"\",VLOOKUP(H1627,MAESTROS!N$2:O$2000,2,FALSE))","v":""},{"$f":"IF(I1627=\"\",\"\",VLOOKUP(I1627,MAESTROS!P$2:Q$2000,2,FALSE))","v":""}]
[{"$f":"IF(H1628=\"\",\"\",VLOOKUP(H1628,MAESTROS!N$2:O$2000,2,FALSE))","v":""},{"$f":"IF(I1628=\"\",\"\",VLOOKUP(I1628,MAESTROS!P$2:Q$2000,2,FALSE))","v":""}]
[{"$f":"IF(H1629=\"\",\"\",VLOOKUP(H1629,MAESTROS!N$2:O$2000,2,FALSE))","v":""},{"$f":"IF(I1629=\"\",\"\",VLOOKUP(I1629,MAESTROS!P$2:Q$2000,2,FALSE))","v":""}]
[{"$f":"IF(H1630=\"\",\"\",VLOOKUP(H1630,MAESTROS!N$2:O$2000,2,FALSE))","v":""},{"$f":"IF(I1630=\"\",\"\",VLOOKUP(I1630,MAESTROS!P$2:Q$2000,2,FALSE))","v":""}]
[{"$f":"IF(H1631=\"\",\"\",VLOOKUP(H1631,MAESTROS!N$2:O$2000,2,FALSE))","v":""},{"$f":"IF(I1631=\"\",\"\",VLOOKUP(I1631,MAESTROS!P$2:Q$2000,2,FALSE))","v":""}]
[{"$f":"IF(H1632=\"\",\"\",VLOOKUP(H1632,MAESTROS!N$2:O$2000,2,FALSE))","v":""},{"$f":"IF(I1632=\"\",\"\",VLOOKUP(I1632,MAESTROS!P$2:Q$2000,2,FALSE))","v":""}]
[{"$f":"IF(H1633=\"\",\"\",VLOOKUP(H1633,MAESTROS!N$2:O$2000,2,FALSE))","v":""},{"$f":"IF(I1633=\"\",\"\",VLOOKUP(I1633,MAESTROS!P$2:Q$2000,2,FALSE))","v":""}]
[{"$f":"IF(H1634=\"\",\"\",VLOOKUP(H1634,MAESTROS!N$2:O$2000,2,FALSE))","v":""},{"$f":"IF(I1634=\"\",\"\",VLOOKUP(I1634,MAESTROS!P$2:Q$2000,2,FALSE))","v":""}]
[{"$f":"IF(H1635=\"\",\"\",VLOOKUP(H1635,MAESTROS!N$2:O$2000,2,FALSE))","v":""},{"$f":"IF(I1635=\"\",\"\",VLOOKUP(I1635,MAESTROS!P$2:Q$2000,2,FALSE))","v":""}]
[{"$f":"IF(H1636=\"\",\"\",VLOOKUP(H1636,MAESTROS!N$2:O$2000,2,FALSE))","v":""},{"$f":"IF(I1636=\"\",\"\",VLOOKUP(I1636,MAESTROS!P$2:Q$2000,2,FALSE))","v":""}]
[{"$f":"IF(H1637=\"\",\"\",VLOOKUP(H1637,MAESTROS!N$2:O$2000,2,FALSE))","v":""},{"$f":"IF(I1637=\"\",\"\",VLOOKUP(I1637,MAESTROS!P$2:Q$2000,2,FALSE))","v":""}]
[{"$f":"IF(H1638=\"\",\"\",VLOOKUP(H1638,MAESTROS!N$2:O$2000,2,FALSE))","v":""},{"$f":"IF(I1638=\"\",\"\",VLOOKUP(I1638,MAESTROS!P$2:Q$2000,2,FALSE))","v":""}]
[{"$f":"IF(H1639=\"\",\"\",VLOOKUP(H1639,MAESTROS!N$2:O$2000,2,FALSE))","v":""},{"$f":"IF(I1639=\"\",\"\",VLOOKUP(I1639,MAESTROS!P$2:Q$2000,2,FALSE))","v":""}]
[{"$f":"IF(H1640=\"\",\"\",VLOOKUP(H1640,MAESTROS!N$2:O$2000,2,FALSE))","v":""},{"$f":"IF(I1640=\"\",\"\",VLOOKUP(I1640,MAESTROS!P$2:Q$2000,2,FALSE))","v":""}]
[{"$f":"IF(H1641=\"\",\"\",VLOOKUP(H1641,MAESTROS!N$2:O$2000,2,FALSE))","v":""},{"$f":"IF(I1641=\"\",\"\",VLOOKUP(I1641,MAESTROS!P$2:Q$2000,2,FALSE))","v":""}]
[{"$f":"IF(H1642=\"\",\"\",VLOOKUP(H1642,MAESTROS!N$2:O$2000,2,FALSE))","v":""},{"$f":"IF(I1642=\"\",\"\",VLOOKUP(I1642,MAESTROS!P$2:Q$2000,2,FALSE))","v":""}]
[{"$f":"IF(H1643=\"\",\"\",VLOOKUP(H1643,MAESTROS!N$2:O$2000,2,FALSE))","v":""},{"$f":"IF(I1643=\"\",\"\",VLOOKUP(I1643,MAESTROS!P$2:Q$2000,2,FALSE))","v":""}]
[{"$f":"IF(H1644=\"\",\"\",VLOOKUP(H1644,MAESTROS!N$2:O$2000,2,FALSE))","v":""},{"$f":"IF(I1644=\"\",\"\",VLOOKUP(I1644,MAESTROS!P$2:Q$2000,2,FALSE))","v":""}]
[{"$f":"IF(H1645=\"\",\"\",VLOOKUP(H1645,MAESTROS!N$2:O$2000,2,FALSE))","v":""},{"$f":"IF(I1645=\"\",\"\",VLOOKUP(I1645,MAESTROS!P$2:Q$2000,2,FALSE))","v":""}]
[{"$f":"IF(H1646=\"\",\"\",VLOOKUP(H1646,MAESTROS!N$2:O$2000,2,FALSE))","v":""},{"$f":"IF(I1646=\"\",\"\",VLOOKUP(I1646,MAESTROS!P$2:Q$2000,2,FALSE))","v":""}]
[{"$f":"IF(H1647=\"\",\"\",VLOOKUP(H1647,MAESTROS!N$2:O$2000,2,FALSE))","v":""},{"$f":"IF(I1647=\"\",\"\",VLOOKUP(I1647,MAESTROS!P$2:Q$2000,2,FALSE))","v":""}]
[{"$f":"IF(H1648=\"\",\"\",VLOOKUP(H1648,MAESTROS!N$2:O$2000,2,FALSE))","v":""},{"$f":"IF(I1648=\"\",\"\",VLOOKUP(I1648,MAESTROS!P$2:Q$2000,2,FALSE))","v":""}]
[{"$f":"IF(H1649=\"\",\"\",VLOOKUP(H1649,MAESTROS!N$2:O$2000,2,FALSE))","v":""},{"$f":"IF(I1649=\"\",\"\",VLOOKUP(I1649,MAESTROS!P$2:Q$2000,2,FALSE))","v":""}]
[{"$f":"IF(H1650=\"\",\"\",VLOOKUP(H1650,MAESTROS!N$2:O$2000,2,FALSE))","v":""},{"$f":"IF(I1650=\"\",\"\",VLOOKUP(I1650,MAESTROS!P$2:Q$2000,2,FALSE))","v":""}]
[{"$f":"IF(H1651=\"\",\"\",VLOOKUP(H1651,MAESTROS!N$2:O$2000,2,FALSE))","v":""},{"$f":"IF(I1651=\"\",\"\",VLOOKUP(I1651,MAESTROS!P$2:Q$2000,2,FALSE))","v":""}]
[{"$f":"IF(H1652=\"\",\"\",VLOOKUP(H1652,MAESTROS!N$2:O$2000,2,FALSE))","v":""},{"$f":"IF(I1652=\"\",\"\",VLOOKUP(I1652,MAESTROS!P$2:Q$2000,2,FALSE))","v":""}]
[{"$f":"IF(H1653=\"\",\"\",VLOOKUP(H1653,MAESTROS!N$2:O$2000,2,FALSE))","v":""},{"$f":"IF(I1653=\"\",\"\",VLOOKUP(I1653,MAESTROS!P$2:Q$2000,2,FALSE))","v":""}]
[{"$f":"IF(H1654=\"\",\"\",VLOOKUP(H1654,MAESTROS!N$2:O$2000,2,FALSE))","v":""},{"$f":"IF(I1654=\"\",\"\",VLOOKUP(I1654,MAESTROS!P$2:Q$2000,2,FALSE))","v":""}]
[{"$f":"IF(H1655=\"\",\"\",VLOOKUP(H1655,MAESTROS!N$2:O$2000,2,FALSE))","v":""},{"$f":"IF(I1655=\"\",\"\",VLOOKUP(I1655,MAESTROS!P$2:Q$2000,2,FALSE))","v":""}]
[{"$f":"IF(H1656=\"\",\"\",VLOOKUP(H1656,MAESTROS!N$2:O$2000,2,FALSE))","v":""},{"$f":"IF(I1656=\"\",\"\",VLOOKUP(I1656,MAESTROS!P$2:Q$2000,2,FALSE))","v":""}]
[{"$f":"IF(H1657=\"\",\"\",VLOOKUP(H1657,MAESTROS!N$2:O$2000,2,FALSE))","v":""},{"$f":"IF(I1657=\"\",\"\",VLOOKUP(I1657,MAESTROS!P$2:Q$2000,2,FALSE))","v":""}]
[{"$f":"IF(H1658=\"\",\"\",VLOOKUP(H1658,MAESTROS!N$2:O$2000,2,FALSE))","v":""},{"$f":"IF(I1658=\"\",\"\",VLOOKUP(I1658,MAESTROS!P$2:Q$2000,2,FALSE))","v":""}]
[{"$f":"IF(H1659=\"\",\"\",VLOOKUP(H1659,MAESTROS!N$2:O$2000,2,FALSE))","v":""},{"$f":"IF(I1659=\"\",\"\",VLOOKUP(I1659,MAESTROS!P$2:Q$2000,2,FALSE))","v":""}]
[{"$f":"IF(H1660=\"\",\"\",VLOOKUP(H1660,MAESTROS!N$2:O$2000,2,FALSE))","v":""},{"$f":"IF(I1660=\"\",\"\",VLOOKUP(I1660,MAESTROS!P$2:Q$2000,2,FALSE))","v":""}]
[{"$f":"IF(H1661=\"\",\"\",VLOOKUP(H1661,MAESTROS!N$2:O$2000,2,FALSE))","v":""},{"$f":"IF(I1661=\"\",\"\",VLOOKUP(I1661,MAESTROS!P$2:Q$2000,2,FALSE))","v":""}]
[{"$f":"IF(H1662=\"\",\"\",VLOOKUP(H1662,MAESTROS!N$2:O$2000,2,FALSE))","v":""},{"$f":"IF(I1662=\"\",\"\",VLOOKUP(I1662,MAESTROS!P$2:Q$2000,2,FALSE))","v":""}]
[{"$f":"IF(H1663=\"\",\"\",VLOOKUP(H1663,MAESTROS!N$2:O$2000,2,FALSE))","v":""},{"$f":"IF(I1663=\"\",\"\",VLOOKUP(I1663,MAESTROS!P$2:Q$2000,2,FALSE))","v":""}]
[{"$f":"IF(H1664=\"\",\"\",VLOOKUP(H1664,MAESTROS!N$2:O$2000,2,FALSE))","v":""},{"$f":"IF(I1664=\"\",\"\",VLOOKUP(I1664,MAESTROS!P$2:Q$2000,2,FALSE))","v":""}]
[{"$f":"IF(H1665=\"\",\"\",VLOOKUP(H1665,MAESTROS!N$2:O$2000,2,FALSE))","v":""},{"$f":"IF(I1665=\"\",\"\",VLOOKUP(I1665,MAESTROS!P$2:Q$2000,2,FALSE))","v":""}]
[{"$f":"IF(H1666=\"\",\"\",VLOOKUP(H1666,MAESTROS!N$2:O$2000,2,FALSE))","v":""},{"$f":"IF(I1666=\"\",\"\",VLOOKUP(I1666,MAESTROS!P$2:Q$2000,2,FALSE))","v":""}]
[{"$f":"IF(H1667=\"\",\"\",VLOOKUP(H1667,MAESTROS!N$2:O$2000,2,FALSE))","v":""},{"$f":"IF(I1667=\"\",\"\",VLOOKUP(I1667,MAESTROS!P$2:Q$2000,2,FALSE))","v":""}]
[{"$f":"IF(H1668=\"\",\"\",VLOOKUP(H1668,MAESTROS!N$2:O$2000,2,FALSE))","v":""},{"$f":"IF(I1668=\"\",\"\",VLOOKUP(I1668,MAESTROS!P$2:Q$2000,2,FALSE))","v":""}]
[{"$f":"IF(H1669=\"\",\"\",VLOOKUP(H1669,MAESTROS!N$2:O$2000,2,FALSE))","v":""},{"$f":"IF(I1669=\"\",\"\",VLOOKUP(I1669,MAESTROS!P$2:Q$2000,2,FALSE))","v":""}]
[{"$f":"IF(H1670=\"\",\"\",VLOOKUP(H1670,MAESTROS!N$2:O$2000,2,FALSE))","v":""},{"$f":"IF(I1670=\"\",\"\",VLOOKUP(I1670,MAESTROS!P$2:Q$2000,2,FALSE))","v":""}]
[{"$f":"IF(H1671=\"\",\"\",VLOOKUP(H1671,MAESTROS!N$2:O$2000,2,FALSE))","v":""},{"$f":"IF(I1671=\"\",\"\",VLOOKUP(I1671,MAESTROS!P$2:Q$2000,2,FALSE))","v":""}]
[{"$f":"IF(H1672=\"\",\"\",VLOOKUP(H1672,MAESTROS!N$2:O$2000,2,FALSE))","v":""},{"$f":"IF(I1672=\"\",\"\",VLOOKUP(I1672,MAESTROS!P$2:Q$2000,2,FALSE))","v":""}]
[{"$f":"IF(H1673=\"\",\"\",VLOOKUP(H1673,MAESTROS!N$2:O$2000,2,FALSE))","v":""},{"$f":"IF(I1673=\"\",\"\",VLOOKUP(I1673,MAESTROS!P$2:Q$2000,2,FALSE))","v":""}]
[{"$f":"IF(H1674=\"\",\"\",VLOOKUP(H1674,MAESTROS!N$2:O$2000,2,FALSE))","v":""},{"$f":"IF(I1674=\"\",\"\",VLOOKUP(I1674,MAESTROS!P$2:Q$2000,2,FALSE))","v":""}]
[{"$f":"IF(H1675=\"\",\"\",VLOOKUP(H1675,MAESTROS!N$2:O$2000,2,FALSE))","v":""},{"$f":"IF(I1675=\"\",\"\",VLOOKUP(I1675,MAESTROS!P$2:Q$2000,2,FALSE))","v":""}]
[{"$f":"IF(H1676=\"\",\"\",VLOOKUP(H1676,MAESTROS!N$2:O$2000,2,FALSE))","v":""},{"$f":"IF(I1676=\"\",\"\",VLOOKUP(I1676,MAESTROS!P$2:Q$2000,2,FALSE))","v":""}]
[{"$f":"IF(H1677=\"\",\"\",VLOOKUP(H1677,MAESTROS!N$2:O$2000,2,FALSE))","v":""},{"$f":"IF(I1677=\"\",\"\",VLOOKUP(I1677,MAESTROS!P$2:Q$2000,2,FALSE))","v":""}]
[{"$f":"IF(H1678=\"\",\"\",VLOOKUP(H1678,MAESTROS!N$2:O$2000,2,FALSE))","v":""},{"$f":"IF(I1678=\"\",\"\",VLOOKUP(I1678,MAESTROS!P$2:Q$2000,2,FALSE))","v":""}]
[{"$f":"IF(H1679=\"\",\"\",VLOOKUP(H1679,MAESTROS!N$2:O$2000,2,FALSE))","v":""},{"$f":"IF(I1679=\"\",\"\",VLOOKUP(I1679,MAESTROS!P$2:Q$2000,2,FALSE))","v":""}]
[{"$f":"IF(H1680=\"\",\"\",VLOOKUP(H1680,MAESTROS!N$2:O$2000,2,FALSE))","v":""},{"$f":"IF(I1680=\"\",\"\",VLOOKUP(I1680,MAESTROS!P$2:Q$2000,2,FALSE))","v":""}]
[{"$f":"IF(H1681=\"\",\"\",VLOOKUP(H1681,MAESTROS!N$2:O$2000,2,FALSE))","v":""},{"$f":"IF(I1681=\"\",\"\",VLOOKUP(I1681,MAESTROS!P$2:Q$2000,2,FALSE))","v":""}]
[{"$f":"IF(H1682=\"\",\"\",VLOOKUP(H1682,MAESTROS!N$2:O$2000,2,FALSE))","v":""},{"$f":"IF(I1682=\"\",\"\",VLOOKUP(I1682,MAESTROS!P$2:Q$2000,2,FALSE))","v":""}]
[{"$f":"IF(H1683=\"\",\"\",VLOOKUP(H1683,MAESTROS!N$2:O$2000,2,FALSE))","v":""},{"$f":"IF(I1683=\"\",\"\",VLOOKUP(I1683,MAESTROS!P$2:Q$2000,2,FALSE))","v":""}]
[{"$f":"IF(H1684=\"\",\"\",VLOOKUP(H1684,MAESTROS!N$2:O$2000,2,FALSE))","v":""},{"$f":"IF(I1684=\"\",\"\",VLOOKUP(I1684,MAESTROS!P$2:Q$2000,2,FALSE))","v":""}]
[{"$f":"IF(H1685=\"\",\"\",VLOOKUP(H1685,MAESTROS!N$2:O$2000,2,FALSE))","v":""},{"$f":"IF(I1685=\"\",\"\",VLOOKUP(I1685,MAESTROS!P$2:Q$2000,2,FALSE))","v":""}]
[{"$f":"IF(H1686=\"\",\"\",VLOOKUP(H1686,MAESTROS!N$2:O$2000,2,FALSE))","v":""},{"$f":"IF(I1686=\"\",\"\",VLOOKUP(I1686,MAESTROS!P$2:Q$2000,2,FALSE))","v":""}]
[{"$f":"IF(H1687=\"\",\"\",VLOOKUP(H1687,MAESTROS!N$2:O$2000,2,FALSE))","v":""},{"$f":"IF(I1687=\"\",\"\",VLOOKUP(I1687,MAESTROS!P$2:Q$2000,2,FALSE))","v":""}]
[{"$f":"IF(H1688=\"\",\"\",VLOOKUP(H1688,MAESTROS!N$2:O$2000,2,FALSE))","v":""},{"$f":"IF(I1688=\"\",\"\",VLOOKUP(I1688,MAESTROS!P$2:Q$2000,2,FALSE))","v":""}]
[{"$f":"IF(H1689=\"\",\"\",VLOOKUP(H1689,MAESTROS!N$2:O$2000,2,FALSE))","v":""},{"$f":"IF(I1689=\"\",\"\",VLOOKUP(I1689,MAESTROS!P$2:Q$2000,2,FALSE))","v":""}]
[{"$f":"IF(H1690=\"\",\"\",VLOOKUP(H1690,MAESTROS!N$2:O$2000,2,FALSE))","v":""},{"$f":"IF(I1690=\"\",\"\",VLOOKUP(I1690,MAESTROS!P$2:Q$2000,2,FALSE))","v":""}]
[{"$f":"IF(H1691=\"\",\"\",VLOOKUP(H1691,MAESTROS!N$2:O$2000,2,FALSE))","v":""},{"$f":"IF(I1691=\"\",\"\",VLOOKUP(I1691,MAESTROS!P$2:Q$2000,2,FALSE))","v":""}]
[{"$f":"IF(H1692=\"\",\"\",VLOOKUP(H1692,MAESTROS!N$2:O$2000,2,FALSE))","v":""},{"$f":"IF(I1692=\"\",\"\",VLOOKUP(I1692,MAESTROS!P$2:Q$2000,2,FALSE))","v":""}]
[{"$f":"IF(H1693=\"\",\"\",VLOOKUP(H1693,MAESTROS!N$2:O$2000,2,FALSE))","v":""},{"$f":"IF(I1693=\"\",\"\",VLOOKUP(I1693,MAESTROS!P$2:Q$2000,2,FALSE))","v":""}]
[{"$f":"IF(H1694=\"\",\"\",VLOOKUP(H1694,MAESTROS!N$2:O$2000,2,FALSE))","v":""},{"$f":"IF(I1694=\"\",\"\",VLOOKUP(I1694,MAESTROS!P$2:Q$2000,2,FALSE))","v":""}]
[{"$f":"IF(H1695=\"\",\"\",VLOOKUP(H1695,MAESTROS!N$2:O$2000,2,FALSE))","v":""},{"$f":"IF(I1695=\"\",\"\",VLOOKUP(I1695,MAESTROS!P$2:Q$2000,2,FALSE))","v":""}]
[{"$f":"IF(H1696=\"\",\"\",VLOOKUP(H1696,MAESTROS!N$2:O$2000,2,FALSE))","v":""},{"$f":"IF(I1696=\"\",\"\",VLOOKUP(I1696,MAESTROS!P$2:Q$2000,2,FALSE))","v":""}]
[{"$f":"IF(H1697=\"\",\"\",VLOOKUP(H1697,MAESTROS!N$2:O$2000,2,FALSE))","v":""},{"$f":"IF(I1697=\"\",\"\",VLOOKUP(I1697,MAESTROS!P$2:Q$2000,2,FALSE))","v":""}]
[{"$f":"IF(H1698=\"\",\"\",VLOOKUP(H1698,MAESTROS!N$2:O$2000,2,FALSE))","v":""},{"$f":"IF(I1698=\"\",\"\",VLOOKUP(I1698,MAESTROS!P$2:Q$2000,2,FALSE))","v":""}]
[{"$f":"IF(H1699=\"\",\"\",VLOOKUP(H1699,MAESTROS!N$2:O$2000,2,FALSE))","v":""},{"$f":"IF(I1699=\"\",\"\",VLOOKUP(I1699,MAESTROS!P$2:Q$2000,2,FALSE))","v":""}]
[{"$f":"IF(H1700=\"\",\"\",VLOOKUP(H1700,MAESTROS!N$2:O$2000,2,FALSE))","v":""},{"$f":"IF(I1700=\"\",\"\",VLOOKUP(I1700,MAESTROS!P$2:Q$2000,2,FALSE))","v":""}]
[{"$f":"IF(H1701=\"\",\"\",VLOOKUP(H1701,MAESTROS!N$2:O$2000,2,FALSE))","v":""},{"$f":"IF(I1701=\"\",\"\",VLOOKUP(I1701,MAESTROS!P$2:Q$2000,2,FALSE))","v":""}]
[{"$f":"IF(H1702=\"\",\"\",VLOOKUP(H1702,MAESTROS!N$2:O$2000,2,FALSE))","v":""},{"$f":"IF(I1702=\"\",\"\",VLOOKUP(I1702,MAESTROS!P$2:Q$2000,2,FALSE))","v":""}]
[{"$f":"IF(H1703=\"\",\"\",VLOOKUP(H1703,MAESTROS!N$2:O$2000,2,FALSE))","v":""},{"$f":"IF(I1703=\"\",\"\",VLOOKUP(I1703,MAESTROS!P$2:Q$2000,2,FALSE))","v":""}]
[{"$f":"IF(H1704=\"\",\"\",VLOOKUP(H1704,MAESTROS!N$2:O$2000,2,FALSE))","v":""},{"$f":"IF(I1704=\"\",\"\",VLOOKUP(I1704,MAESTROS!P$2:Q$2000,2,FALSE))","v":""}]
[{"$f":"IF(H1705=\"\",\"\",VLOOKUP(H1705,MAESTROS!N$2:O$2000,2,FALSE))","v":""},{"$f":"IF(I1705=\"\",\"\",VLOOKUP(I1705,MAESTROS!P$2:Q$2000,2,FALSE))","v":""}]
[{"$f":"IF(H1706=\"\",\"\",VLOOKUP(H1706,MAESTROS!N$2:O$2000,2,FALSE))","v":""},{"$f":"IF(I1706=\"\",\"\",VLOOKUP(I1706,MAESTROS!P$2:Q$2000,2,FALSE))","v":""}]
[{"$f":"IF(H1707=\"\",\"\",VLOOKUP(H1707,MAESTROS!N$2:O$2000,2,FALSE))","v":""},{"$f":"IF(I1707=\"\",\"\",VLOOKUP(I1707,MAESTROS!P$2:Q$2000,2,FALSE))","v":""}]
[{"$f":"IF(H1708=\"\",\"\",VLOOKUP(H1708,MAESTROS!N$2:O$2000,2,FALSE))","v":""},{"$f":"IF(I1708=\"\",\"\",VLOOKUP(I1708,MAESTROS!P$2:Q$2000,2,FALSE))","v":""}]
[{"$f":"IF(H1709=\"\",\"\",VLOOKUP(H1709,MAESTROS!N$2:O$2000,2,FALSE))","v":""},{"$f":"IF(I1709=\"\",\"\",VLOOKUP(I1709,MAESTROS!P$2:Q$2000,2,FALSE))","v":""}]
[{"$f":"IF(H1710=\"\",\"\",VLOOKUP(H1710,MAESTROS!N$2:O$2000,2,FALSE))","v":""},{"$f":"IF(I1710=\"\",\"\",VLOOKUP(I1710,MAESTROS!P$2:Q$2000,2,FALSE))","v":""}]
[{"$f":"IF(H1711=\"\",\"\",VLOOKUP(H1711,MAESTROS!N$2:O$2000,2,FALSE))","v":""},{"$f":"IF(I1711=\"\",\"\",VLOOKUP(I1711,MAESTROS!P$2:Q$2000,2,FALSE))","v":""}]
[{"$f":"IF(H1712=\"\",\"\",VLOOKUP(H1712,MAESTROS!N$2:O$2000,2,FALSE))","v":""},{"$f":"IF(I1712=\"\",\"\",VLOOKUP(I1712,MAESTROS!P$2:Q$2000,2,FALSE))","v":""}]
[{"$f":"IF(H1713=\"\",\"\",VLOOKUP(H1713,MAESTROS!N$2:O$2000,2,FALSE))","v":""},{"$f":"IF(I1713=\"\",\"\",VLOOKUP(I1713,MAESTROS!P$2:Q$2000,2,FALSE))","v":""}]
[{"$f":"IF(H1714=\"\",\"\",VLOOKUP(H1714,MAESTROS!N$2:O$2000,2,FALSE))","v":""},{"$f":"IF(I1714=\"\",\"\",VLOOKUP(I1714,MAESTROS!P$2:Q$2000,2,FALSE))","v":""}]
[{"$f":"IF(H1715=\"\",\"\",VLOOKUP(H1715,MAESTROS!N$2:O$2000,2,FALSE))","v":""},{"$f":"IF(I1715=\"\",\"\",VLOOKUP(I1715,MAESTROS!P$2:Q$2000,2,FALSE))","v":""}]
[{"$f":"IF(H1716=\"\",\"\",VLOOKUP(H1716,MAESTROS!N$2:O$2000,2,FALSE))","v":""},{"$f":"IF(I1716=\"\",\"\",VLOOKUP(I1716,MAESTROS!P$2:Q$2000,2,FALSE))","v":""}]
[{"$f":"IF(H1717=\"\",\"\",VLOOKUP(H1717,MAESTROS!N$2:O$2000,2,FALSE))","v":""},{"$f":"IF(I1717=\"\",\"\",VLOOKUP(I1717,MAESTROS!P$2:Q$2000,2,FALSE))","v":""}]
[{"$f":"IF(H1718=\"\",\"\",VLOOKUP(H1718,MAESTROS!N$2:O$2000,2,FALSE))","v":""},{"$f":"IF(I1718=\"\",\"\",VLOOKUP(I1718,MAESTROS!P$2:Q$2000,2,FALSE))","v":""}]
[{"$f":"IF(H1719=\"\",\"\",VLOOKUP(H1719,MAESTROS!N$2:O$2000,2,FALSE))","v":""},{"$f":"IF(I1719=\"\",\"\",VLOOKUP(I1719,MAESTROS!P$2:Q$2000,2,FALSE))","v":""}]
[{"$f":"IF(H1720=\"\",\"\",VLOOKUP(H1720,MAESTROS!N$2:O$2000,2,FALSE))","v":""},{"$f":"IF(I1720=\"\",\"\",VLOOKUP(I1720,MAESTROS!P$2:Q$2000,2,FALSE))","v":""}]
[{"$f":"IF(H1721=\"\",\"\",VLOOKUP(H1721,MAESTROS!N$2:O$2000,2,FALSE))","v":""},{"$f":"IF(I1721=\"\",\"\",VLOOKUP(I1721,MAESTROS!P$2:Q$2000,2,FALSE))","v":""}]
[{"$f":"IF(H1722=\"\",\"\",VLOOKUP(H1722,MAESTROS!N$2:O$2000,2,FALSE))","v":""},{"$f":"IF(I1722=\"\",\"\",VLOOKUP(I1722,MAESTROS!P$2:Q$2000,2,FALSE))","v":""}]
[{"$f":"IF(H1723=\"\",\"\",VLOOKUP(H1723,MAESTROS!N$2:O$2000,2,FALSE))","v":""},{"$f":"IF(I1723=\"\",\"\",VLOOKUP(I1723,MAESTROS!P$2:Q$2000,2,FALSE))","v":""}]
[{"$f":"IF(H1724=\"\",\"\",VLOOKUP(H1724,MAESTROS!N$2:O$2000,2,FALSE))","v":""},{"$f":"IF(I1724=\"\",\"\",VLOOKUP(I1724,MAESTROS!P$2:Q$2000,2,FALSE))","v":""}]
[{"$f":"IF(H1725=\"\",\"\",VLOOKUP(H1725,MAESTROS!N$2:O$2000,2,FALSE))","v":""},{"$f":"IF(I1725=\"\",\"\",VLOOKUP(I1725,MAESTROS!P$2:Q$2000,2,FALSE))","v":""}]
[{"$f":"IF(H1726=\"\",\"\",VLOOKUP(H1726,MAESTROS!N$2:O$2000,2,FALSE))","v":""},{"$f":"IF(I1726=\"\",\"\",VLOOKUP(I1726,MAESTROS!P$2:Q$2000,2,FALSE))","v":""}]
[{"$f":"IF(H1727=\"\",\"\",VLOOKUP(H1727,MAESTROS!N$2:O$2000,2,FALSE))","v":""},{"$f":"IF(I1727=\"\",\"\",VLOOKUP(I1727,MAESTROS!P$2:Q$2000,2,FALSE))","v":""}]
[{"$f":"IF(H1728=\"\",\"\",VLOOKUP(H1728,MAESTROS!N$2:O$2000,2,FALSE))","v":""},{"$f":"IF(I1728=\"\",\"\",VLOOKUP(I1728,MAESTROS!P$2:Q$2000,2,FALSE))","v":""}]
[{"$f":"IF(H1729=\"\",\"\",VLOOKUP(H1729,MAESTROS!N$2:O$2000,2,FALSE))","v":""},{"$f":"IF(I1729=\"\",\"\",VLOOKUP(I1729,MAESTROS!P$2:Q$2000,2,FALSE))","v":""}]
[{"$f":"IF(H1730=\"\",\"\",VLOOKUP(H1730,MAESTROS!N$2:O$2000,2,FALSE))","v":""},{"$f":"IF(I1730=\"\",\"\",VLOOKUP(I1730,MAESTROS!P$2:Q$2000,2,FALSE))","v":""}]
[{"$f":"IF(H1731=\"\",\"\",VLOOKUP(H1731,MAESTROS!N$2:O$2000,2,FALSE))","v":""},{"$f":"IF(I1731=\"\",\"\",VLOOKUP(I1731,MAESTROS!P$2:Q$2000,2,FALSE))","v":""}]
[{"$f":"IF(H1732=\"\",\"\",VLOOKUP(H1732,MAESTROS!N$2:O$2000,2,FALSE))","v":""},{"$f":"IF(I1732=\"\",\"\",VLOOKUP(I1732,MAESTROS!P$2:Q$2000,2,FALSE))","v":""}]
[{"$f":"IF(H1733=\"\",\"\",VLOOKUP(H1733,MAESTROS!N$2:O$2000,2,FALSE))","v":""},{"$f":"IF(I1733=\"\",\"\",VLOOKUP(I1733,MAESTROS!P$2:Q$2000,2,FALSE))","v":""}]
[{"$f":"IF(H1734=\"\",\"\",VLOOKUP(H1734,MAESTROS!N$2:O$2000,2,FALSE))","v":""},{"$f":"IF(I1734=\"\",\"\",VLOOKUP(I1734,MAESTROS!P$2:Q$2000,2,FALSE))","v":""}]
[{"$f":"IF(H1735=\"\",\"\",VLOOKUP(H1735,MAESTROS!N$2:O$2000,2,FALSE))","v":""},{"$f":"IF(I1735=\"\",\"\",VLOOKUP(I1735,MAESTROS!P$2:Q$2000,2,FALSE))","v":""}]
[{"$f":"IF(H1736=\"\",\"\",VLOOKUP(H1736,MAESTROS!N$2:O$2000,2,FALSE))","v":""},{"$f":"IF(I1736=\"\",\"\",VLOOKUP(I1736,MAESTROS!P$2:Q$2000,2,FALSE))","v":""}]
[{"$f":"IF(H1737=\"\",\"\",VLOOKUP(H1737,MAESTROS!N$2:O$2000,2,FALSE))","v":""},{"$f":"IF(I1737=\"\",\"\",VLOOKUP(I1737,MAESTROS!P$2:Q$2000,2,FALSE))","v":""}]
[{"$f":"IF(H1738=\"\",\"\",VLOOKUP(H1738,MAESTROS!N$2:O$2000,2,FALSE))","v":""},{"$f":"IF(I1738=\"\",\"\",VLOOKUP(I1738,MAESTROS!P$2:Q$2000,2,FALSE))","v":""}]
[{"$f":"IF(H1739=\"\",\"\",VLOOKUP(H1739,MAESTROS!N$2:O$2000,2,FALSE))","v":""},{"$f":"IF(I1739=\"\",\"\",VLOOKUP(I1739,MAESTROS!P$2:Q$2000,2,FALSE))","v":""}]
[{"$f":"IF(H1740=\"\",\"\",VLOOKUP(H1740,MAESTROS!N$2:O$2000,2,FALSE))","v":""},{"$f":"IF(I1740=\"\",\"\",VLOOKUP(I1740,MAESTROS!P$2:Q$2000,2,FALSE))","v":""}]
[{"$f":"IF(H1741=\"\",\"\",VLOOKUP(H1741,MAESTROS!N$2:O$2000,2,FALSE))","v":""},{"$f":"IF(I1741=\"\",\"\",VLOOKUP(I1741,MAESTROS!P$2:Q$2000,2,FALSE))","v":""}]
[{"$f":"IF(H1742=\"\",\"\",VLOOKUP(H1742,MAESTROS!N$2:O$2000,2,FALSE))","v":""},{"$f":"IF(I1742=\"\",\"\",VLOOKUP(I1742,MAESTROS!P$2:Q$2000,2,FALSE))","v":""}]
[{"$f":"IF(H1743=\"\",\"\",VLOOKUP(H1743,MAESTROS!N$2:O$2000,2,FALSE))","v":""},{"$f":"IF(I1743=\"\",\"\",VLOOKUP(I1743,MAESTROS!P$2:Q$2000,2,FALSE))","v":""}]
[{"$f":"IF(H1744=\"\",\"\",VLOOKUP(H1744,MAESTROS!N$2:O$2000,2,FALSE))","v":""},{"$f":"IF(I1744=\"\",\"\",VLOOKUP(I1744,MAESTROS!P$2:Q$2000,2,FALSE))","v":""}]
[{"$f":"IF(H1745=\"\",\"\",VLOOKUP(H1745,MAESTROS!N$2:O$2000,2,FALSE))","v":""},{"$f":"IF(I1745=\"\",\"\",VLOOKUP(I1745,MAESTROS!P$2:Q$2000,2,FALSE))","v":""}]
[{"$f":"IF(H1746=\"\",\"\",VLOOKUP(H1746,MAESTROS!N$2:O$2000,2,FALSE))","v":""},{"$f":"IF(I1746=\"\",\"\",VLOOKUP(I1746,MAESTROS!P$2:Q$2000,2,FALSE))","v":""}]
[{"$f":"IF(H1747=\"\",\"\",VLOOKUP(H1747,MAESTROS!N$2:O$2000,2,FALSE))","v":""},{"$f":"IF(I1747=\"\",\"\",VLOOKUP(I1747,MAESTROS!P$2:Q$2000,2,FALSE))","v":""}]
[{"$f":"IF(H1748=\"\",\"\",VLOOKUP(H1748,MAESTROS!N$2:O$2000,2,FALSE))","v":""},{"$f":"IF(I1748=\"\",\"\",VLOOKUP(I1748,MAESTROS!P$2:Q$2000,2,FALSE))","v":""}]
[{"$f":"IF(H1749=\"\",\"\",VLOOKUP(H1749,MAESTROS!N$2:O$2000,2,FALSE))","v":""},{"$f":"IF(I1749=\"\",\"\",VLOOKUP(I1749,MAESTROS!P$2:Q$2000,2,FALSE))","v":""}]
[{"$f":"IF(H1750=\"\",\"\",VLOOKUP(H1750,MAESTROS!N$2:O$2000,2,FALSE))","v":""},{"$f":"IF(I1750=\"\",\"\",VLOOKUP(I1750,MAESTROS!P$2:Q$2000,2,FALSE))","v":""}]
[{"$f":"IF(H1751=\"\",\"\",VLOOKUP(H1751,MAESTROS!N$2:O$2000,2,FALSE))","v":""},{"$f":"IF(I1751=\"\",\"\",VLOOKUP(I1751,MAESTROS!P$2:Q$2000,2,FALSE))","v":""}]
[{"$f":"IF(H1752=\"\",\"\",VLOOKUP(H1752,MAESTROS!N$2:O$2000,2,FALSE))","v":""},{"$f":"IF(I1752=\"\",\"\",VLOOKUP(I1752,MAESTROS!P$2:Q$2000,2,FALSE))","v":""}]
[{"$f":"IF(H1753=\"\",\"\",VLOOKUP(H1753,MAESTROS!N$2:O$2000,2,FALSE))","v":""},{"$f":"IF(I1753=\"\",\"\",VLOOKUP(I1753,MAESTROS!P$2:Q$2000,2,FALSE))","v":""}]
[{"$f":"IF(H1754=\"\",\"\",VLOOKUP(H1754,MAESTROS!N$2:O$2000,2,FALSE))","v":""},{"$f":"IF(I1754=\"\",\"\",VLOOKUP(I1754,MAESTROS!P$2:Q$2000,2,FALSE))","v":""}]
[{"$f":"IF(H1755=\"\",\"\",VLOOKUP(H1755,MAESTROS!N$2:O$2000,2,FALSE))","v":""},{"$f":"IF(I1755=\"\",\"\",VLOOKUP(I1755,MAESTROS!P$2:Q$2000,2,FALSE))","v":""}]
[{"$f":"IF(H1756=\"\",\"\",VLOOKUP(H1756,MAESTROS!N$2:O$2000,2,FALSE))","v":""},{"$f":"IF(I1756=\"\",\"\",VLOOKUP(I1756,MAESTROS!P$2:Q$2000,2,FALSE))","v":""}]
[{"$f":"IF(H1757=\"\",\"\",VLOOKUP(H1757,MAESTROS!N$2:O$2000,2,FALSE))","v":""},{"$f":"IF(I1757=\"\",\"\",VLOOKUP(I1757,MAESTROS!P$2:Q$2000,2,FALSE))","v":""}]
[{"$f":"IF(H1758=\"\",\"\",VLOOKUP(H1758,MAESTROS!N$2:O$2000,2,FALSE))","v":""},{"$f":"IF(I1758=\"\",\"\",VLOOKUP(I1758,MAESTROS!P$2:Q$2000,2,FALSE))","v":""}]
[{"$f":"IF(H1759=\"\",\"\",VLOOKUP(H1759,MAESTROS!N$2:O$2000,2,FALSE))","v":""},{"$f":"IF(I1759=\"\",\"\",VLOOKUP(I1759,MAESTROS!P$2:Q$2000,2,FALSE))","v":""}]
[{"$f":"IF(H1760=\"\",\"\",VLOOKUP(H1760,MAESTROS!N$2:O$2000,2,FALSE))","v":""},{"$f":"IF(I1760=\"\",\"\",VLOOKUP(I1760,MAESTROS!P$2:Q$2000,2,FALSE))","v":""}]
[{"$f":"IF(H1761=\"\",\"\",VLOOKUP(H1761,MAESTROS!N$2:O$2000,2,FALSE))","v":""},{"$f":"IF(I1761=\"\",\"\",VLOOKUP(I1761,MAESTROS!P$2:Q$2000,2,FALSE))","v":""}]
[{"$f":"IF(H1762=\"\",\"\",VLOOKUP(H1762,MAESTROS!N$2:O$2000,2,FALSE))","v":""},{"$f":"IF(I1762=\"\",\"\",VLOOKUP(I1762,MAESTROS!P$2:Q$2000,2,FALSE))","v":""}]
[{"$f":"IF(H1763=\"\",\"\",VLOOKUP(H1763,MAESTROS!N$2:O$2000,2,FALSE))","v":""},{"$f":"IF(I1763=\"\",\"\",VLOOKUP(I1763,MAESTROS!P$2:Q$2000,2,FALSE))","v":""}]
[{"$f":"IF(H1764=\"\",\"\",VLOOKUP(H1764,MAESTROS!N$2:O$2000,2,FALSE))","v":""},{"$f":"IF(I1764=\"\",\"\",VLOOKUP(I1764,MAESTROS!P$2:Q$2000,2,FALSE))","v":""}]
[{"$f":"IF(H1765=\"\",\"\",VLOOKUP(H1765,MAESTROS!N$2:O$2000,2,FALSE))","v":""},{"$f":"IF(I1765=\"\",\"\",VLOOKUP(I1765,MAESTROS!P$2:Q$2000,2,FALSE))","v":""}]
[{"$f":"IF(H1766=\"\",\"\",VLOOKUP(H1766,MAESTROS!N$2:O$2000,2,FALSE))","v":""},{"$f":"IF(I1766=\"\",\"\",VLOOKUP(I1766,MAESTROS!P$2:Q$2000,2,FALSE))","v":""}]
[{"$f":"IF(H1767=\"\",\"\",VLOOKUP(H1767,MAESTROS!N$2:O$2000,2,FALSE))","v":""},{"$f":"IF(I1767=\"\",\"\",VLOOKUP(I1767,MAESTROS!P$2:Q$2000,2,FALSE))","v":""}]
[{"$f":"IF(H1768=\"\",\"\",VLOOKUP(H1768,MAESTROS!N$2:O$2000,2,FALSE))","v":""},{"$f":"IF(I1768=\"\",\"\",VLOOKUP(I1768,MAESTROS!P$2:Q$2000,2,FALSE))","v":""}]
[{"$f":"IF(H1769=\"\",\"\",VLOOKUP(H1769,MAESTROS!N$2:O$2000,2,FALSE))","v":""},{"$f":"IF(I1769=\"\",\"\",VLOOKUP(I1769,MAESTROS!P$2:Q$2000,2,FALSE))","v":""}]
[{"$f":"IF(H1770=\"\",\"\",VLOOKUP(H1770,MAESTROS!N$2:O$2000,2,FALSE))","v":""},{"$f":"IF(I1770=\"\",\"\",VLOOKUP(I1770,MAESTROS!P$2:Q$2000,2,FALSE))","v":""}]
[{"$f":"IF(H1771=\"\",\"\",VLOOKUP(H1771,MAESTROS!N$2:O$2000,2,FALSE))","v":""},{"$f":"IF(I1771=\"\",\"\",VLOOKUP(I1771,MAESTROS!P$2:Q$2000,2,FALSE))","v":""}]
[{"$f":"IF(H1772=\"\",\"\",VLOOKUP(H1772,MAESTROS!N$2:O$2000,2,FALSE))","v":""},{"$f":"IF(I1772=\"\",\"\",VLOOKUP(I1772,MAESTROS!P$2:Q$2000,2,FALSE))","v":""}]
[{"$f":"IF(H1773=\"\",\"\",VLOOKUP(H1773,MAESTROS!N$2:O$2000,2,FALSE))","v":""},{"$f":"IF(I1773=\"\",\"\",VLOOKUP(I1773,MAESTROS!P$2:Q$2000,2,FALSE))","v":""}]
[{"$f":"IF(H1774=\"\",\"\",VLOOKUP(H1774,MAESTROS!N$2:O$2000,2,FALSE))","v":""},{"$f":"IF(I1774=\"\",\"\",VLOOKUP(I1774,MAESTROS!P$2:Q$2000,2,FALSE))","v":""}]
[{"$f":"IF(H1775=\"\",\"\",VLOOKUP(H1775,MAESTROS!N$2:O$2000,2,FALSE))","v":""},{"$f":"IF(I1775=\"\",\"\",VLOOKUP(I1775,MAESTROS!P$2:Q$2000,2,FALSE))","v":""}]
[{"$f":"IF(H1776=\"\",\"\",VLOOKUP(H1776,MAESTROS!N$2:O$2000,2,FALSE))","v":""},{"$f":"IF(I1776=\"\",\"\",VLOOKUP(I1776,MAESTROS!P$2:Q$2000,2,FALSE))","v":""}]
[{"$f":"IF(H1777=\"\",\"\",VLOOKUP(H1777,MAESTROS!N$2:O$2000,2,FALSE))","v":""},{"$f":"IF(I1777=\"\",\"\",VLOOKUP(I1777,MAESTROS!P$2:Q$2000,2,FALSE))","v":""}]
[{"$f":"IF(H1778=\"\",\"\",VLOOKUP(H1778,MAESTROS!N$2:O$2000,2,FALSE))","v":""},{"$f":"IF(I1778=\"\",\"\",VLOOKUP(I1778,MAESTROS!P$2:Q$2000,2,FALSE))","v":""}]
[{"$f":"IF(H1779=\"\",\"\",VLOOKUP(H1779,MAESTROS!N$2:O$2000,2,FALSE))","v":""},{"$f":"IF(I1779=\"\",\"\",VLOOKUP(I1779,MAESTROS!P$2:Q$2000,2,FALSE))","v":""}]
[{"$f":"IF(H1780=\"\",\"\",VLOOKUP(H1780,MAESTROS!N$2:O$2000,2,FALSE))","v":""},{"$f":"IF(I1780=\"\",\"\",VLOOKUP(I1780,MAESTROS!P$2:Q$2000,2,FALSE))","v":""}]
[{"$f":"IF(H1781=\"\",\"\",VLOOKUP(H1781,MAESTROS!N$2:O$2000,2,FALSE))","v":""},{"$f":"IF(I1781=\"\",\"\",VLOOKUP(I1781,MAESTROS!P$2:Q$2000,2,FALSE))","v":""}]
[{"$f":"IF(H1782=\"\",\"\",VLOOKUP(H1782,MAESTROS!N$2:O$2000,2,FALSE))","v":""},{"$f":"IF(I1782=\"\",\"\",VLOOKUP(I1782,MAESTROS!P$2:Q$2000,2,FALSE))","v":""}]
[{"$f":"IF(H1783=\"\",\"\",VLOOKUP(H1783,MAESTROS!N$2:O$2000,2,FALSE))","v":""},{"$f":"IF(I1783=\"\",\"\",VLOOKUP(I1783,MAESTROS!P$2:Q$2000,2,FALSE))","v":""}]
[{"$f":"IF(H1784=\"\",\"\",VLOOKUP(H1784,MAESTROS!N$2:O$2000,2,FALSE))","v":""},{"$f":"IF(I1784=\"\",\"\",VLOOKUP(I1784,MAESTROS!P$2:Q$2000,2,FALSE))","v":""}]
[{"$f":"IF(H1785=\"\",\"\",VLOOKUP(H1785,MAESTROS!N$2:O$2000,2,FALSE))","v":""},{"$f":"IF(I1785=\"\",\"\",VLOOKUP(I1785,MAESTROS!P$2:Q$2000,2,FALSE))","v":""}]
[{"$f":"IF(H1786=\"\",\"\",VLOOKUP(H1786,MAESTROS!N$2:O$2000,2,FALSE))","v":""},{"$f":"IF(I1786=\"\",\"\",VLOOKUP(I1786,MAESTROS!P$2:Q$2000,2,FALSE))","v":""}]
[{"$f":"IF(H1787=\"\",\"\",VLOOKUP(H1787,MAESTROS!N$2:O$2000,2,FALSE))","v":""},{"$f":"IF(I1787=\"\",\"\",VLOOKUP(I1787,MAESTROS!P$2:Q$2000,2,FALSE))","v":""}]
[{"$f":"IF(H1788=\"\",\"\",VLOOKUP(H1788,MAESTROS!N$2:O$2000,2,FALSE))","v":""},{"$f":"IF(I1788=\"\",\"\",VLOOKUP(I1788,MAESTROS!P$2:Q$2000,2,FALSE))","v":""}]
[{"$f":"IF(H1789=\"\",\"\",VLOOKUP(H1789,MAESTROS!N$2:O$2000,2,FALSE))","v":""},{"$f":"IF(I1789=\"\",\"\",VLOOKUP(I1789,MAESTROS!P$2:Q$2000,2,FALSE))","v":""}]
[{"$f":"IF(H1790=\"\",\"\",VLOOKUP(H1790,MAESTROS!N$2:O$2000,2,FALSE))","v":""},{"$f":"IF(I1790=\"\",\"\",VLOOKUP(I1790,MAESTROS!P$2:Q$2000,2,FALSE))","v":""}]
[{"$f":"IF(H1791=\"\",\"\",VLOOKUP(H1791,MAESTROS!N$2:O$2000,2,FALSE))","v":""},{"$f":"IF(I1791=\"\",\"\",VLOOKUP(I1791,MAESTROS!P$2:Q$2000,2,FALSE))","v":""}]
[{"$f":"IF(H1792=\"\",\"\",VLOOKUP(H1792,MAESTROS!N$2:O$2000,2,FALSE))","v":""},{"$f":"IF(I1792=\"\",\"\",VLOOKUP(I1792,MAESTROS!P$2:Q$2000,2,FALSE))","v":""}]
[{"$f":"IF(H1793=\"\",\"\",VLOOKUP(H1793,MAESTROS!N$2:O$2000,2,FALSE))","v":""},{"$f":"IF(I1793=\"\",\"\",VLOOKUP(I1793,MAESTROS!P$2:Q$2000,2,FALSE))","v":""}]
[{"$f":"IF(H1794=\"\",\"\",VLOOKUP(H1794,MAESTROS!N$2:O$2000,2,FALSE))","v":""},{"$f":"IF(I1794=\"\",\"\",VLOOKUP(I1794,MAESTROS!P$2:Q$2000,2,FALSE))","v":""}]
[{"$f":"IF(H1795=\"\",\"\",VLOOKUP(H1795,MAESTROS!N$2:O$2000,2,FALSE))","v":""},{"$f":"IF(I1795=\"\",\"\",VLOOKUP(I1795,MAESTROS!P$2:Q$2000,2,FALSE))","v":""}]
[{"$f":"IF(H1796=\"\",\"\",VLOOKUP(H1796,MAESTROS!N$2:O$2000,2,FALSE))","v":""},{"$f":"IF(I1796=\"\",\"\",VLOOKUP(I1796,MAESTROS!P$2:Q$2000,2,FALSE))","v":""}]
[{"$f":"IF(H1797=\"\",\"\",VLOOKUP(H1797,MAESTROS!N$2:O$2000,2,FALSE))","v":""},{"$f":"IF(I1797=\"\",\"\",VLOOKUP(I1797,MAESTROS!P$2:Q$2000,2,FALSE))","v":""}]
[{"$f":"IF(H1798=\"\",\"\",VLOOKUP(H1798,MAESTROS!N$2:O$2000,2,FALSE))","v":""},{"$f":"IF(I1798=\"\",\"\",VLOOKUP(I1798,MAESTROS!P$2:Q$2000,2,FALSE))","v":""}]
[{"$f":"IF(H1799=\"\",\"\",VLOOKUP(H1799,MAESTROS!N$2:O$2000,2,FALSE))","v":""},{"$f":"IF(I1799=\"\",\"\",VLOOKUP(I1799,MAESTROS!P$2:Q$2000,2,FALSE))","v":""}]
[{"$f":"IF(H1800=\"\",\"\",VLOOKUP(H1800,MAESTROS!N$2:O$2000,2,FALSE))","v":""},{"$f":"IF(I1800=\"\",\"\",VLOOKUP(I1800,MAESTROS!P$2:Q$2000,2,FALSE))","v":""}]
[{"$f":"IF(H1801=\"\",\"\",VLOOKUP(H1801,MAESTROS!N$2:O$2000,2,FALSE))","v":""},{"$f":"IF(I1801=\"\",\"\",VLOOKUP(I1801,MAESTROS!P$2:Q$2000,2,FALSE))","v":""}]
[{"$f":"IF(H1802=\"\",\"\",VLOOKUP(H1802,MAESTROS!N$2:O$2000,2,FALSE))","v":""},{"$f":"IF(I1802=\"\",\"\",VLOOKUP(I1802,MAESTROS!P$2:Q$2000,2,FALSE))","v":""}]
[{"$f":"IF(H1803=\"\",\"\",VLOOKUP(H1803,MAESTROS!N$2:O$2000,2,FALSE))","v":""},{"$f":"IF(I1803=\"\",\"\",VLOOKUP(I1803,MAESTROS!P$2:Q$2000,2,FALSE))","v":""}]
[{"$f":"IF(H1804=\"\",\"\",VLOOKUP(H1804,MAESTROS!N$2:O$2000,2,FALSE))","v":""},{"$f":"IF(I1804=\"\",\"\",VLOOKUP(I1804,MAESTROS!P$2:Q$2000,2,FALSE))","v":""}]
[{"$f":"IF(H1805=\"\",\"\",VLOOKUP(H1805,MAESTROS!N$2:O$2000,2,FALSE))","v":""},{"$f":"IF(I1805=\"\",\"\",VLOOKUP(I1805,MAESTROS!P$2:Q$2000,2,FALSE))","v":""}]
[{"$f":"IF(H1806=\"\",\"\",VLOOKUP(H1806,MAESTROS!N$2:O$2000,2,FALSE))","v":""},{"$f":"IF(I1806=\"\",\"\",VLOOKUP(I1806,MAESTROS!P$2:Q$2000,2,FALSE))","v":""}]
[{"$f":"IF(H1807=\"\",\"\",VLOOKUP(H1807,MAESTROS!N$2:O$2000,2,FALSE))","v":""},{"$f":"IF(I1807=\"\",\"\",VLOOKUP(I1807,MAESTROS!P$2:Q$2000,2,FALSE))","v":""}]
[{"$f":"IF(H1808=\"\",\"\",VLOOKUP(H1808,MAESTROS!N$2:O$2000,2,FALSE))","v":""},{"$f":"IF(I1808=\"\",\"\",VLOOKUP(I1808,MAESTROS!P$2:Q$2000,2,FALSE))","v":""}]
[{"$f":"IF(H1809=\"\",\"\",VLOOKUP(H1809,MAESTROS!N$2:O$2000,2,FALSE))","v":""},{"$f":"IF(I1809=\"\",\"\",VLOOKUP(I1809,MAESTROS!P$2:Q$2000,2,FALSE))","v":""}]
[{"$f":"IF(H1810=\"\",\"\",VLOOKUP(H1810,MAESTROS!N$2:O$2000,2,FALSE))","v":""},{"$f":"IF(I1810=\"\",\"\",VLOOKUP(I1810,MAESTROS!P$2:Q$2000,2,FALSE))","v":""}]
[{"$f":"IF(H1811=\"\",\"\",VLOOKUP(H1811,MAESTROS!N$2:O$2000,2,FALSE))","v":""},{"$f":"IF(I1811=\"\",\"\",VLOOKUP(I1811,MAESTROS!P$2:Q$2000,2,FALSE))","v":""}]
[{"$f":"IF(H1812=\"\",\"\",VLOOKUP(H1812,MAESTROS!N$2:O$2000,2,FALSE))","v":""},{"$f":"IF(I1812=\"\",\"\",VLOOKUP(I1812,MAESTROS!P$2:Q$2000,2,FALSE))","v":""}]
[{"$f":"IF(H1813=\"\",\"\",VLOOKUP(H1813,MAESTROS!N$2:O$2000,2,FALSE))","v":""},{"$f":"IF(I1813=\"\",\"\",VLOOKUP(I1813,MAESTROS!P$2:Q$2000,2,FALSE))","v":""}]
[{"$f":"IF(H1814=\"\",\"\",VLOOKUP(H1814,MAESTROS!N$2:O$2000,2,FALSE))","v":""},{"$f":"IF(I1814=\"\",\"\",VLOOKUP(I1814,MAESTROS!P$2:Q$2000,2,FALSE))","v":""}]
[{"$f":"IF(H1815=\"\",\"\",VLOOKUP(H1815,MAESTROS!N$2:O$2000,2,FALSE))","v":""},{"$f":"IF(I1815=\"\",\"\",VLOOKUP(I1815,MAESTROS!P$2:Q$2000,2,FALSE))","v":""}]
[{"$f":"IF(H1816=\"\",\"\",VLOOKUP(H1816,MAESTROS!N$2:O$2000,2,FALSE))","v":""},{"$f":"IF(I1816=\"\",\"\",VLOOKUP(I1816,MAESTROS!P$2:Q$2000,2,FALSE))","v":""}]
[{"$f":"IF(H1817=\"\",\"\",VLOOKUP(H1817,MAESTROS!N$2:O$2000,2,FALSE))","v":""},{"$f":"IF(I1817=\"\",\"\",VLOOKUP(I1817,MAESTROS!P$2:Q$2000,2,FALSE))","v":""}]
[{"$f":"IF(H1818=\"\",\"\",VLOOKUP(H1818,MAESTROS!N$2:O$2000,2,FALSE))","v":""},{"$f":"IF(I1818=\"\",\"\",VLOOKUP(I1818,MAESTROS!P$2:Q$2000,2,FALSE))","v":""}]
[{"$f":"IF(H1819=\"\",\"\",VLOOKUP(H1819,MAESTROS!N$2:O$2000,2,FALSE))","v":""},{"$f":"IF(I1819=\"\",\"\",VLOOKUP(I1819,MAESTROS!P$2:Q$2000,2,FALSE))","v":""}]
[{"$f":"IF(H1820=\"\",\"\",VLOOKUP(H1820,MAESTROS!N$2:O$2000,2,FALSE))","v":""},{"$f":"IF(I1820=\"\",\"\",VLOOKUP(I1820,MAESTROS!P$2:Q$2000,2,FALSE))","v":""}]
[{"$f":"IF(H1821=\"\",\"\",VLOOKUP(H1821,MAESTROS!N$2:O$2000,2,FALSE))","v":""},{"$f":"IF(I1821=\"\",\"\",VLOOKUP(I1821,MAESTROS!P$2:Q$2000,2,FALSE))","v":""}]
[{"$f":"IF(H1822=\"\",\"\",VLOOKUP(H1822,MAESTROS!N$2:O$2000,2,FALSE))","v":""},{"$f":"IF(I1822=\"\",\"\",VLOOKUP(I1822,MAESTROS!P$2:Q$2000,2,FALSE))","v":""}]
[{"$f":"IF(H1823=\"\",\"\",VLOOKUP(H1823,MAESTROS!N$2:O$2000,2,FALSE))","v":""},{"$f":"IF(I1823=\"\",\"\",VLOOKUP(I1823,MAESTROS!P$2:Q$2000,2,FALSE))","v":""}]
[{"$f":"IF(H1824=\"\",\"\",VLOOKUP(H1824,MAESTROS!N$2:O$2000,2,FALSE))","v":""},{"$f":"IF(I1824=\"\",\"\",VLOOKUP(I1824,MAESTROS!P$2:Q$2000,2,FALSE))","v":""}]
[{"$f":"IF(H1825=\"\",\"\",VLOOKUP(H1825,MAESTROS!N$2:O$2000,2,FALSE))","v":""},{"$f":"IF(I1825=\"\",\"\",VLOOKUP(I1825,MAESTROS!P$2:Q$2000,2,FALSE))","v":""}]
[{"$f":"IF(H1826=\"\",\"\",VLOOKUP(H1826,MAESTROS!N$2:O$2000,2,FALSE))","v":""},{"$f":"IF(I1826=\"\",\"\",VLOOKUP(I1826,MAESTROS!P$2:Q$2000,2,FALSE))","v":""}]
[{"$f":"IF(H1827=\"\",\"\",VLOOKUP(H1827,MAESTROS!N$2:O$2000,2,FALSE))","v":""},{"$f":"IF(I1827=\"\",\"\",VLOOKUP(I1827,MAESTROS!P$2:Q$2000,2,FALSE))","v":""}]
[{"$f":"IF(H1828=\"\",\"\",VLOOKUP(H1828,MAESTROS!N$2:O$2000,2,FALSE))","v":""},{"$f":"IF(I1828=\"\",\"\",VLOOKUP(I1828,MAESTROS!P$2:Q$2000,2,FALSE))","v":""}]
[{"$f":"IF(H1829=\"\",\"\",VLOOKUP(H1829,MAESTROS!N$2:O$2000,2,FALSE))","v":""},{"$f":"IF(I1829=\"\",\"\",VLOOKUP(I1829,MAESTROS!P$2:Q$2000,2,FALSE))","v":""}]
[{"$f":"IF(H1830=\"\",\"\",VLOOKUP(H1830,MAESTROS!N$2:O$2000,2,FALSE))","v":""},{"$f":"IF(I1830=\"\",\"\",VLOOKUP(I1830,MAESTROS!P$2:Q$2000,2,FALSE))","v":""}]
[{"$f":"IF(H1831=\"\",\"\",VLOOKUP(H1831,MAESTROS!N$2:O$2000,2,FALSE))","v":""},{"$f":"IF(I1831=\"\",\"\",VLOOKUP(I1831,MAESTROS!P$2:Q$2000,2,FALSE))","v":""}]
[{"$f":"IF(H1832=\"\",\"\",VLOOKUP(H1832,MAESTROS!N$2:O$2000,2,FALSE))","v":""},{"$f":"IF(I1832=\"\",\"\",VLOOKUP(I1832,MAESTROS!P$2:Q$2000,2,FALSE))","v":""}]
[{"$f":"IF(H1833=\"\",\"\",VLOOKUP(H1833,MAESTROS!N$2:O$2000,2,FALSE))","v":""},{"$f":"IF(I1833=\"\",\"\",VLOOKUP(I1833,MAESTROS!P$2:Q$2000,2,FALSE))","v":""}]
[{"$f":"IF(H1834=\"\",\"\",VLOOKUP(H1834,MAESTROS!N$2:O$2000,2,FALSE))","v":""},{"$f":"IF(I1834=\"\",\"\",VLOOKUP(I1834,MAESTROS!P$2:Q$2000,2,FALSE))","v":""}]
[{"$f":"IF(H1835=\"\",\"\",VLOOKUP(H1835,MAESTROS!N$2:O$2000,2,FALSE))","v":""},{"$f":"IF(I1835=\"\",\"\",VLOOKUP(I1835,MAESTROS!P$2:Q$2000,2,FALSE))","v":""}]
[{"$f":"IF(H1836=\"\",\"\",VLOOKUP(H1836,MAESTROS!N$2:O$2000,2,FALSE))","v":""},{"$f":"IF(I1836=\"\",\"\",VLOOKUP(I1836,MAESTROS!P$2:Q$2000,2,FALSE))","v":""}]
[{"$f":"IF(H1837=\"\",\"\",VLOOKUP(H1837,MAESTROS!N$2:O$2000,2,FALSE))","v":""},{"$f":"IF(I1837=\"\",\"\",VLOOKUP(I1837,MAESTROS!P$2:Q$2000,2,FALSE))","v":""}]
[{"$f":"IF(H1838=\"\",\"\",VLOOKUP(H1838,MAESTROS!N$2:O$2000,2,FALSE))","v":""},{"$f":"IF(I1838=\"\",\"\",VLOOKUP(I1838,MAESTROS!P$2:Q$2000,2,FALSE))","v":""}]
[{"$f":"IF(H1839=\"\",\"\",VLOOKUP(H1839,MAESTROS!N$2:O$2000,2,FALSE))","v":""},{"$f":"IF(I1839=\"\",\"\",VLOOKUP(I1839,MAESTROS!P$2:Q$2000,2,FALSE))","v":""}]
[{"$f":"IF(H1840=\"\",\"\",VLOOKUP(H1840,MAESTROS!N$2:O$2000,2,FALSE))","v":""},{"$f":"IF(I1840=\"\",\"\",VLOOKUP(I1840,MAESTROS!P$2:Q$2000,2,FALSE))","v":""}]
[{"$f":"IF(H1841=\"\",\"\",VLOOKUP(H1841,MAESTROS!N$2:O$2000,2,FALSE))","v":""},{"$f":"IF(I1841=\"\",\"\",VLOOKUP(I1841,MAESTROS!P$2:Q$2000,2,FALSE))","v":""}]
[{"$f":"IF(H1842=\"\",\"\",VLOOKUP(H1842,MAESTROS!N$2:O$2000,2,FALSE))","v":""},{"$f":"IF(I1842=\"\",\"\",VLOOKUP(I1842,MAESTROS!P$2:Q$2000,2,FALSE))","v":""}]
[{"$f":"IF(H1843=\"\",\"\",VLOOKUP(H1843,MAESTROS!N$2:O$2000,2,FALSE))","v":""},{"$f":"IF(I1843=\"\",\"\",VLOOKUP(I1843,MAESTROS!P$2:Q$2000,2,FALSE))","v":""}]
[{"$f":"IF(H1844=\"\",\"\",VLOOKUP(H1844,MAESTROS!N$2:O$2000,2,FALSE))","v":""},{"$f":"IF(I1844=\"\",\"\",VLOOKUP(I1844,MAESTROS!P$2:Q$2000,2,FALSE))","v":""}]
[{"$f":"IF(H1845=\"\",\"\",VLOOKUP(H1845,MAESTROS!N$2:O$2000,2,FALSE))","v":""},{"$f":"IF(I1845=\"\",\"\",VLOOKUP(I1845,MAESTROS!P$2:Q$2000,2,FALSE))","v":""}]
[{"$f":"IF(H1846=\"\",\"\",VLOOKUP(H1846,MAESTROS!N$2:O$2000,2,FALSE))","v":""},{"$f":"IF(I1846=\"\",\"\",VLOOKUP(I1846,MAESTROS!P$2:Q$2000,2,FALSE))","v":""}]
[{"$f":"IF(H1847=\"\",\"\",VLOOKUP(H1847,MAESTROS!N$2:O$2000,2,FALSE))","v":""},{"$f":"IF(I1847=\"\",\"\",VLOOKUP(I1847,MAESTROS!P$2:Q$2000,2,FALSE))","v":""}]
[{"$f":"IF(H1848=\"\",\"\",VLOOKUP(H1848,MAESTROS!N$2:O$2000,2,FALSE))","v":""},{"$f":"IF(I1848=\"\",\"\",VLOOKUP(I1848,MAESTROS!P$2:Q$2000,2,FALSE))","v":""}]
[{"$f":"IF(H1849=\"\",\"\",VLOOKUP(H1849,MAESTROS!N$2:O$2000,2,FALSE))","v":""},{"$f":"IF(I1849=\"\",\"\",VLOOKUP(I1849,MAESTROS!P$2:Q$2000,2,FALSE))","v":""}]
[{"$f":"IF(H1850=\"\",\"\",VLOOKUP(H1850,MAESTROS!N$2:O$2000,2,FALSE))","v":""},{"$f":"IF(I1850=\"\",\"\",VLOOKUP(I1850,MAESTROS!P$2:Q$2000,2,FALSE))","v":""}]
[{"$f":"IF(H1851=\"\",\"\",VLOOKUP(H1851,MAESTROS!N$2:O$2000,2,FALSE))","v":""},{"$f":"IF(I1851=\"\",\"\",VLOOKUP(I1851,MAESTROS!P$2:Q$2000,2,FALSE))","v":""}]
[{"$f":"IF(H1852=\"\",\"\",VLOOKUP(H1852,MAESTROS!N$2:O$2000,2,FALSE))","v":""},{"$f":"IF(I1852=\"\",\"\",VLOOKUP(I1852,MAESTROS!P$2:Q$2000,2,FALSE))","v":""}]
[{"$f":"IF(H1853=\"\",\"\",VLOOKUP(H1853,MAESTROS!N$2:O$2000,2,FALSE))","v":""},{"$f":"IF(I1853=\"\",\"\",VLOOKUP(I1853,MAESTROS!P$2:Q$2000,2,FALSE))","v":""}]
[{"$f":"IF(H1854=\"\",\"\",VLOOKUP(H1854,MAESTROS!N$2:O$2000,2,FALSE))","v":""},{"$f":"IF(I1854=\"\",\"\",VLOOKUP(I1854,MAESTROS!P$2:Q$2000,2,FALSE))","v":""}]
[{"$f":"IF(H1855=\"\",\"\",VLOOKUP(H1855,MAESTROS!N$2:O$2000,2,FALSE))","v":""},{"$f":"IF(I1855=\"\",\"\",VLOOKUP(I1855,MAESTROS!P$2:Q$2000,2,FALSE))","v":""}]
[{"$f":"IF(H1856=\"\",\"\",VLOOKUP(H1856,MAESTROS!N$2:O$2000,2,FALSE))","v":""},{"$f":"IF(I1856=\"\",\"\",VLOOKUP(I1856,MAESTROS!P$2:Q$2000,2,FALSE))","v":""}]
[{"$f":"IF(H1857=\"\",\"\",VLOOKUP(H1857,MAESTROS!N$2:O$2000,2,FALSE))","v":""},{"$f":"IF(I1857=\"\",\"\",VLOOKUP(I1857,MAESTROS!P$2:Q$2000,2,FALSE))","v":""}]
[{"$f":"IF(H1858=\"\",\"\",VLOOKUP(H1858,MAESTROS!N$2:O$2000,2,FALSE))","v":""},{"$f":"IF(I1858=\"\",\"\",VLOOKUP(I1858,MAESTROS!P$2:Q$2000,2,FALSE))","v":""}]
[{"$f":"IF(H1859=\"\",\"\",VLOOKUP(H1859,MAESTROS!N$2:O$2000,2,FALSE))","v":""},{"$f":"IF(I1859=\"\",\"\",VLOOKUP(I1859,MAESTROS!P$2:Q$2000,2,FALSE))","v":""}]
[{"$f":"IF(H1860=\"\",\"\",VLOOKUP(H1860,MAESTROS!N$2:O$2000,2,FALSE))","v":""},{"$f":"IF(I1860=\"\",\"\",VLOOKUP(I1860,MAESTROS!P$2:Q$2000,2,FALSE))","v":""}]
[{"$f":"IF(H1861=\"\",\"\",VLOOKUP(H1861,MAESTROS!N$2:O$2000,2,FALSE))","v":""},{"$f":"IF(I1861=\"\",\"\",VLOOKUP(I1861,MAESTROS!P$2:Q$2000,2,FALSE))","v":""}]
[{"$f":"IF(H1862=\"\",\"\",VLOOKUP(H1862,MAESTROS!N$2:O$2000,2,FALSE))","v":""},{"$f":"IF(I1862=\"\",\"\",VLOOKUP(I1862,MAESTROS!P$2:Q$2000,2,FALSE))","v":""}]
[{"$f":"IF(H1863=\"\",\"\",VLOOKUP(H1863,MAESTROS!N$2:O$2000,2,FALSE))","v":""},{"$f":"IF(I1863=\"\",\"\",VLOOKUP(I1863,MAESTROS!P$2:Q$2000,2,FALSE))","v":""}]
[{"$f":"IF(H1864=\"\",\"\",VLOOKUP(H1864,MAESTROS!N$2:O$2000,2,FALSE))","v":""},{"$f":"IF(I1864=\"\",\"\",VLOOKUP(I1864,MAESTROS!P$2:Q$2000,2,FALSE))","v":""}]
[{"$f":"IF(H1865=\"\",\"\",VLOOKUP(H1865,MAESTROS!N$2:O$2000,2,FALSE))","v":""},{"$f":"IF(I1865=\"\",\"\",VLOOKUP(I1865,MAESTROS!P$2:Q$2000,2,FALSE))","v":""}]
[{"$f":"IF(H1866=\"\",\"\",VLOOKUP(H1866,MAESTROS!N$2:O$2000,2,FALSE))","v":""},{"$f":"IF(I1866=\"\",\"\",VLOOKUP(I1866,MAESTROS!P$2:Q$2000,2,FALSE))","v":""}]
[{"$f":"IF(H1867=\"\",\"\",VLOOKUP(H1867,MAESTROS!N$2:O$2000,2,FALSE))","v":""},{"$f":"IF(I1867=\"\",\"\",VLOOKUP(I1867,MAESTROS!P$2:Q$2000,2,FALSE))","v":""}]
[{"$f":"IF(H1868=\"\",\"\",VLOOKUP(H1868,MAESTROS!N$2:O$2000,2,FALSE))","v":""},{"$f":"IF(I1868=\"\",\"\",VLOOKUP(I1868,MAESTROS!P$2:Q$2000,2,FALSE))","v":""}]
[{"$f":"IF(H1869=\"\",\"\",VLOOKUP(H1869,MAESTROS!N$2:O$2000,2,FALSE))","v":""},{"$f":"IF(I1869=\"\",\"\",VLOOKUP(I1869,MAESTROS!P$2:Q$2000,2,FALSE))","v":""}]
[{"$f":"IF(H1870=\"\",\"\",VLOOKUP(H1870,MAESTROS!N$2:O$2000,2,FALSE))","v":""},{"$f":"IF(I1870=\"\",\"\",VLOOKUP(I1870,MAESTROS!P$2:Q$2000,2,FALSE))","v":""}]
[{"$f":"IF(H1871=\"\",\"\",VLOOKUP(H1871,MAESTROS!N$2:O$2000,2,FALSE))","v":""},{"$f":"IF(I1871=\"\",\"\",VLOOKUP(I1871,MAESTROS!P$2:Q$2000,2,FALSE))","v":""}]
[{"$f":"IF(H1872=\"\",\"\",VLOOKUP(H1872,MAESTROS!N$2:O$2000,2,FALSE))","v":""},{"$f":"IF(I1872=\"\",\"\",VLOOKUP(I1872,MAESTROS!P$2:Q$2000,2,FALSE))","v":""}]
[{"$f":"IF(H1873=\"\",\"\",VLOOKUP(H1873,MAESTROS!N$2:O$2000,2,FALSE))","v":""},{"$f":"IF(I1873=\"\",\"\",VLOOKUP(I1873,MAESTROS!P$2:Q$2000,2,FALSE))","v":""}]
[{"$f":"IF(H1874=\"\",\"\",VLOOKUP(H1874,MAESTROS!N$2:O$2000,2,FALSE))","v":""},{"$f":"IF(I1874=\"\",\"\",VLOOKUP(I1874,MAESTROS!P$2:Q$2000,2,FALSE))","v":""}]
[{"$f":"IF(H1875=\"\",\"\",VLOOKUP(H1875,MAESTROS!N$2:O$2000,2,FALSE))","v":""},{"$f":"IF(I1875=\"\",\"\",VLOOKUP(I1875,MAESTROS!P$2:Q$2000,2,FALSE))","v":""}]
[{"$f":"IF(H1876=\"\",\"\",VLOOKUP(H1876,MAESTROS!N$2:O$2000,2,FALSE))","v":""},{"$f":"IF(I1876=\"\",\"\",VLOOKUP(I1876,MAESTROS!P$2:Q$2000,2,FALSE))","v":""}]
[{"$f":"IF(H1877=\"\",\"\",VLOOKUP(H1877,MAESTROS!N$2:O$2000,2,FALSE))","v":""},{"$f":"IF(I1877=\"\",\"\",VLOOKUP(I1877,MAESTROS!P$2:Q$2000,2,FALSE))","v":""}]
[{"$f":"IF(H1878=\"\",\"\",VLOOKUP(H1878,MAESTROS!N$2:O$2000,2,FALSE))","v":""},{"$f":"IF(I1878=\"\",\"\",VLOOKUP(I1878,MAESTROS!P$2:Q$2000,2,FALSE))","v":""}]
[{"$f":"IF(H1879=\"\",\"\",VLOOKUP(H1879,MAESTROS!N$2:O$2000,2,FALSE))","v":""},{"$f":"IF(I1879=\"\",\"\",VLOOKUP(I1879,MAESTROS!P$2:Q$2000,2,FALSE))","v":""}]
[{"$f":"IF(H1880=\"\",\"\",VLOOKUP(H1880,MAESTROS!N$2:O$2000,2,FALSE))","v":""},{"$f":"IF(I1880=\"\",\"\",VLOOKUP(I1880,MAESTROS!P$2:Q$2000,2,FALSE))","v":""}]
[{"$f":"IF(H1881=\"\",\"\",VLOOKUP(H1881,MAESTROS!N$2:O$2000,2,FALSE))","v":""},{"$f":"IF(I1881=\"\",\"\",VLOOKUP(I1881,MAESTROS!P$2:Q$2000,2,FALSE))","v":""}]
[{"$f":"IF(H1882=\"\",\"\",VLOOKUP(H1882,MAESTROS!N$2:O$2000,2,FALSE))","v":""},{"$f":"IF(I1882=\"\",\"\",VLOOKUP(I1882,MAESTROS!P$2:Q$2000,2,FALSE))","v":""}]
[{"$f":"IF(H1883=\"\",\"\",VLOOKUP(H1883,MAESTROS!N$2:O$2000,2,FALSE))","v":""},{"$f":"IF(I1883=\"\",\"\",VLOOKUP(I1883,MAESTROS!P$2:Q$2000,2,FALSE))","v":""}]
[{"$f":"IF(H1884=\"\",\"\",VLOOKUP(H1884,MAESTROS!N$2:O$2000,2,FALSE))","v":""},{"$f":"IF(I1884=\"\",\"\",VLOOKUP(I1884,MAESTROS!P$2:Q$2000,2,FALSE))","v":""}]
[{"$f":"IF(H1885=\"\",\"\",VLOOKUP(H1885,MAESTROS!N$2:O$2000,2,FALSE))","v":""},{"$f":"IF(I1885=\"\",\"\",VLOOKUP(I1885,MAESTROS!P$2:Q$2000,2,FALSE))","v":""}]
[{"$f":"IF(H1886=\"\",\"\",VLOOKUP(H1886,MAESTROS!N$2:O$2000,2,FALSE))","v":""},{"$f":"IF(I1886=\"\",\"\",VLOOKUP(I1886,MAESTROS!P$2:Q$2000,2,FALSE))","v":""}]
[{"$f":"IF(H1887=\"\",\"\",VLOOKUP(H1887,MAESTROS!N$2:O$2000,2,FALSE))","v":""},{"$f":"IF(I1887=\"\",\"\",VLOOKUP(I1887,MAESTROS!P$2:Q$2000,2,FALSE))","v":""}]
[{"$f":"IF(H1888=\"\",\"\",VLOOKUP(H1888,MAESTROS!N$2:O$2000,2,FALSE))","v":""},{"$f":"IF(I1888=\"\",\"\",VLOOKUP(I1888,MAESTROS!P$2:Q$2000,2,FALSE))","v":""}]
[{"$f":"IF(H1889=\"\",\"\",VLOOKUP(H1889,MAESTROS!N$2:O$2000,2,FALSE))","v":""},{"$f":"IF(I1889=\"\",\"\",VLOOKUP(I1889,MAESTROS!P$2:Q$2000,2,FALSE))","v":""}]
[{"$f":"IF(H1890=\"\",\"\",VLOOKUP(H1890,MAESTROS!N$2:O$2000,2,FALSE))","v":""},{"$f":"IF(I1890=\"\",\"\",VLOOKUP(I1890,MAESTROS!P$2:Q$2000,2,FALSE))","v":""}]
[{"$f":"IF(H1891=\"\",\"\",VLOOKUP(H1891,MAESTROS!N$2:O$2000,2,FALSE))","v":""},{"$f":"IF(I1891=\"\",\"\",VLOOKUP(I1891,MAESTROS!P$2:Q$2000,2,FALSE))","v":""}]
[{"$f":"IF(H1892=\"\",\"\",VLOOKUP(H1892,MAESTROS!N$2:O$2000,2,FALSE))","v":""},{"$f":"IF(I1892=\"\",\"\",VLOOKUP(I1892,MAESTROS!P$2:Q$2000,2,FALSE))","v":""}]
[{"$f":"IF(H1893=\"\",\"\",VLOOKUP(H1893,MAESTROS!N$2:O$2000,2,FALSE))","v":""},{"$f":"IF(I1893=\"\",\"\",VLOOKUP(I1893,MAESTROS!P$2:Q$2000,2,FALSE))","v":""}]
[{"$f":"IF(H1894=\"\",\"\",VLOOKUP(H1894,MAESTROS!N$2:O$2000,2,FALSE))","v":""},{"$f":"IF(I1894=\"\",\"\",VLOOKUP(I1894,MAESTROS!P$2:Q$2000,2,FALSE))","v":""}]
[{"$f":"IF(H1895=\"\",\"\",VLOOKUP(H1895,MAESTROS!N$2:O$2000,2,FALSE))","v":""},{"$f":"IF(I1895=\"\",\"\",VLOOKUP(I1895,MAESTROS!P$2:Q$2000,2,FALSE))","v":""}]
[{"$f":"IF(H1896=\"\",\"\",VLOOKUP(H1896,MAESTROS!N$2:O$2000,2,FALSE))","v":""},{"$f":"IF(I1896=\"\",\"\",VLOOKUP(I1896,MAESTROS!P$2:Q$2000,2,FALSE))","v":""}]
[{"$f":"IF(H1897=\"\",\"\",VLOOKUP(H1897,MAESTROS!N$2:O$2000,2,FALSE))","v":""},{"$f":"IF(I1897=\"\",\"\",VLOOKUP(I1897,MAESTROS!P$2:Q$2000,2,FALSE))","v":""}]
[{"$f":"IF(H1898=\"\",\"\",VLOOKUP(H1898,MAESTROS!N$2:O$2000,2,FALSE))","v":""},{"$f":"IF(I1898=\"\",\"\",VLOOKUP(I1898,MAESTROS!P$2:Q$2000,2,FALSE))","v":""}]
[{"$f":"IF(H1899=\"\",\"\",VLOOKUP(H1899,MAESTROS!N$2:O$2000,2,FALSE))","v":""},{"$f":"IF(I1899=\"\",\"\",VLOOKUP(I1899,MAESTROS!P$2:Q$2000,2,FALSE))","v":""}]
[{"$f":"IF(H1900=\"\",\"\",VLOOKUP(H1900,MAESTROS!N$2:O$2000,2,FALSE))","v":""},{"$f":"IF(I1900=\"\",\"\",VLOOKUP(I1900,MAESTROS!P$2:Q$2000,2,FALSE))","v":""}]
[{"$f":"IF(H1901=\"\",\"\",VLOOKUP(H1901,MAESTROS!N$2:O$2000,2,FALSE))","v":""},{"$f":"IF(I1901=\"\",\"\",VLOOKUP(I1901,MAESTROS!P$2:Q$2000,2,FALSE))","v":""}]
[{"$f":"IF(H1902=\"\",\"\",VLOOKUP(H1902,MAESTROS!N$2:O$2000,2,FALSE))","v":""},{"$f":"IF(I1902=\"\",\"\",VLOOKUP(I1902,MAESTROS!P$2:Q$2000,2,FALSE))","v":""}]
[{"$f":"IF(H1903=\"\",\"\",VLOOKUP(H1903,MAESTROS!N$2:O$2000,2,FALSE))","v":""},{"$f":"IF(I1903=\"\",\"\",VLOOKUP(I1903,MAESTROS!P$2:Q$2000,2,FALSE))","v":""}]
[{"$f":"IF(H1904=\"\",\"\",VLOOKUP(H1904,MAESTROS!N$2:O$2000,2,FALSE))","v":""},{"$f":"IF(I1904=\"\",\"\",VLOOKUP(I1904,MAESTROS!P$2:Q$2000,2,FALSE))","v":""}]
[{"$f":"IF(H1905=\"\",\"\",VLOOKUP(H1905,MAESTROS!N$2:O$2000,2,FALSE))","v":""},{"$f":"IF(I1905=\"\",\"\",VLOOKUP(I1905,MAESTROS!P$2:Q$2000,2,FALSE))","v":""}]
[{"$f":"IF(H1906=\"\",\"\",VLOOKUP(H1906,MAESTROS!N$2:O$2000,2,FALSE))","v":""},{"$f":"IF(I1906=\"\",\"\",VLOOKUP(I1906,MAESTROS!P$2:Q$2000,2,FALSE))","v":""}]
[{"$f":"IF(H1907=\"\",\"\",VLOOKUP(H1907,MAESTROS!N$2:O$2000,2,FALSE))","v":""},{"$f":"IF(I1907=\"\",\"\",VLOOKUP(I1907,MAESTROS!P$2:Q$2000,2,FALSE))","v":""}]
[{"$f":"IF(H1908=\"\",\"\",VLOOKUP(H1908,MAESTROS!N$2:O$2000,2,FALSE))","v":""},{"$f":"IF(I1908=\"\",\"\",VLOOKUP(I1908,MAESTROS!P$2:Q$2000,2,FALSE))","v":""}]
[{"$f":"IF(H1909=\"\",\"\",VLOOKUP(H1909,MAESTROS!N$2:O$2000,2,FALSE))","v":""},{"$f":"IF(I1909=\"\",\"\",VLOOKUP(I1909,MAESTROS!P$2:Q$2000,2,FALSE))","v":""}]
[{"$f":"IF(H1910=\"\",\"\",VLOOKUP(H1910,MAESTROS!N$2:O$2000,2,FALSE))","v":""},{"$f":"IF(I1910=\"\",\"\",VLOOKUP(I1910,MAESTROS!P$2:Q$2000,2,FALSE))","v":""}]
[{"$f":"IF(H1911=\"\",\"\",VLOOKUP(H1911,MAESTROS!N$2:O$2000,2,FALSE))","v":""},{"$f":"IF(I1911=\"\",\"\",VLOOKUP(I1911,MAESTROS!P$2:Q$2000,2,FALSE))","v":""}]
[{"$f":"IF(H1912=\"\",\"\",VLOOKUP(H1912,MAESTROS!N$2:O$2000,2,FALSE))","v":""},{"$f":"IF(I1912=\"\",\"\",VLOOKUP(I1912,MAESTROS!P$2:Q$2000,2,FALSE))","v":""}]
[{"$f":"IF(H1913=\"\",\"\",VLOOKUP(H1913,MAESTROS!N$2:O$2000,2,FALSE))","v":""},{"$f":"IF(I1913=\"\",\"\",VLOOKUP(I1913,MAESTROS!P$2:Q$2000,2,FALSE))","v":""}]
[{"$f":"IF(H1914=\"\",\"\",VLOOKUP(H1914,MAESTROS!N$2:O$2000,2,FALSE))","v":""},{"$f":"IF(I1914=\"\",\"\",VLOOKUP(I1914,MAESTROS!P$2:Q$2000,2,FALSE))","v":""}]
[{"$f":"IF(H1915=\"\",\"\",VLOOKUP(H1915,MAESTROS!N$2:O$2000,2,FALSE))","v":""},{"$f":"IF(I1915=\"\",\"\",VLOOKUP(I1915,MAESTROS!P$2:Q$2000,2,FALSE))","v":""}]
[{"$f":"IF(H1916=\"\",\"\",VLOOKUP(H1916,MAESTROS!N$2:O$2000,2,FALSE))","v":""},{"$f":"IF(I1916=\"\",\"\",VLOOKUP(I1916,MAESTROS!P$2:Q$2000,2,FALSE))","v":""}]
[{"$f":"IF(H1917=\"\",\"\",VLOOKUP(H1917,MAESTROS!N$2:O$2000,2,FALSE))","v":""},{"$f":"IF(I1917=\"\",\"\",VLOOKUP(I1917,MAESTROS!P$2:Q$2000,2,FALSE))","v":""}]
[{"$f":"IF(H1918=\"\",\"\",VLOOKUP(H1918,MAESTROS!N$2:O$2000,2,FALSE))","v":""},{"$f":"IF(I1918=\"\",\"\",VLOOKUP(I1918,MAESTROS!P$2:Q$2000,2,FALSE))","v":""}]
[{"$f":"IF(H1919=\"\",\"\",VLOOKUP(H1919,MAESTROS!N$2:O$2000,2,FALSE))","v":""},{"$f":"IF(I1919=\"\",\"\",VLOOKUP(I1919,MAESTROS!P$2:Q$2000,2,FALSE))","v":""}]
[{"$f":"IF(H1920=\"\",\"\",VLOOKUP(H1920,MAESTROS!N$2:O$2000,2,FALSE))","v":""},{"$f":"IF(I1920=\"\",\"\",VLOOKUP(I1920,MAESTROS!P$2:Q$2000,2,FALSE))","v":""}]
[{"$f":"IF(H1921=\"\",\"\",VLOOKUP(H1921,MAESTROS!N$2:O$2000,2,FALSE))","v":""},{"$f":"IF(I1921=\"\",\"\",VLOOKUP(I1921,MAESTROS!P$2:Q$2000,2,FALSE))","v":""}]
[{"$f":"IF(H1922=\"\",\"\",VLOOKUP(H1922,MAESTROS!N$2:O$2000,2,FALSE))","v":""},{"$f":"IF(I1922=\"\",\"\",VLOOKUP(I1922,MAESTROS!P$2:Q$2000,2,FALSE))","v":""}]
[{"$f":"IF(H1923=\"\",\"\",VLOOKUP(H1923,MAESTROS!N$2:O$2000,2,FALSE))","v":""},{"$f":"IF(I1923=\"\",\"\",VLOOKUP(I1923,MAESTROS!P$2:Q$2000,2,FALSE))","v":""}]
[{"$f":"IF(H1924=\"\",\"\",VLOOKUP(H1924,MAESTROS!N$2:O$2000,2,FALSE))","v":""},{"$f":"IF(I1924=\"\",\"\",VLOOKUP(I1924,MAESTROS!P$2:Q$2000,2,FALSE))","v":""}]
[{"$f":"IF(H1925=\"\",\"\",VLOOKUP(H1925,MAESTROS!N$2:O$2000,2,FALSE))","v":""},{"$f":"IF(I1925=\"\",\"\",VLOOKUP(I1925,MAESTROS!P$2:Q$2000,2,FALSE))","v":""}]
[{"$f":"IF(H1926=\"\",\"\",VLOOKUP(H1926,MAESTROS!N$2:O$2000,2,FALSE))","v":""},{"$f":"IF(I1926=\"\",\"\",VLOOKUP(I1926,MAESTROS!P$2:Q$2000,2,FALSE))","v":""}]
[{"$f":"IF(H1927=\"\",\"\",VLOOKUP(H1927,MAESTROS!N$2:O$2000,2,FALSE))","v":""},{"$f":"IF(I1927=\"\",\"\",VLOOKUP(I1927,MAESTROS!P$2:Q$2000,2,FALSE))","v":""}]
[{"$f":"IF(H1928=\"\",\"\",VLOOKUP(H1928,MAESTROS!N$2:O$2000,2,FALSE))","v":""},{"$f":"IF(I1928=\"\",\"\",VLOOKUP(I1928,MAESTROS!P$2:Q$2000,2,FALSE))","v":""}]
[{"$f":"IF(H1929=\"\",\"\",VLOOKUP(H1929,MAESTROS!N$2:O$2000,2,FALSE))","v":""},{"$f":"IF(I1929=\"\",\"\",VLOOKUP(I1929,MAESTROS!P$2:Q$2000,2,FALSE))","v":""}]
[{"$f":"IF(H1930=\"\",\"\",VLOOKUP(H1930,MAESTROS!N$2:O$2000,2,FALSE))","v":""},{"$f":"IF(I1930=\"\",\"\",VLOOKUP(I1930,MAESTROS!P$2:Q$2000,2,FALSE))","v":""}]
[{"$f":"IF(H1931=\"\",\"\",VLOOKUP(H1931,MAESTROS!N$2:O$2000,2,FALSE))","v":""},{"$f":"IF(I1931=\"\",\"\",VLOOKUP(I1931,MAESTROS!P$2:Q$2000,2,FALSE))","v":""}]
[{"$f":"IF(H1932=\"\",\"\",VLOOKUP(H1932,MAESTROS!N$2:O$2000,2,FALSE))","v":""},{"$f":"IF(I1932=\"\",\"\",VLOOKUP(I1932,MAESTROS!P$2:Q$2000,2,FALSE))","v":""}]
[{"$f":"IF(H1933=\"\",\"\",VLOOKUP(H1933,MAESTROS!N$2:O$2000,2,FALSE))","v":""},{"$f":"IF(I1933=\"\",\"\",VLOOKUP(I1933,MAESTROS!P$2:Q$2000,2,FALSE))","v":""}]
[{"$f":"IF(H1934=\"\",\"\",VLOOKUP(H1934,MAESTROS!N$2:O$2000,2,FALSE))","v":""},{"$f":"IF(I1934=\"\",\"\",VLOOKUP(I1934,MAESTROS!P$2:Q$2000,2,FALSE))","v":""}]
[{"$f":"IF(H1935=\"\",\"\",VLOOKUP(H1935,MAESTROS!N$2:O$2000,2,FALSE))","v":""},{"$f":"IF(I1935=\"\",\"\",VLOOKUP(I1935,MAESTROS!P$2:Q$2000,2,FALSE))","v":""}]
[{"$f":"IF(H1936=\"\",\"\",VLOOKUP(H1936,MAESTROS!N$2:O$2000,2,FALSE))","v":""},{"$f":"IF(I1936=\"\",\"\",VLOOKUP(I1936,MAESTROS!P$2:Q$2000,2,FALSE))","v":""}]
[{"$f":"IF(H1937=\"\",\"\",VLOOKUP(H1937,MAESTROS!N$2:O$2000,2,FALSE))","v":""},{"$f":"IF(I1937=\"\",\"\",VLOOKUP(I1937,MAESTROS!P$2:Q$2000,2,FALSE))","v":""}]
[{"$f":"IF(H1938=\"\",\"\",VLOOKUP(H1938,MAESTROS!N$2:O$2000,2,FALSE))","v":""},{"$f":"IF(I1938=\"\",\"\",VLOOKUP(I1938,MAESTROS!P$2:Q$2000,2,FALSE))","v":""}]
[{"$f":"IF(H1939=\"\",\"\",VLOOKUP(H1939,MAESTROS!N$2:O$2000,2,FALSE))","v":""},{"$f":"IF(I1939=\"\",\"\",VLOOKUP(I1939,MAESTROS!P$2:Q$2000,2,FALSE))","v":""}]
[{"$f":"IF(H1940=\"\",\"\",VLOOKUP(H1940,MAESTROS!N$2:O$2000,2,FALSE))","v":""},{"$f":"IF(I1940=\"\",\"\",VLOOKUP(I1940,MAESTROS!P$2:Q$2000,2,FALSE))","v":""}]
[{"$f":"IF(H1941=\"\",\"\",VLOOKUP(H1941,MAESTROS!N$2:O$2000,2,FALSE))","v":""},{"$f":"IF(I1941=\"\",\"\",VLOOKUP(I1941,MAESTROS!P$2:Q$2000,2,FALSE))","v":""}]
[{"$f":"IF(H1942=\"\",\"\",VLOOKUP(H1942,MAESTROS!N$2:O$2000,2,FALSE))","v":""},{"$f":"IF(I1942=\"\",\"\",VLOOKUP(I1942,MAESTROS!P$2:Q$2000,2,FALSE))","v":""}]
[{"$f":"IF(H1943=\"\",\"\",VLOOKUP(H1943,MAESTROS!N$2:O$2000,2,FALSE))","v":""},{"$f":"IF(I1943=\"\",\"\",VLOOKUP(I1943,MAESTROS!P$2:Q$2000,2,FALSE))","v":""}]
[{"$f":"IF(H1944=\"\",\"\",VLOOKUP(H1944,MAESTROS!N$2:O$2000,2,FALSE))","v":""},{"$f":"IF(I1944=\"\",\"\",VLOOKUP(I1944,MAESTROS!P$2:Q$2000,2,FALSE))","v":""}]
[{"$f":"IF(H1945=\"\",\"\",VLOOKUP(H1945,MAESTROS!N$2:O$2000,2,FALSE))","v":""},{"$f":"IF(I1945=\"\",\"\",VLOOKUP(I1945,MAESTROS!P$2:Q$2000,2,FALSE))","v":""}]
[{"$f":"IF(H1946=\"\",\"\",VLOOKUP(H1946,MAESTROS!N$2:O$2000,2,FALSE))","v":""},{"$f":"IF(I1946=\"\",\"\",VLOOKUP(I1946,MAESTROS!P$2:Q$2000,2,FALSE))","v":""}]
[{"$f":"IF(H1947=\"\",\"\",VLOOKUP(H1947,MAESTROS!N$2:O$2000,2,FALSE))","v":""},{"$f":"IF(I1947=\"\",\"\",VLOOKUP(I1947,MAESTROS!P$2:Q$2000,2,FALSE))","v":""}]
[{"$f":"IF(H1948=\"\",\"\",VLOOKUP(H1948,MAESTROS!N$2:O$2000,2,FALSE))","v":""},{"$f":"IF(I1948=\"\",\"\",VLOOKUP(I1948,MAESTROS!P$2:Q$2000,2,FALSE))","v":""}]
[{"$f":"IF(H1949=\"\",\"\",VLOOKUP(H1949,MAESTROS!N$2:O$2000,2,FALSE))","v":""},{"$f":"IF(I1949=\"\",\"\",VLOOKUP(I1949,MAESTROS!P$2:Q$2000,2,FALSE))","v":""}]
[{"$f":"IF(H1950=\"\",\"\",VLOOKUP(H1950,MAESTROS!N$2:O$2000,2,FALSE))","v":""},{"$f":"IF(I1950=\"\",\"\",VLOOKUP(I1950,MAESTROS!P$2:Q$2000,2,FALSE))","v":""}]
[{"$f":"IF(H1951=\"\",\"\",VLOOKUP(H1951,MAESTROS!N$2:O$2000,2,FALSE))","v":""},{"$f":"IF(I1951=\"\",\"\",VLOOKUP(I1951,MAESTROS!P$2:Q$2000,2,FALSE))","v":""}]
[{"$f":"IF(H1952=\"\",\"\",VLOOKUP(H1952,MAESTROS!N$2:O$2000,2,FALSE))","v":""},{"$f":"IF(I1952=\"\",\"\",VLOOKUP(I1952,MAESTROS!P$2:Q$2000,2,FALSE))","v":""}]
[{"$f":"IF(H1953=\"\",\"\",VLOOKUP(H1953,MAESTROS!N$2:O$2000,2,FALSE))","v":""},{"$f":"IF(I1953=\"\",\"\",VLOOKUP(I1953,MAESTROS!P$2:Q$2000,2,FALSE))","v":""}]
[{"$f":"IF(H1954=\"\",\"\",VLOOKUP(H1954,MAESTROS!N$2:O$2000,2,FALSE))","v":""},{"$f":"IF(I1954=\"\",\"\",VLOOKUP(I1954,MAESTROS!P$2:Q$2000,2,FALSE))","v":""}]
[{"$f":"IF(H1955=\"\",\"\",VLOOKUP(H1955,MAESTROS!N$2:O$2000,2,FALSE))","v":""},{"$f":"IF(I1955=\"\",\"\",VLOOKUP(I1955,MAESTROS!P$2:Q$2000,2,FALSE))","v":""}]
[{"$f":"IF(H1956=\"\",\"\",VLOOKUP(H1956,MAESTROS!N$2:O$2000,2,FALSE))","v":""},{"$f":"IF(I1956=\"\",\"\",VLOOKUP(I1956,MAESTROS!P$2:Q$2000,2,FALSE))","v":""}]
[{"$f":"IF(H1957=\"\",\"\",VLOOKUP(H1957,MAESTROS!N$2:O$2000,2,FALSE))","v":""},{"$f":"IF(I1957=\"\",\"\",VLOOKUP(I1957,MAESTROS!P$2:Q$2000,2,FALSE))","v":""}]
[{"$f":"IF(H1958=\"\",\"\",VLOOKUP(H1958,MAESTROS!N$2:O$2000,2,FALSE))","v":""},{"$f":"IF(I1958=\"\",\"\",VLOOKUP(I1958,MAESTROS!P$2:Q$2000,2,FALSE))","v":""}]
[{"$f":"IF(H1959=\"\",\"\",VLOOKUP(H1959,MAESTROS!N$2:O$2000,2,FALSE))","v":""},{"$f":"IF(I1959=\"\",\"\",VLOOKUP(I1959,MAESTROS!P$2:Q$2000,2,FALSE))","v":""}]
[{"$f":"IF(H1960=\"\",\"\",VLOOKUP(H1960,MAESTROS!N$2:O$2000,2,FALSE))","v":""},{"$f":"IF(I1960=\"\",\"\",VLOOKUP(I1960,MAESTROS!P$2:Q$2000,2,FALSE))","v":""}]
[{"$f":"IF(H1961=\"\",\"\",VLOOKUP(H1961,MAESTROS!N$2:O$2000,2,FALSE))","v":""},{"$f":"IF(I1961=\"\",\"\",VLOOKUP(I1961,MAESTROS!P$2:Q$2000,2,FALSE))","v":""}]
[{"$f":"IF(H1962=\"\",\"\",VLOOKUP(H1962,MAESTROS!N$2:O$2000,2,FALSE))","v":""},{"$f":"IF(I1962=\"\",\"\",VLOOKUP(I1962,MAESTROS!P$2:Q$2000,2,FALSE))","v":""}]
[{"$f":"IF(H1963=\"\",\"\",VLOOKUP(H1963,MAESTROS!N$2:O$2000,2,FALSE))","v":""},{"$f":"IF(I1963=\"\",\"\",VLOOKUP(I1963,MAESTROS!P$2:Q$2000,2,FALSE))","v":""}]
[{"$f":"IF(H1964=\"\",\"\",VLOOKUP(H1964,MAESTROS!N$2:O$2000,2,FALSE))","v":""},{"$f":"IF(I1964=\"\",\"\",VLOOKUP(I1964,MAESTROS!P$2:Q$2000,2,FALSE))","v":""}]
[{"$f":"IF(H1965=\"\",\"\",VLOOKUP(H1965,MAESTROS!N$2:O$2000,2,FALSE))","v":""},{"$f":"IF(I1965=\"\",\"\",VLOOKUP(I1965,MAESTROS!P$2:Q$2000,2,FALSE))","v":""}]
[{"$f":"IF(H1966=\"\",\"\",VLOOKUP(H1966,MAESTROS!N$2:O$2000,2,FALSE))","v":""},{"$f":"IF(I1966=\"\",\"\",VLOOKUP(I1966,MAESTROS!P$2:Q$2000,2,FALSE))","v":""}]
[{"$f":"IF(H1967=\"\",\"\",VLOOKUP(H1967,MAESTROS!N$2:O$2000,2,FALSE))","v":""},{"$f":"IF(I1967=\"\",\"\",VLOOKUP(I1967,MAESTROS!P$2:Q$2000,2,FALSE))","v":""}]
[{"$f":"IF(H1968=\"\",\"\",VLOOKUP(H1968,MAESTROS!N$2:O$2000,2,FALSE))","v":""},{"$f":"IF(I1968=\"\",\"\",VLOOKUP(I1968,MAESTROS!P$2:Q$2000,2,FALSE))","v":""}]
[{"$f":"IF(H1969=\"\",\"\",VLOOKUP(H1969,MAESTROS!N$2:O$2000,2,FALSE))","v":""},{"$f":"IF(I1969=\"\",\"\",VLOOKUP(I1969,MAESTROS!P$2:Q$2000,2,FALSE))","v":""}]
[{"$f":"IF(H1970=\"\",\"\",VLOOKUP(H1970,MAESTROS!N$2:O$2000,2,FALSE))","v":""},{"$f":"IF(I1970=\"\",\"\",VLOOKUP(I1970,MAESTROS!P$2:Q$2000,2,FALSE))","v":""}]
[{"$f":"IF(H1971=\"\",\"\",VLOOKUP(H1971,MAESTROS!N$2:O$2000,2,FALSE))","v":""},{"$f":"IF(I1971=\"\",\"\",VLOOKUP(I1971,MAESTROS!P$2:Q$2000,2,FALSE))","v":""}]
[{"$f":"IF(H1972=\"\",\"\",VLOOKUP(H1972,MAESTROS!N$2:O$2000,2,FALSE))","v":""},{"$f":"IF(I1972=\"\",\"\",VLOOKUP(I1972,MAESTROS!P$2:Q$2000,2,FALSE))","v":""}]
[{"$f":"IF(H1973=\"\",\"\",VLOOKUP(H1973,MAESTROS!N$2:O$2000,2,FALSE))","v":""},{"$f":"IF(I1973=\"\",\"\",VLOOKUP(I1973,MAESTROS!P$2:Q$2000,2,FALSE))","v":""}]
[{"$f":"IF(H1974=\"\",\"\",VLOOKUP(H1974,MAESTROS!N$2:O$2000,2,FALSE))","v":""},{"$f":"IF(I1974=\"\",\"\",VLOOKUP(I1974,MAESTROS!P$2:Q$2000,2,FALSE))","v":""}]
[{"$f":"IF(H1975=\"\",\"\",VLOOKUP(H1975,MAESTROS!N$2:O$2000,2,FALSE))","v":""},{"$f":"IF(I1975=\"\",\"\",VLOOKUP(I1975,MAESTROS!P$2:Q$2000,2,FALSE))","v":""}]
[{"$f":"IF(H1976=\"\",\"\",VLOOKUP(H1976,MAESTROS!N$2:O$2000,2,FALSE))","v":""},{"$f":"IF(I1976=\"\",\"\",VLOOKUP(I1976,MAESTROS!P$2:Q$2000,2,FALSE))","v":""}]
[{"$f":"IF(H1977=\"\",\"\",VLOOKUP(H1977,MAESTROS!N$2:O$2000,2,FALSE))","v":""},{"$f":"IF(I1977=\"\",\"\",VLOOKUP(I1977,MAESTROS!P$2:Q$2000,2,FALSE))","v":""}]
[{"$f":"IF(H1978=\"\",\"\",VLOOKUP(H1978,MAESTROS!N$2:O$2000,2,FALSE))","v":""},{"$f":"IF(I1978=\"\",\"\",VLOOKUP(I1978,MAESTROS!P$2:Q$2000,2,FALSE))","v":""}]
[{"$f":"IF(H1979=\"\",\"\",VLOOKUP(H1979,MAESTROS!N$2:O$2000,2,FALSE))","v":""},{"$f":"IF(I1979=\"\",\"\",VLOOKUP(I1979,MAESTROS!P$2:Q$2000,2,FALSE))","v":""}]
[{"$f":"IF(H1980=\"\",\"\",VLOOKUP(H1980,MAESTROS!N$2:O$2000,2,FALSE))","v":""},{"$f":"IF(I1980=\"\",\"\",VLOOKUP(I1980,MAESTROS!P$2:Q$2000,2,FALSE))","v":""}]
[{"$f":"IF(H1981=\"\",\"\",VLOOKUP(H1981,MAESTROS!N$2:O$2000,2,FALSE))","v":""},{"$f":"IF(I1981=\"\",\"\",VLOOKUP(I1981,MAESTROS!P$2:Q$2000,2,FALSE))","v":""}]
[{"$f":"IF(H1982=\"\",\"\",VLOOKUP(H1982,MAESTROS!N$2:O$2000,2,FALSE))","v":""},{"$f":"IF(I1982=\"\",\"\",VLOOKUP(I1982,MAESTROS!P$2:Q$2000,2,FALSE))","v":""}]
[{"$f":"IF(H1983=\"\",\"\",VLOOKUP(H1983,MAESTROS!N$2:O$2000,2,FALSE))","v":""},{"$f":"IF(I1983=\"\",\"\",VLOOKUP(I1983,MAESTROS!P$2:Q$2000,2,FALSE))","v":""}]
[{"$f":"IF(H1984=\"\",\"\",VLOOKUP(H1984,MAESTROS!N$2:O$2000,2,FALSE))","v":""},{"$f":"IF(I1984=\"\",\"\",VLOOKUP(I1984,MAESTROS!P$2:Q$2000,2,FALSE))","v":""}]
[{"$f":"IF(H1985=\"\",\"\",VLOOKUP(H1985,MAESTROS!N$2:O$2000,2,FALSE))","v":""},{"$f":"IF(I1985=\"\",\"\",VLOOKUP(I1985,MAESTROS!P$2:Q$2000,2,FALSE))","v":""}]
[{"$f":"IF(H1986=\"\",\"\",VLOOKUP(H1986,MAESTROS!N$2:O$2000,2,FALSE))","v":""},{"$f":"IF(I1986=\"\",\"\",VLOOKUP(I1986,MAESTROS!P$2:Q$2000,2,FALSE))","v":""}]
[{"$f":"IF(H1987=\"\",\"\",VLOOKUP(H1987,MAESTROS!N$2:O$2000,2,FALSE))","v":""},{"$f":"IF(I1987=\"\",\"\",VLOOKUP(I1987,MAESTROS!P$2:Q$2000,2,FALSE))","v":""}]
[{"$f":"IF(H1988=\"\",\"\",VLOOKUP(H1988,MAESTROS!N$2:O$2000,2,FALSE))","v":""},{"$f":"IF(I1988=\"\",\"\",VLOOKUP(I1988,MAESTROS!P$2:Q$2000,2,FALSE))","v":""}]
[{"$f":"IF(H1989=\"\",\"\",VLOOKUP(H1989,MAESTROS!N$2:O$2000,2,FALSE))","v":""},{"$f":"IF(I1989=\"\",\"\",VLOOKUP(I1989,MAESTROS!P$2:Q$2000,2,FALSE))","v":""}]
[{"$f":"IF(H1990=\"\",\"\",VLOOKUP(H1990,MAESTROS!N$2:O$2000,2,FALSE))","v":""},{"$f":"IF(I1990=\"\",\"\",VLOOKUP(I1990,MAESTROS!P$2:Q$2000,2,FALSE))","v":""}]
[{"$f":"IF(H1991=\"\",\"\",VLOOKUP(H1991,MAESTROS!N$2:O$2000,2,FALSE))","v":""},{"$f":"IF(I1991=\"\",\"\",VLOOKUP(I1991,MAESTROS!P$2:Q$2000,2,FALSE))","v":""}]
[{"$f":"IF(H1992=\"\",\"\",VLOOKUP(H1992,MAESTROS!N$2:O$2000,2,FALSE))","v":""},{"$f":"IF(I1992=\"\",\"\",VLOOKUP(I1992,MAESTROS!P$2:Q$2000,2,FALSE))","v":""}]
[{"$f":"IF(H1993=\"\",\"\",VLOOKUP(H1993,MAESTROS!N$2:O$2000,2,FALSE))","v":""},{"$f":"IF(I1993=\"\",\"\",VLOOKUP(I1993,MAESTROS!P$2:Q$2000,2,FALSE))","v":""}]
[{"$f":"IF(H1994=\"\",\"\",VLOOKUP(H1994,MAESTROS!N$2:O$2000,2,FALSE))","v":""},{"$f":"IF(I1994=\"\",\"\",VLOOKUP(I1994,MAESTROS!P$2:Q$2000,2,FALSE))","v":""}]
[{"$f":"IF(H1995=\"\",\"\",VLOOKUP(H1995,MAESTROS!N$2:O$2000,2,FALSE))","v":""},{"$f":"IF(I1995=\"\",\"\",VLOOKUP(I1995,MAESTROS!P$2:Q$2000,2,FALSE))","v":""}]
[{"$f":"IF(H1996=\"\",\"\",VLOOKUP(H1996,MAESTROS!N$2:O$2000,2,FALSE))","v":""},{"$f":"IF(I1996=\"\",\"\",VLOOKUP(I1996,MAESTROS!P$2:Q$2000,2,FALSE))","v":""}]
[{"$f":"IF(H1997=\"\",\"\",VLOOKUP(H1997,MAESTROS!N$2:O$2000,2,FALSE))","v":""},{"$f":"IF(I1997=\"\",\"\",VLOOKUP(I1997,MAESTROS!P$2:Q$2000,2,FALSE))","v":""}]
[{"$f":"IF(H1998=\"\",\"\",VLOOKUP(H1998,MAESTROS!N$2:O$2000,2,FALSE))","v":""},{"$f":"IF(I1998=\"\",\"\",VLOOKUP(I1998,MAESTROS!P$2:Q$2000,2,FALSE))","v":""}]
[{"$f":"IF(H1999=\"\",\"\",VLOOKUP(H1999,MAESTROS!N$2:O$2000,2,FALSE))","v":""},{"$f":"IF(I1999=\"\",\"\",VLOOKUP(I1999,MAESTROS!P$2:Q$2000,2,FALSE))","v":""}]
[{"$f":"IF(H2000=\"\",\"\",VLOOKUP(H2000,MAESTROS!N$2:O$2000,2,FALSE))","v":""},{"$f":"IF(I2000=\"\",\"\",VLOOKUP(I2000,MAESTROS!P$2:Q$2000,2,FALSE))","v":""}]
[{"$f":"IF(H2001=\"\",\"\",VLOOKUP(H2001,MAESTROS!N$2:O$2000,2,FALSE))","v":""},{"$f":"IF(I2001=\"\",\"\",VLOOKUP(I2001,MAESTROS!P$2:Q$2000,2,FALSE))","v":""}]
[{"$f":"IF(H2002=\"\",\"\",VLOOKUP(H2002,MAESTROS!N$2:O$2000,2,FALSE))","v":""},{"$f":"IF(I2002=\"\",\"\",VLOOKUP(I2002,MAESTROS!P$2:Q$2000,2,FALSE))","v":""}]
[{"$f":"IF(H2003=\"\",\"\",VLOOKUP(H2003,MAESTROS!N$2:O$2000,2,FALSE))","v":""},{"$f":"IF(I2003=\"\",\"\",VLOOKUP(I2003,MAESTROS!P$2:Q$2000,2,FALSE))","v":""}]
[{"$f":"IF(H2004=\"\",\"\",VLOOKUP(H2004,MAESTROS!N$2:O$2000,2,FALSE))","v":""},{"$f":"IF(I2004=\"\",\"\",VLOOKUP(I2004,MAESTROS!P$2:Q$2000,2,FALSE))","v":""}]
[{"$f":"IF(H2005=\"\",\"\",VLOOKUP(H2005,MAESTROS!N$2:O$2000,2,FALSE))","v":""},{"$f":"IF(I2005=\"\",\"\",VLOOKUP(I2005,MAESTROS!P$2:Q$2000,2,FALSE))","v":""}]
[{"$f":"IF(H2006=\"\",\"\",VLOOKUP(H2006,MAESTROS!N$2:O$2000,2,FALSE))","v":""},{"$f":"IF(I2006=\"\",\"\",VLOOKUP(I2006,MAESTROS!P$2:Q$2000,2,FALSE))","v":""}]
[{"$f":"IF(H2007=\"\",\"\",VLOOKUP(H2007,MAESTROS!N$2:O$2000,2,FALSE))","v":""},{"$f":"IF(I2007=\"\",\"\",VLOOKUP(I2007,MAESTROS!P$2:Q$2000,2,FALSE))","v":""}]
[{"$f":"IF(H2008=\"\",\"\",VLOOKUP(H2008,MAESTROS!N$2:O$2000,2,FALSE))","v":""},{"$f":"IF(I2008=\"\",\"\",VLOOKUP(I2008,MAESTROS!P$2:Q$2000,2,FALSE))","v":""}]
[{"$f":"IF(H2009=\"\",\"\",VLOOKUP(H2009,MAESTROS!N$2:O$2000,2,FALSE))","v":""},{"$f":"IF(I2009=\"\",\"\",VLOOKUP(I2009,MAESTROS!P$2:Q$2000,2,FALSE))","v":""}]
[{"$f":"IF(H2010=\"\",\"\",VLOOKUP(H2010,MAESTROS!N$2:O$2000,2,FALSE))","v":""},{"$f":"IF(I2010=\"\",\"\",VLOOKUP(I2010,MAESTROS!P$2:Q$2000,2,FALSE))","v":""}]
[{"$f":"IF(H2011=\"\",\"\",VLOOKUP(H2011,MAESTROS!N$2:O$2000,2,FALSE))","v":""},{"$f":"IF(I2011=\"\",\"\",VLOOKUP(I2011,MAESTROS!P$2:Q$2000,2,FALSE))","v":""}]
[{"$f":"IF(H2012=\"\",\"\",VLOOKUP(H2012,MAESTROS!N$2:O$2000,2,FALSE))","v":""},{"$f":"IF(I2012=\"\",\"\",VLOOKUP(I2012,MAESTROS!P$2:Q$2000,2,FALSE))","v":""}]
[{"$f":"IF(H2013=\"\",\"\",VLOOKUP(H2013,MAESTROS!N$2:O$2000,2,FALSE))","v":""},{"$f":"IF(I2013=\"\",\"\",VLOOKUP(I2013,MAESTROS!P$2:Q$2000,2,FALSE))","v":""}]
[{"$f":"IF(H2014=\"\",\"\",VLOOKUP(H2014,MAESTROS!N$2:O$2000,2,FALSE))","v":""},{"$f":"IF(I2014=\"\",\"\",VLOOKUP(I2014,MAESTROS!P$2:Q$2000,2,FALSE))","v":""}]
[{"$f":"IF(H2015=\"\",\"\",VLOOKUP(H2015,MAESTROS!N$2:O$2000,2,FALSE))","v":""},{"$f":"IF(I2015=\"\",\"\",VLOOKUP(I2015,MAESTROS!P$2:Q$2000,2,FALSE))","v":""}]
[{"$f":"IF(H2016=\"\",\"\",VLOOKUP(H2016,MAESTROS!N$2:O$2000,2,FALSE))","v":""},{"$f":"IF(I2016=\"\",\"\",VLOOKUP(I2016,MAESTROS!P$2:Q$2000,2,FALSE))","v":""}]
[{"$f":"IF(H2017=\"\",\"\",VLOOKUP(H2017,MAESTROS!N$2:O$2000,2,FALSE))","v":""},{"$f":"IF(I2017=\"\",\"\",VLOOKUP(I2017,MAESTROS!P$2:Q$2000,2,FALSE))","v":""}]
[{"$f":"IF(H2018=\"\",\"\",VLOOKUP(H2018,MAESTROS!N$2:O$2000,2,FALSE))","v":""},{"$f":"IF(I2018=\"\",\"\",VLOOKUP(I2018,MAESTROS!P$2:Q$2000,2,FALSE))","v":""}]
[{"$f":"IF(H2019=\"\",\"\",VLOOKUP(H2019,MAESTROS!N$2:O$2000,2,FALSE))","v":""},{"$f":"IF(I2019=\"\",\"\",VLOOKUP(I2019,MAESTROS!P$2:Q$2000,2,FALSE))","v":""}]
[{"$f":"IF(H2020=\"\",\"\",VLOOKUP(H2020,MAESTROS!N$2:O$2000,2,FALSE))","v":""},{"$f":"IF(I2020=\"\",\"\",VLOOKUP(I2020,MAESTROS!P$2:Q$2000,2,FALSE))","v":""}]
[{"$f":"IF(H2021=\"\",\"\",VLOOKUP(H2021,MAESTROS!N$2:O$2000,2,FALSE))","v":""},{"$f":"IF(I2021=\"\",\"\",VLOOKUP(I2021,MAESTROS!P$2:Q$2000,2,FALSE))","v":""}]
[{"$f":"IF(H2022=\"\",\"\",VLOOKUP(H2022,MAESTROS!N$2:O$2000,2,FALSE))","v":""},{"$f":"IF(I2022=\"\",\"\",VLOOKUP(I2022,MAESTROS!P$2:Q$2000,2,FALSE))","v":""}]
[{"$f":"IF(H2023=\"\",\"\",VLOOKUP(H2023,MAESTROS!N$2:O$2000,2,FALSE))","v":""},{"$f":"IF(I2023=\"\",\"\",VLOOKUP(I2023,MAESTROS!P$2:Q$2000,2,FALSE))","v":""}]
[{"$f":"IF(H2024=\"\",\"\",VLOOKUP(H2024,MAESTROS!N$2:O$2000,2,FALSE))","v":""},{"$f":"IF(I2024=\"\",\"\",VLOOKUP(I2024,MAESTROS!P$2:Q$2000,2,FALSE))","v":""}]
[{"$f":"IF(H2025=\"\",\"\",VLOOKUP(H2025,MAESTROS!N$2:O$2000,2,FALSE))","v":""},{"$f":"IF(I2025=\"\",\"\",VLOOKUP(I2025,MAESTROS!P$2:Q$2000,2,FALSE))","v":""}]
[{"$f":"IF(H2026=\"\",\"\",VLOOKUP(H2026,MAESTROS!N$2:O$2000,2,FALSE))","v":""},{"$f":"IF(I2026=\"\",\"\",VLOOKUP(I2026,MAESTROS!P$2:Q$2000,2,FALSE))","v":""}]
[{"$f":"IF(H2027=\"\",\"\",VLOOKUP(H2027,MAESTROS!N$2:O$2000,2,FALSE))","v":""},{"$f":"IF(I2027=\"\",\"\",VLOOKUP(I2027,MAESTROS!P$2:Q$2000,2,FALSE))","v":""}]
[{"$f":"IF(H2028=\"\",\"\",VLOOKUP(H2028,MAESTROS!N$2:O$2000,2,FALSE))","v":""},{"$f":"IF(I2028=\"\",\"\",VLOOKUP(I2028,MAESTROS!P$2:Q$2000,2,FALSE))","v":""}]
[{"$f":"IF(H2029=\"\",\"\",VLOOKUP(H2029,MAESTROS!N$2:O$2000,2,FALSE))","v":""},{"$f":"IF(I2029=\"\",\"\",VLOOKUP(I2029,MAESTROS!P$2:Q$2000,2,FALSE))","v":""}]
[{"$f":"IF(H2030=\"\",\"\",VLOOKUP(H2030,MAESTROS!N$2:O$2000,2,FALSE))","v":""},{"$f":"IF(I2030=\"\",\"\",VLOOKUP(I2030,MAESTROS!P$2:Q$2000,2,FALSE))","v":""}]
[{"$f":"IF(H2031=\"\",\"\",VLOOKUP(H2031,MAESTROS!N$2:O$2000,2,FALSE))","v":""},{"$f":"IF(I2031=\"\",\"\",VLOOKUP(I2031,MAESTROS!P$2:Q$2000,2,FALSE))","v":""}]
[{"$f":"IF(H2032=\"\",\"\",VLOOKUP(H2032,MAESTROS!N$2:O$2000,2,FALSE))","v":""},{"$f":"IF(I2032=\"\",\"\",VLOOKUP(I2032,MAESTROS!P$2:Q$2000,2,FALSE))","v":""}]
[{"$f":"IF(H2033=\"\",\"\",VLOOKUP(H2033,MAESTROS!N$2:O$2000,2,FALSE))","v":""},{"$f":"IF(I2033=\"\",\"\",VLOOKUP(I2033,MAESTROS!P$2:Q$2000,2,FALSE))","v":""}]
[{"$f":"IF(H2034=\"\",\"\",VLOOKUP(H2034,MAESTROS!N$2:O$2000,2,FALSE))","v":""},{"$f":"IF(I2034=\"\",\"\",VLOOKUP(I2034,MAESTROS!P$2:Q$2000,2,FALSE))","v":""}]
[{"$f":"IF(H2035=\"\",\"\",VLOOKUP(H2035,MAESTROS!N$2:O$2000,2,FALSE))","v":""},{"$f":"IF(I2035=\"\",\"\",VLOOKUP(I2035,MAESTROS!P$2:Q$2000,2,FALSE))","v":""}]
[{"$f":"IF(H2036=\"\",\"\",VLOOKUP(H2036,MAESTROS!N$2:O$2000,2,FALSE))","v":""},{"$f":"IF(I2036=\"\",\"\",VLOOKUP(I2036,MAESTROS!P$2:Q$2000,2,FALSE))","v":""}]
[{"$f":"IF(H2037=\"\",\"\",VLOOKUP(H2037,MAESTROS!N$2:O$2000,2,FALSE))","v":""},{"$f":"IF(I2037=\"\",\"\",VLOOKUP(I2037,MAESTROS!P$2:Q$2000,2,FALSE))","v":""}]
[{"$f":"IF(H2038=\"\",\"\",VLOOKUP(H2038,MAESTROS!N$2:O$2000,2,FALSE))","v":""},{"$f":"IF(I2038=\"\",\"\",VLOOKUP(I2038,MAESTROS!P$2:Q$2000,2,FALSE))","v":""}]
[{"$f":"IF(H2039=\"\",\"\",VLOOKUP(H2039,MAESTROS!N$2:O$2000,2,FALSE))","v":""},{"$f":"IF(I2039=\"\",\"\",VLOOKUP(I2039,MAESTROS!P$2:Q$2000,2,FALSE))","v":""}]
[{"$f":"IF(H2040=\"\",\"\",VLOOKUP(H2040,MAESTROS!N$2:O$2000,2,FALSE))","v":""},{"$f":"IF(I2040=\"\",\"\",VLOOKUP(I2040,MAESTROS!P$2:Q$2000,2,FALSE))","v":""}]
[{"$f":"IF(H2041=\"\",\"\",VLOOKUP(H2041,MAESTROS!N$2:O$2000,2,FALSE))","v":""},{"$f":"IF(I2041=\"\",\"\",VLOOKUP(I2041,MAESTROS!P$2:Q$2000,2,FALSE))","v":""}]
[{"$f":"IF(H2042=\"\",\"\",VLOOKUP(H2042,MAESTROS!N$2:O$2000,2,FALSE))","v":""},{"$f":"IF(I2042=\"\",\"\",VLOOKUP(I2042,MAESTROS!P$2:Q$2000,2,FALSE))","v":""}]
[{"$f":"IF(H2043=\"\",\"\",VLOOKUP(H2043,MAESTROS!N$2:O$2000,2,FALSE))","v":""},{"$f":"IF(I2043=\"\",\"\",VLOOKUP(I2043,MAESTROS!P$2:Q$2000,2,FALSE))","v":""}]
[{"$f":"IF(H2044=\"\",\"\",VLOOKUP(H2044,MAESTROS!N$2:O$2000,2,FALSE))","v":""},{"$f":"IF(I2044=\"\",\"\",VLOOKUP(I2044,MAESTROS!P$2:Q$2000,2,FALSE))","v":""}]
[{"$f":"IF(H2045=\"\",\"\",VLOOKUP(H2045,MAESTROS!N$2:O$2000,2,FALSE))","v":""},{"$f":"IF(I2045=\"\",\"\",VLOOKUP(I2045,MAESTROS!P$2:Q$2000,2,FALSE))","v":""}]
[{"$f":"IF(H2046=\"\",\"\",VLOOKUP(H2046,MAESTROS!N$2:O$2000,2,FALSE))","v":""},{"$f":"IF(I2046=\"\",\"\",VLOOKUP(I2046,MAESTROS!P$2:Q$2000,2,FALSE))","v":""}]
[{"$f":"IF(H2047=\"\",\"\",VLOOKUP(H2047,MAESTROS!N$2:O$2000,2,FALSE))","v":""},{"$f":"IF(I2047=\"\",\"\",VLOOKUP(I2047,MAESTROS!P$2:Q$2000,2,FALSE))","v":""}]
[{"$f":"IF(H2048=\"\",\"\",VLOOKUP(H2048,MAESTROS!N$2:O$2000,2,FALSE))","v":""},{"$f":"IF(I2048=\"\",\"\",VLOOKUP(I2048,MAESTROS!P$2:Q$2000,2,FALSE))","v":""}]
[{"$f":"IF(H2049=\"\",\"\",VLOOKUP(H2049,MAESTROS!N$2:O$2000,2,FALSE))","v":""},{"$f":"IF(I2049=\"\",\"\",VLOOKUP(I2049,MAESTROS!P$2:Q$2000,2,FALSE))","v":""}]
[{"$f":"IF(H2050=\"\",\"\",VLOOKUP(H2050,MAESTROS!N$2:O$2000,2,FALSE))","v":""},{"$f":"IF(I2050=\"\",\"\",VLOOKUP(I2050,MAESTROS!P$2:Q$2000,2,FALSE))","v":""}]
[{"$f":"IF(H2051=\"\",\"\",VLOOKUP(H2051,MAESTROS!N$2:O$2000,2,FALSE))","v":""},{"$f":"IF(I2051=\"\",\"\",VLOOKUP(I2051,MAESTROS!P$2:Q$2000,2,FALSE))","v":""}]
[{"$f":"IF(H2052=\"\",\"\",VLOOKUP(H2052,MAESTROS!N$2:O$2000,2,FALSE))","v":""},{"$f":"IF(I2052=\"\",\"\",VLOOKUP(I2052,MAESTROS!P$2:Q$2000,2,FALSE))","v":""}]
[{"$f":"IF(H2053=\"\",\"\",VLOOKUP(H2053,MAESTROS!N$2:O$2000,2,FALSE))","v":""},{"$f":"IF(I2053=\"\",\"\",VLOOKUP(I2053,MAESTROS!P$2:Q$2000,2,FALSE))","v":""}]
[{"$f":"IF(H2054=\"\",\"\",VLOOKUP(H2054,MAESTROS!N$2:O$2000,2,FALSE))","v":""},{"$f":"IF(I2054=\"\",\"\",VLOOKUP(I2054,MAESTROS!P$2:Q$2000,2,FALSE))","v":""}]
[{"$f":"IF(H2055=\"\",\"\",VLOOKUP(H2055,MAESTROS!N$2:O$2000,2,FALSE))","v":""},{"$f":"IF(I2055=\"\",\"\",VLOOKUP(I2055,MAESTROS!P$2:Q$2000,2,FALSE))","v":""}]
[{"$f":"IF(H2056=\"\",\"\",VLOOKUP(H2056,MAESTROS!N$2:O$2000,2,FALSE))","v":""},{"$f":"IF(I2056=\"\",\"\",VLOOKUP(I2056,MAESTROS!P$2:Q$2000,2,FALSE))","v":""}]
[{"$f":"IF(H2057=\"\",\"\",VLOOKUP(H2057,MAESTROS!N$2:O$2000,2,FALSE))","v":""},{"$f":"IF(I2057=\"\",\"\",VLOOKUP(I2057,MAESTROS!P$2:Q$2000,2,FALSE))","v":""}]
[{"$f":"IF(H2058=\"\",\"\",VLOOKUP(H2058,MAESTROS!N$2:O$2000,2,FALSE))","v":""},{"$f":"IF(I2058=\"\",\"\",VLOOKUP(I2058,MAESTROS!P$2:Q$2000,2,FALSE))","v":""}]
[{"$f":"IF(H2059=\"\",\"\",VLOOKUP(H2059,MAESTROS!N$2:O$2000,2,FALSE))","v":""},{"$f":"IF(I2059=\"\",\"\",VLOOKUP(I2059,MAESTROS!P$2:Q$2000,2,FALSE))","v":""}]
[{"$f":"IF(H2060=\"\",\"\",VLOOKUP(H2060,MAESTROS!N$2:O$2000,2,FALSE))","v":""},{"$f":"IF(I2060=\"\",\"\",VLOOKUP(I2060,MAESTROS!P$2:Q$2000,2,FALSE))","v":""}]
[{"$f":"IF(H2061=\"\",\"\",VLOOKUP(H2061,MAESTROS!N$2:O$2000,2,FALSE))","v":""},{"$f":"IF(I2061=\"\",\"\",VLOOKUP(I2061,MAESTROS!P$2:Q$2000,2,FALSE))","v":""}]
[{"$f":"IF(H2062=\"\",\"\",VLOOKUP(H2062,MAESTROS!N$2:O$2000,2,FALSE))","v":""},{"$f":"IF(I2062=\"\",\"\",VLOOKUP(I2062,MAESTROS!P$2:Q$2000,2,FALSE))","v":""}]
[{"$f":"IF(H2063=\"\",\"\",VLOOKUP(H2063,MAESTROS!N$2:O$2000,2,FALSE))","v":""},{"$f":"IF(I2063=\"\",\"\",VLOOKUP(I2063,MAESTROS!P$2:Q$2000,2,FALSE))","v":""}]
[{"$f":"IF(H2064=\"\",\"\",VLOOKUP(H2064,MAESTROS!N$2:O$2000,2,FALSE))","v":""},{"$f":"IF(I2064=\"\",\"\",VLOOKUP(I2064,MAESTROS!P$2:Q$2000,2,FALSE))","v":""}]
[{"$f":"IF(H2065=\"\",\"\",VLOOKUP(H2065,MAESTROS!N$2:O$2000,2,FALSE))","v":""},{"$f":"IF(I2065=\"\",\"\",VLOOKUP(I2065,MAESTROS!P$2:Q$2000,2,FALSE))","v":""}]
[{"$f":"IF(H2066=\"\",\"\",VLOOKUP(H2066,MAESTROS!N$2:O$2000,2,FALSE))","v":""},{"$f":"IF(I2066=\"\",\"\",VLOOKUP(I2066,MAESTROS!P$2:Q$2000,2,FALSE))","v":""}]
[{"$f":"IF(H2067=\"\",\"\",VLOOKUP(H2067,MAESTROS!N$2:O$2000,2,FALSE))","v":""},{"$f":"IF(I2067=\"\",\"\",VLOOKUP(I2067,MAESTROS!P$2:Q$2000,2,FALSE))","v":""}]
[{"$f":"IF(H2068=\"\",\"\",VLOOKUP(H2068,MAESTROS!N$2:O$2000,2,FALSE))","v":""},{"$f":"IF(I2068=\"\",\"\",VLOOKUP(I2068,MAESTROS!P$2:Q$2000,2,FALSE))","v":""}]
[{"$f":"IF(H2069=\"\",\"\",VLOOKUP(H2069,MAESTROS!N$2:O$2000,2,FALSE))","v":""},{"$f":"IF(I2069=\"\",\"\",VLOOKUP(I2069,MAESTROS!P$2:Q$2000,2,FALSE))","v":""}]
[{"$f":"IF(H2070=\"\",\"\",VLOOKUP(H2070,MAESTROS!N$2:O$2000,2,FALSE))","v":""},{"$f":"IF(I2070=\"\",\"\",VLOOKUP(I2070,MAESTROS!P$2:Q$2000,2,FALSE))","v":""}]
[{"$f":"IF(H2071=\"\",\"\",VLOOKUP(H2071,MAESTROS!N$2:O$2000,2,FALSE))","v":""},{"$f":"IF(I2071=\"\",\"\",VLOOKUP(I2071,MAESTROS!P$2:Q$2000,2,FALSE))","v":""}]
[{"$f":"IF(H2072=\"\",\"\",VLOOKUP(H2072,MAESTROS!N$2:O$2000,2,FALSE))","v":""},{"$f":"IF(I2072=\"\",\"\",VLOOKUP(I2072,MAESTROS!P$2:Q$2000,2,FALSE))","v":""}]
[{"$f":"IF(H2073=\"\",\"\",VLOOKUP(H2073,MAESTROS!N$2:O$2000,2,FALSE))","v":""},{"$f":"IF(I2073=\"\",\"\",VLOOKUP(I2073,MAESTROS!P$2:Q$2000,2,FALSE))","v":""}]
[{"$f":"IF(H2074=\"\",\"\",VLOOKUP(H2074,MAESTROS!N$2:O$2000,2,FALSE))","v":""},{"$f":"IF(I2074=\"\",\"\",VLOOKUP(I2074,MAESTROS!P$2:Q$2000,2,FALSE))","v":""}]
[{"$f":"IF(H2075=\"\",\"\",VLOOKUP(H2075,MAESTROS!N$2:O$2000,2,FALSE))","v":""},{"$f":"IF(I2075=\"\",\"\",VLOOKUP(I2075,MAESTROS!P$2:Q$2000,2,FALSE))","v":""}]
[{"$f":"IF(H2076=\"\",\"\",VLOOKUP(H2076,MAESTROS!N$2:O$2000,2,FALSE))","v":""},{"$f":"IF(I2076=\"\",\"\",VLOOKUP(I2076,MAESTROS!P$2:Q$2000,2,FALSE))","v":""}]
[{"$f":"IF(H2077=\"\",\"\",VLOOKUP(H2077,MAESTROS!N$2:O$2000,2,FALSE))","v":""},{"$f":"IF(I2077=\"\",\"\",VLOOKUP(I2077,MAESTROS!P$2:Q$2000,2,FALSE))","v":""}]
[{"$f":"IF(H2078=\"\",\"\",VLOOKUP(H2078,MAESTROS!N$2:O$2000,2,FALSE))","v":""},{"$f":"IF(I2078=\"\",\"\",VLOOKUP(I2078,MAESTROS!P$2:Q$2000,2,FALSE))","v":""}]
[{"$f":"IF(H2079=\"\",\"\",VLOOKUP(H2079,MAESTROS!N$2:O$2000,2,FALSE))","v":""},{"$f":"IF(I2079=\"\",\"\",VLOOKUP(I2079,MAESTROS!P$2:Q$2000,2,FALSE))","v":""}]
[{"$f":"IF(H2080=\"\",\"\",VLOOKUP(H2080,MAESTROS!N$2:O$2000,2,FALSE))","v":""},{"$f":"IF(I2080=\"\",\"\",VLOOKUP(I2080,MAESTROS!P$2:Q$2000,2,FALSE))","v":""}]
[{"$f":"IF(H2081=\"\",\"\",VLOOKUP(H2081,MAESTROS!N$2:O$2000,2,FALSE))","v":""},{"$f":"IF(I2081=\"\",\"\",VLOOKUP(I2081,MAESTROS!P$2:Q$2000,2,FALSE))","v":""}]
[{"$f":"IF(H2082=\"\",\"\",VLOOKUP(H2082,MAESTROS!N$2:O$2000,2,FALSE))","v":""},{"$f":"IF(I2082=\"\",\"\",VLOOKUP(I2082,MAESTROS!P$2:Q$2000,2,FALSE))","v":""}]
[{"$f":"IF(H2083=\"\",\"\",VLOOKUP(H2083,MAESTROS!N$2:O$2000,2,FALSE))","v":""},{"$f":"IF(I2083=\"\",\"\",VLOOKUP(I2083,MAESTROS!P$2:Q$2000,2,FALSE))","v":""}]
[{"$f":"IF(H2084=\"\",\"\",VLOOKUP(H2084,MAESTROS!N$2:O$2000,2,FALSE))","v":""},{"$f":"IF(I2084=\"\",\"\",VLOOKUP(I2084,MAESTROS!P$2:Q$2000,2,FALSE))","v":""}]
[{"$f":"IF(H2085=\"\",\"\",VLOOKUP(H2085,MAESTROS!N$2:O$2000,2,FALSE))","v":""},{"$f":"IF(I2085=\"\",\"\",VLOOKUP(I2085,MAESTROS!P$2:Q$2000,2,FALSE))","v":""}]
[{"$f":"IF(H2086=\"\",\"\",VLOOKUP(H2086,MAESTROS!N$2:O$2000,2,FALSE))","v":""},{"$f":"IF(I2086=\"\",\"\",VLOOKUP(I2086,MAESTROS!P$2:Q$2000,2,FALSE))","v":""}]
[{"$f":"IF(H2087=\"\",\"\",VLOOKUP(H2087,MAESTROS!N$2:O$2000,2,FALSE))","v":""},{"$f":"IF(I2087=\"\",\"\",VLOOKUP(I2087,MAESTROS!P$2:Q$2000,2,FALSE))","v":""}]
[{"$f":"IF(H2088=\"\",\"\",VLOOKUP(H2088,MAESTROS!N$2:O$2000,2,FALSE))","v":""},{"$f":"IF(I2088=\"\",\"\",VLOOKUP(I2088,MAESTROS!P$2:Q$2000,2,FALSE))","v":""}]
[{"$f":"IF(H2089=\"\",\"\",VLOOKUP(H2089,MAESTROS!N$2:O$2000,2,FALSE))","v":""},{"$f":"IF(I2089=\"\",\"\",VLOOKUP(I2089,MAESTROS!P$2:Q$2000,2,FALSE))","v":""}]
[{"$f":"IF(H2090=\"\",\"\",VLOOKUP(H2090,MAESTROS!N$2:O$2000,2,FALSE))","v":""},{"$f":"IF(I2090=\"\",\"\",VLOOKUP(I2090,MAESTROS!P$2:Q$2000,2,FALSE))","v":""}]
[{"$f":"IF(H2091=\"\",\"\",VLOOKUP(H2091,MAESTROS!N$2:O$2000,2,FALSE))","v":""},{"$f":"IF(I2091=\"\",\"\",VLOOKUP(I2091,MAESTROS!P$2:Q$2000,2,FALSE))","v":""}]
[{"$f":"IF(H2092=\"\",\"\",VLOOKUP(H2092,MAESTROS!N$2:O$2000,2,FALSE))","v":""},{"$f":"IF(I2092=\"\",\"\",VLOOKUP(I2092,MAESTROS!P$2:Q$2000,2,FALSE))","v":""}]
[{"$f":"IF(H2093=\"\",\"\",VLOOKUP(H2093,MAESTROS!N$2:O$2000,2,FALSE))","v":""},{"$f":"IF(I2093=\"\",\"\",VLOOKUP(I2093,MAESTROS!P$2:Q$2000,2,FALSE))","v":""}]
[{"$f":"IF(H2094=\"\",\"\",VLOOKUP(H2094,MAESTROS!N$2:O$2000,2,FALSE))","v":""},{"$f":"IF(I2094=\"\",\"\",VLOOKUP(I2094,MAESTROS!P$2:Q$2000,2,FALSE))","v":""}]
[{"$f":"IF(H2095=\"\",\"\",VLOOKUP(H2095,MAESTROS!N$2:O$2000,2,FALSE))","v":""},{"$f":"IF(I2095=\"\",\"\",VLOOKUP(I2095,MAESTROS!P$2:Q$2000,2,FALSE))","v":""}]
[{"$f":"IF(H2096=\"\",\"\",VLOOKUP(H2096,MAESTROS!N$2:O$2000,2,FALSE))","v":""},{"$f":"IF(I2096=\"\",\"\",VLOOKUP(I2096,MAESTROS!P$2:Q$2000,2,FALSE))","v":""}]
[{"$f":"IF(H2097=\"\",\"\",VLOOKUP(H2097,MAESTROS!N$2:O$2000,2,FALSE))","v":""},{"$f":"IF(I2097=\"\",\"\",VLOOKUP(I2097,MAESTROS!P$2:Q$2000,2,FALSE))","v":""}]
[{"$f":"IF(H2098=\"\",\"\",VLOOKUP(H2098,MAESTROS!N$2:O$2000,2,FALSE))","v":""},{"$f":"IF(I2098=\"\",\"\",VLOOKUP(I2098,MAESTROS!P$2:Q$2000,2,FALSE))","v":""}]
[{"$f":"IF(H2099=\"\",\"\",VLOOKUP(H2099,MAESTROS!N$2:O$2000,2,FALSE))","v":""},{"$f":"IF(I2099=\"\",\"\",VLOOKUP(I2099,MAESTROS!P$2:Q$2000,2,FALSE))","v":""}]
[{"$f":"IF(H2100=\"\",\"\",VLOOKUP(H2100,MAESTROS!N$2:O$2000,2,FALSE))","v":""},{"$f":"IF(I2100=\"\",\"\",VLOOKUP(I2100,MAESTROS!P$2:Q$2000,2,FALSE))","v":""}]
[{"$f":"IF(H2101=\"\",\"\",VLOOKUP(H2101,MAESTROS!N$2:O$2000,2,FALSE))","v":""},{"$f":"IF(I2101=\"\",\"\",VLOOKUP(I2101,MAESTROS!P$2:Q$2000,2,FALSE))","v":""}]
[{"$f":"IF(H2102=\"\",\"\",VLOOKUP(H2102,MAESTROS!N$2:O$2000,2,FALSE))","v":""},{"$f":"IF(I2102=\"\",\"\",VLOOKUP(I2102,MAESTROS!P$2:Q$2000,2,FALSE))","v":""}]
[{"$f":"IF(H2103=\"\",\"\",VLOOKUP(H2103,MAESTROS!N$2:O$2000,2,FALSE))","v":""},{"$f":"IF(I2103=\"\",\"\",VLOOKUP(I2103,MAESTROS!P$2:Q$2000,2,FALSE))","v":""}]
[{"$f":"IF(H2104=\"\",\"\",VLOOKUP(H2104,MAESTROS!N$2:O$2000,2,FALSE))","v":""},{"$f":"IF(I2104=\"\",\"\",VLOOKUP(I2104,MAESTROS!P$2:Q$2000,2,FALSE))","v":""}]
[{"$f":"IF(H2105=\"\",\"\",VLOOKUP(H2105,MAESTROS!N$2:O$2000,2,FALSE))","v":""},{"$f":"IF(I2105=\"\",\"\",VLOOKUP(I2105,MAESTROS!P$2:Q$2000,2,FALSE))","v":""}]
[{"$f":"IF(H2106=\"\",\"\",VLOOKUP(H2106,MAESTROS!N$2:O$2000,2,FALSE))","v":""},{"$f":"IF(I2106=\"\",\"\",VLOOKUP(I2106,MAESTROS!P$2:Q$2000,2,FALSE))","v":""}]
[{"$f":"IF(H2107=\"\",\"\",VLOOKUP(H2107,MAESTROS!N$2:O$2000,2,FALSE))","v":""},{"$f":"IF(I2107=\"\",\"\",VLOOKUP(I2107,MAESTROS!P$2:Q$2000,2,FALSE))","v":""}]
[{"$f":"IF(H2108=\"\",\"\",VLOOKUP(H2108,MAESTROS!N$2:O$2000,2,FALSE))","v":""},{"$f":"IF(I2108=\"\",\"\",VLOOKUP(I2108,MAESTROS!P$2:Q$2000,2,FALSE))","v":""}]
[{"$f":"IF(H2109=\"\",\"\",VLOOKUP(H2109,MAESTROS!N$2:O$2000,2,FALSE))","v":""},{"$f":"IF(I2109=\"\",\"\",VLOOKUP(I2109,MAESTROS!P$2:Q$2000,2,FALSE))","v":""}]
[{"$f":"IF(H2110=\"\",\"\",VLOOKUP(H2110,MAESTROS!N$2:O$2000,2,FALSE))","v":""},{"$f":"IF(I2110=\"\",\"\",VLOOKUP(I2110,MAESTROS!P$2:Q$2000,2,FALSE))","v":""}]
[{"$f":"IF(H2111=\"\",\"\",VLOOKUP(H2111,MAESTROS!N$2:O$2000,2,FALSE))","v":""},{"$f":"IF(I2111=\"\",\"\",VLOOKUP(I2111,MAESTROS!P$2:Q$2000,2,FALSE))","v":""}]
[{"$f":"IF(H2112=\"\",\"\",VLOOKUP(H2112,MAESTROS!N$2:O$2000,2,FALSE))","v":""},{"$f":"IF(I2112=\"\",\"\",VLOOKUP(I2112,MAESTROS!P$2:Q$2000,2,FALSE))","v":""}]
[{"$f":"IF(H2113=\"\",\"\",VLOOKUP(H2113,MAESTROS!N$2:O$2000,2,FALSE))","v":""},{"$f":"IF(I2113=\"\",\"\",VLOOKUP(I2113,MAESTROS!P$2:Q$2000,2,FALSE))","v":""}]
[{"$f":"IF(H2114=\"\",\"\",VLOOKUP(H2114,MAESTROS!N$2:O$2000,2,FALSE))","v":""},{"$f":"IF(I2114=\"\",\"\",VLOOKUP(I2114,MAESTROS!P$2:Q$2000,2,FALSE))","v":""}]
[{"$f":"IF(H2115=\"\",\"\",VLOOKUP(H2115,MAESTROS!N$2:O$2000,2,FALSE))","v":""},{"$f":"IF(I2115=\"\",\"\",VLOOKUP(I2115,MAESTROS!P$2:Q$2000,2,FALSE))","v":""}]
[{"$f":"IF(H2116=\"\",\"\",VLOOKUP(H2116,MAESTROS!N$2:O$2000,2,FALSE))","v":""},{"$f":"IF(I2116=\"\",\"\",VLOOKUP(I2116,MAESTROS!P$2:Q$2000,2,FALSE))","v":""}]
[{"$f":"IF(H2117=\"\",\"\",VLOOKUP(H2117,MAESTROS!N$2:O$2000,2,FALSE))","v":""},{"$f":"IF(I2117=\"\",\"\",VLOOKUP(I2117,MAESTROS!P$2:Q$2000,2,FALSE))","v":""}]
[{"$f":"IF(H2118=\"\",\"\",VLOOKUP(H2118,MAESTROS!N$2:O$2000,2,FALSE))","v":""},{"$f":"IF(I2118=\"\",\"\",VLOOKUP(I2118,MAESTROS!P$2:Q$2000,2,FALSE))","v":""}]
[{"$f":"IF(H2119=\"\",\"\",VLOOKUP(H2119,MAESTROS!N$2:O$2000,2,FALSE))","v":""},{"$f":"IF(I2119=\"\",\"\",VLOOKUP(I2119,MAESTROS!P$2:Q$2000,2,FALSE))","v":""}]
[{"$f":"IF(H2120=\"\",\"\",VLOOKUP(H2120,MAESTROS!N$2:O$2000,2,FALSE))","v":""},{"$f":"IF(I2120=\"\",\"\",VLOOKUP(I2120,MAESTROS!P$2:Q$2000,2,FALSE))","v":""}]
[{"$f":"IF(H2121=\"\",\"\",VLOOKUP(H2121,MAESTROS!N$2:O$2000,2,FALSE))","v":""},{"$f":"IF(I2121=\"\",\"\",VLOOKUP(I2121,MAESTROS!P$2:Q$2000,2,FALSE))","v":""}]
[{"$f":"IF(H2122=\"\",\"\",VLOOKUP(H2122,MAESTROS!N$2:O$2000,2,FALSE))","v":""},{"$f":"IF(I2122=\"\",\"\",VLOOKUP(I2122,MAESTROS!P$2:Q$2000,2,FALSE))","v":""}]
[{"$f":"IF(H2123=\"\",\"\",VLOOKUP(H2123,MAESTROS!N$2:O$2000,2,FALSE))","v":""},{"$f":"IF(I2123=\"\",\"\",VLOOKUP(I2123,MAESTROS!P$2:Q$2000,2,FALSE))","v":""}]
[{"$f":"IF(H2124=\"\",\"\",VLOOKUP(H2124,MAESTROS!N$2:O$2000,2,FALSE))","v":""},{"$f":"IF(I2124=\"\",\"\",VLOOKUP(I2124,MAESTROS!P$2:Q$2000,2,FALSE))","v":""}]
[{"$f":"IF(H2125=\"\",\"\",VLOOKUP(H2125,MAESTROS!N$2:O$2000,2,FALSE))","v":""},{"$f":"IF(I2125=\"\",\"\",VLOOKUP(I2125,MAESTROS!P$2:Q$2000,2,FALSE))","v":""}]
[{"$f":"IF(H2126=\"\",\"\",VLOOKUP(H2126,MAESTROS!N$2:O$2000,2,FALSE))","v":""},{"$f":"IF(I2126=\"\",\"\",VLOOKUP(I2126,MAESTROS!P$2:Q$2000,2,FALSE))","v":""}]
[{"$f":"IF(H2127=\"\",\"\",VLOOKUP(H2127,MAESTROS!N$2:O$2000,2,FALSE))","v":""},{"$f":"IF(I2127=\"\",\"\",VLOOKUP(I2127,MAESTROS!P$2:Q$2000,2,FALSE))","v":""}]
[{"$f":"IF(H2128=\"\",\"\",VLOOKUP(H2128,MAESTROS!N$2:O$2000,2,FALSE))","v":""},{"$f":"IF(I2128=\"\",\"\",VLOOKUP(I2128,MAESTROS!P$2:Q$2000,2,FALSE))","v":""}]
[{"$f":"IF(H2129=\"\",\"\",VLOOKUP(H2129,MAESTROS!N$2:O$2000,2,FALSE))","v":""},{"$f":"IF(I2129=\"\",\"\",VLOOKUP(I2129,MAESTROS!P$2:Q$2000,2,FALSE))","v":""}]
[{"$f":"IF(H2130=\"\",\"\",VLOOKUP(H2130,MAESTROS!N$2:O$2000,2,FALSE))","v":""},{"$f":"IF(I2130=\"\",\"\",VLOOKUP(I2130,MAESTROS!P$2:Q$2000,2,FALSE))","v":""}]
[{"$f":"IF(H2131=\"\",\"\",VLOOKUP(H2131,MAESTROS!N$2:O$2000,2,FALSE))","v":""},{"$f":"IF(I2131=\"\",\"\",VLOOKUP(I2131,MAESTROS!P$2:Q$2000,2,FALSE))","v":""}]
[{"$f":"IF(H2132=\"\",\"\",VLOOKUP(H2132,MAESTROS!N$2:O$2000,2,FALSE))","v":""},{"$f":"IF(I2132=\"\",\"\",VLOOKUP(I2132,MAESTROS!P$2:Q$2000,2,FALSE))","v":""}]
[{"$f":"IF(H2133=\"\",\"\",VLOOKUP(H2133,MAESTROS!N$2:O$2000,2,FALSE))","v":""},{"$f":"IF(I2133=\"\",\"\",VLOOKUP(I2133,MAESTROS!P$2:Q$2000,2,FALSE))","v":""}]
[{"$f":"IF(H2134=\"\",\"\",VLOOKUP(H2134,MAESTROS!N$2:O$2000,2,FALSE))","v":""},{"$f":"IF(I2134=\"\",\"\",VLOOKUP(I2134,MAESTROS!P$2:Q$2000,2,FALSE))","v":""}]
[{"$f":"IF(H2135=\"\",\"\",VLOOKUP(H2135,MAESTROS!N$2:O$2000,2,FALSE))","v":""},{"$f":"IF(I2135=\"\",\"\",VLOOKUP(I2135,MAESTROS!P$2:Q$2000,2,FALSE))","v":""}]
[{"$f":"IF(H2136=\"\",\"\",VLOOKUP(H2136,MAESTROS!N$2:O$2000,2,FALSE))","v":""},{"$f":"IF(I2136=\"\",\"\",VLOOKUP(I2136,MAESTROS!P$2:Q$2000,2,FALSE))","v":""}]
[{"$f":"IF(H2137=\"\",\"\",VLOOKUP(H2137,MAESTROS!N$2:O$2000,2,FALSE))","v":""},{"$f":"IF(I2137=\"\",\"\",VLOOKUP(I2137,MAESTROS!P$2:Q$2000,2,FALSE))","v":""}]
[{"$f":"IF(H2138=\"\",\"\",VLOOKUP(H2138,MAESTROS!N$2:O$2000,2,FALSE))","v":""},{"$f":"IF(I2138=\"\",\"\",VLOOKUP(I2138,MAESTROS!P$2:Q$2000,2,FALSE))","v":""}]
[{"$f":"IF(H2139=\"\",\"\",VLOOKUP(H2139,MAESTROS!N$2:O$2000,2,FALSE))","v":""},{"$f":"IF(I2139=\"\",\"\",VLOOKUP(I2139,MAESTROS!P$2:Q$2000,2,FALSE))","v":""}]
[{"$f":"IF(H2140=\"\",\"\",VLOOKUP(H2140,MAESTROS!N$2:O$2000,2,FALSE))","v":""},{"$f":"IF(I2140=\"\",\"\",VLOOKUP(I2140,MAESTROS!P$2:Q$2000,2,FALSE))","v":""}]
[{"$f":"IF(H2141=\"\",\"\",VLOOKUP(H2141,MAESTROS!N$2:O$2000,2,FALSE))","v":""},{"$f":"IF(I2141=\"\",\"\",VLOOKUP(I2141,MAESTROS!P$2:Q$2000,2,FALSE))","v":""}]
[{"$f":"IF(H2142=\"\",\"\",VLOOKUP(H2142,MAESTROS!N$2:O$2000,2,FALSE))","v":""},{"$f":"IF(I2142=\"\",\"\",VLOOKUP(I2142,MAESTROS!P$2:Q$2000,2,FALSE))","v":""}]
[{"$f":"IF(H2143=\"\",\"\",VLOOKUP(H2143,MAESTROS!N$2:O$2000,2,FALSE))","v":""},{"$f":"IF(I2143=\"\",\"\",VLOOKUP(I2143,MAESTROS!P$2:Q$2000,2,FALSE))","v":""}]
[{"$f":"IF(H2144=\"\",\"\",VLOOKUP(H2144,MAESTROS!N$2:O$2000,2,FALSE))","v":""},{"$f":"IF(I2144=\"\",\"\",VLOOKUP(I2144,MAESTROS!P$2:Q$2000,2,FALSE))","v":""}]
[{"$f":"IF(H2145=\"\",\"\",VLOOKUP(H2145,MAESTROS!N$2:O$2000,2,FALSE))","v":""},{"$f":"IF(I2145=\"\",\"\",VLOOKUP(I2145,MAESTROS!P$2:Q$2000,2,FALSE))","v":""}]
[{"$f":"IF(H2146=\"\",\"\",VLOOKUP(H2146,MAESTROS!N$2:O$2000,2,FALSE))","v":""},{"$f":"IF(I2146=\"\",\"\",VLOOKUP(I2146,MAESTROS!P$2:Q$2000,2,FALSE))","v":""}]
[{"$f":"IF(H2147=\"\",\"\",VLOOKUP(H2147,MAESTROS!N$2:O$2000,2,FALSE))","v":""},{"$f":"IF(I2147=\"\",\"\",VLOOKUP(I2147,MAESTROS!P$2:Q$2000,2,FALSE))","v":""}]
[{"$f":"IF(H2148=\"\",\"\",VLOOKUP(H2148,MAESTROS!N$2:O$2000,2,FALSE))","v":""},{"$f":"IF(I2148=\"\",\"\",VLOOKUP(I2148,MAESTROS!P$2:Q$2000,2,FALSE))","v":""}]
[{"$f":"IF(H2149=\"\",\"\",VLOOKUP(H2149,MAESTROS!N$2:O$2000,2,FALSE))","v":""},{"$f":"IF(I2149=\"\",\"\",VLOOKUP(I2149,MAESTROS!P$2:Q$2000,2,FALSE))","v":""}]
[{"$f":"IF(H2150=\"\",\"\",VLOOKUP(H2150,MAESTROS!N$2:O$2000,2,FALSE))","v":""},{"$f":"IF(I2150=\"\",\"\",VLOOKUP(I2150,MAESTROS!P$2:Q$2000,2,FALSE))","v":""}]
[{"$f":"IF(H2151=\"\",\"\",VLOOKUP(H2151,MAESTROS!N$2:O$2000,2,FALSE))","v":""},{"$f":"IF(I2151=\"\",\"\",VLOOKUP(I2151,MAESTROS!P$2:Q$2000,2,FALSE))","v":""}]
[{"$f":"IF(H2152=\"\",\"\",VLOOKUP(H2152,MAESTROS!N$2:O$2000,2,FALSE))","v":""},{"$f":"IF(I2152=\"\",\"\",VLOOKUP(I2152,MAESTROS!P$2:Q$2000,2,FALSE))","v":""}]

{"sheet":"MAESTROS","index":1,"n_rows":7,"n_cols":17,"rows_kept":7,"cut":false,"hidden":true,"merged":[]}
[null,null,null,null,null,null,null,null,null,null,null,null,null,"TIPO_PUBLICACION","ID_TIPO_PUBLICACION","TIPO_ACCESO","ID_TIPO_ACCESO"]
[null,null,null,null,null,null,null,null,null,null,null,null,null,"Libro",1,"Acceso por convocatoria",1]
[null,null,null,null,null,null,null,null,null,null,null,null,null,"Artículo o capítulo de libro",2,"Acceso bajo demanda",2]
[null,null,null,null,null,null,null,null,null,null,null,null,null,"Informe técnico",3]
[null,null,null,null,null,null,null,null,null,null,null,null,null,"Publicación o presentación en congreso",4]
[null,null,null,null,null,null,null,null,null,null,null,null,null,"Conjunto de datos",5]
[null,null,null,null,null,null,null,null,null,null,null,null,null,"Otros",6]